Workbook
Name Oktató: [1]segéd!$A$1:$A$57
Name Oktató: segéd!$A$1:$A$70
Name oktatók: segéd!$A$1:$A$70
Name tbterem: [1]segéd!$D$1:$D$21
Name tbterem: segéd!$D$1:$D$22
Name Terem: [1]segéd!$C$1:$C$12
Name Terem: segéd!$C$1:$C$12

Sheet segéd
A1: Antalík Imrich | C1: 201 | D1: 1 | F1: 1 | G1: 8.00-9.30 | I1: február 6-7. | J1: 206 | K1: 207 | N1: BB-0-A201LE0 | O1: Gazdasági matematika II. | P1: =VLOOKUP(N1,kurzusok!E:G,3,FALSE) -> 66 | S1: TB-0-A201LE0 | T1: Gazdasági matematika II. | U1: =VLOOKUP(S1,kurzusok!E:G,3,FALSE) -> 63
A2: Árendás Bence | C2: 202 | D2: 2 | F2: 2 | G2: 9.45-11.15 | I2: február 13-14. | J2: 213 | K2: 214 | N2: BB-0-A201LS1 | O2: Gazdasági matematika II. | P2: =VLOOKUP(N2,kurzusok!E:G,3,FALSE) -> 67 | S2: TB-0-A201LS1 | T2: Gazdasági matematika II. | U2: =VLOOKUP(S2,kurzusok!E:G,3,FALSE) -> 63
A3: Balog Mónika | C3: 205 | D3: 3 | F3: 3 | G3: 11.30-13.00 | I3: február 20-21. | J3: 220 | K3: 221 | N3: BB-0-A209LE0 | O3: Statisztika I. | P3: =VLOOKUP(N3,kurzusok!E:G,3,FALSE) -> 59 | S3: TB-0-A209LE0 | T3: Statisztika I. | U3: =VLOOKUP(S3,kurzusok!E:G,3,FALSE) -> 119
A4: Barna Zsolt | C4: 206 | D4: 6 | F4: 4 | G4: 13.30-15.00 | I4: február 27-28. | J4: 227 | K4: 228 | N4: BB-0-A209LS1 | O4: Statisztika I. | P4: =VLOOKUP(N4,kurzusok!E:G,3,FALSE) -> 59 | S4: TB-0-A209LS1 | T4: Statisztika I. | U4: =VLOOKUP(S4,kurzusok!E:G,3,FALSE) -> 119
A5: Barócsi Zoltán | C5: 207 | D5: 212 | F5: 5 | G5: 15.15-16.45 | I5: március 6-7. | J5: 306 | K5: 307 | N5: BB-0-A206LE0 | O5: Közgazdaságtan II. | P5: =VLOOKUP(N5,kurzusok!E:G,3,FALSE) -> 60 | S5: TB-0-A206LE0 | T5: Közgazdaságtan II. | U5: =VLOOKUP(S5,kurzusok!E:G,3,FALSE) -> 95
A6: Belyó Pál | C6: 208 | D6: 213 | F6: 6 | G6: 17.00-18.30 | I6: március 13-14. | J6: 313 | K6: 314 | N6: BB-0-A206LS1 | O6: Közgazdaságtan II. | P6: =VLOOKUP(N6,kurzusok!E:G,3,FALSE) -> 60 | S6: TB-0-A206LS1 | T6: Közgazdaságtan II. | U6: =VLOOKUP(S6,kurzusok!E:G,3,FALSE) -> 95
A7: Bíró Csaba | C7: 209 | D7: 214 | F7: 7 | G7: 18.45-20.15 | I7: március 20-21. | J7: 320 | K7: 321 | N7: BB-0-A208LE0 | O7: Pénzügy | P7: =VLOOKUP(N7,kurzusok!E:G,3,FALSE) -> 45 | S7: TB-0-A208LE0 | T7: Pénzügy | U7: =VLOOKUP(S7,kurzusok!E:G,3,FALSE) -> 42
A8: Borbás Lajos | C8: 210 | D8: 215 | I8: március 27-28. | J8: 327 | K8: 328 | N8: BB-0-A207LE0 | O8: Marketing | P8: =VLOOKUP(N8,kurzusok!E:G,3,FALSE) -> 7 | S8: TB-0-A109LE0 | T8: Üzleti és szakmai kommunikáció | U8: =VLOOKUP(S8,kurzusok!E:G,3,FALSE)+U10+U12 -> 91
A9: Böröczki Ágoston | C9: 214 | D9: 216 | F9: 206 | G9: 46059 | I9: április 3-4. | J9: 403 | K9: 404 | N9: BB-0-A207LS1 | O9: Marketing | P9: =VLOOKUP(N9,kurzusok!E:G,3,FALSE) -> 7 | S9: TB-0-A109LS1 | T9: Üzleti és szakmai kommunikáció | U9: =VLOOKUP(S9,kurzusok!E:G,3,FALSE) -> 53
A10: Brunner Zsuzsanna | C10: 215 | D10: 217 | F10: 207 | G10: 46060 | I10: április 10-11. | J10: 410 | K10: 411 | N10: BB-0-A210LE0 | O10: Vezetés, szervezés | P10: =VLOOKUP(N10,kurzusok!E:G,3,FALSE) -> 52 | S10: TB-3-M502LE0 | T10: Üzleti és szakmai kommunikáció | U10: =VLOOKUP(S10,kurzusok!E:G,3,FALSE) -> 30
A11: Buda Lorina | C11: 217 | D11: 401 | F11: 213 | G11: 46066 | I11: április 17-18. | J11: 417 | K11: 418 | N11: BB-0-A210LS1 | O11: Vezetés, szervezés | P11: =VLOOKUP(N11,kurzusok!E:G,3,FALSE) -> 52 | S11: TB-3-M502LS1 | T11: Üzleti és szakmai kommunikáció | U11: =VLOOKUP(S11,kurzusok!E:G,3,FALSE) -> 30
A12: Cservenyi Dóra | C12: 4 | D12: 402 | F12: 214 | G12: 46067 | I12: április 24-25. | J12: 424 | K12: 425 | N12: BB-0-C304LE0 | O12: Turizmus társ. és gazd. alapjai | P12: =VLOOKUP(N12,kurzusok!E:G,3,FALSE) -> 8 | S12: TF-0-A103LE0 | T12: Üzleti és szakmai kommunikáció | U12: =VLOOKUP(S12,kurzusok!E:G,3,FALSE) -> 8
A13: Deés Szilvia | D13: 403 | F13: 220 | G13: 46073 | I13: május 1-2. | J13: 501 | K13: 502 | N13: BB-0-C304LS1 | O13: Turizmus társ. és gazd. alapjai | P13: =VLOOKUP(N13,kurzusok!E:G,3,FALSE) -> 8 | S13: TF-0-A103LS1 | T13: Üzleti és szakmai kommunikáció | U13: =VLOOKUP(S13,kurzusok!E:G,3,FALSE) -> 8
A14: Dobos Ádám | D14: 404 | F14: 221 | G14: 46074 | I14: május 8-9. | J14: 508 | K14: 509 | N14: BB-1-A202LS1 | O14: Angol gazdasági szaknyelv II., 1. csop. | P14: =VLOOKUP(N14,kurzusok!E:G,3,FALSE) -> 21 | S14: TB-0-A210LE0 | T14: Vezetés, szervezés | U14: =VLOOKUP(S14,kurzusok!E:G,3,FALSE) -> 155
A15: Dzur Annamária | D15: 408 | F15: 227 | G15: 46080 | I15: május 15-16. | J15: 515 | K15: 516 | N15: BB-1-A202LS2 | O15: Angol gazdasági szaknyelv II., 2. csop. | P15: =VLOOKUP(N15,kurzusok!E:G,3,FALSE) -> 20 | S15: TB-0-A210LS1 | T15: Vezetés, szervezés | U15: =VLOOKUP(S15,kurzusok!E:G,3,FALSE) -> 155
A16: Duchai Márta | D16: 501 | F16: 228 | G16: 46081 | N16: BB-1-A202LS3 | O16: Angol gazdasági szaknyelv II., 3. csop. | P16: =VLOOKUP(N16,kurzusok!E:G,3,FALSE) -> #N/A | S16: TB-1-A202LS1 | T16: Angol gazdasági szaknyelv II., 1. csop. | U16: =VLOOKUP(S16,kurzusok!E:G,3,FALSE) -> 17
A17: Duga Zsófia | D17: 601 | F17: 306 | G17: 46087 | N17: BB-1-A103LS1 | O17: Angol gazdasági szaknyelv I. | P17: =VLOOKUP(N17,kurzusok!E:G,3,FALSE) -> 8 | S17: TB-1-A202LS2 | T17: Angol gazdasági szaknyelv II., 2. csop. | U17: =VLOOKUP(S17,kurzusok!E:G,3,FALSE) -> 18
A18: Ferencz-Antal Klára | D18: 603 | F18: 307 | G18: 46088 | N18: BB-4-C105LS1 angol | O18: Gazdasági szaknyelv-előkészítő | P18: =VLOOKUP(N18,kurzusok!E:G,3,FALSE) -> 3 | S18: TB-1-A203LS1 | T18: Német gazdasági szaknyelv II. | U18: =VLOOKUP(S18,kurzusok!E:G,3,FALSE) -> 4
A19: Gaál Béla | D19: 604 | F19: 313 | G19: 46094 | N19: BB-0-A108LE0 | O19: Közgazdaságtan I. | P19: =VLOOKUP(N19,kurzusok!E:G,3,FALSE) -> 13 | S19: TB-1-A103LS1 | T19: Angol gazdasági szaknyelv I. | U19: =VLOOKUP(S19,kurzusok!E:G,3,FALSE) -> 7
A20: Gellért Judit | D20: 605 | F20: 314 | G20: 46095 | N20: BB-0-A108LS1 | O20: Közgazdaságtan I. | P20: =VLOOKUP(N20,kurzusok!E:G,3,FALSE) -> 13 | S20: TB-0-A108LE0 | T20: Közgazdaságtan I. | U20: =VLOOKUP(S20,kurzusok!E:G,3,FALSE) -> 41
A21: Gondos Borbála | D21: A/Nae. | F21: 320 | G21: 46101 | N21: BB-0-A401LS1 | O21: Alkalmazott informatika | P21: =VLOOKUP(N21,kurzusok!E:G,3,FALSE) -> 44 | S21: TB-0-A108LS1 | T21: Közgazdaságtan I. | U21: =VLOOKUP(S21,kurzusok!E:G,3,FALSE) -> 41
A22: Gyalogos Norbert | D22: Passzív | F22: 321 | G22: 46102 | N22: BB-0-C422LE0 | O22: Vállalati pénzügy | P22: =VLOOKUP(N22,kurzusok!E:G,3,FALSE) -> 38 | S22: TB-0-A401LS1 | T22: Alkalmazott informatika | U22: =VLOOKUP(S22,kurzusok!E:G,3,FALSE) -> 24
A23: Havasi Zoltán | F23: 327 | G23: 46108 | N23: BB-0-C422LS1 | O23: Vállalati pénzügy | P23: =VLOOKUP(N23,kurzusok!E:G,3,FALSE) -> 38 | S23: TB-0-C422LE0 | T23: Vállalati pénzügy | U23: =VLOOKUP(S23,kurzusok!E:G,3,FALSE) -> 35
A24: Janóczki Mihály | F24: 328 | G24: 46109 | N24: BB-0-C402LS1 | O24: Emberi erőforrás gazd. és men. | P24: =VLOOKUP(N24,kurzusok!E:G,3,FALSE) -> 40 | S24: TB-0-C422LS1 | T24: Vállalati pénzügy | U24: =VLOOKUP(S24,kurzusok!E:G,3,FALSE) -> 35
A25: Juhász Krisztina | F25: 403 | G25: 46115 | N25: BB-5-C415LE0 | O25: Számvitel II. | P25: =VLOOKUP(N25,kurzusok!E:G,3,FALSE) -> 23 | S25: TB-0-C402LS1 | T25: Emberi erőforrás gazd. és men. | U25: =VLOOKUP(S25,kurzusok!E:G,3,FALSE) -> 30
A26: Kasza József | F26: 404 | G26: 46116 | N26: BB-5-C415LS1 | O26: Számvitel II. | P26: =VLOOKUP(N26,kurzusok!E:G,3,FALSE) -> 23 | S26: TB-5-C415LE0 | T26: Számvitel II. | U26: =VLOOKUP(S26,kurzusok!E:G,3,FALSE) -> 20
A27: Kárpáti-Daróczi Judit | F27: 410 | G27: 46122 | N27: BB-0-C408LE0 | O27: Kontrolling | P27: =VLOOKUP(N27,kurzusok!E:G,3,FALSE) -> 24 | S27: TB-5-C415LS1 | T27: Számvitel II. | U27: =VLOOKUP(S27,kurzusok!E:G,3,FALSE) -> 20
A28: Korcz Miklós Máté | F28: 411 | G28: 46123 | N28: BB-0-C408LS1 | O28: Kontrolling | P28: =VLOOKUP(N28,kurzusok!E:G,3,FALSE) -> 24 | S28: TB-0-C408LE0 | T28: Kontrolling | U28: =VLOOKUP(S28,kurzusok!E:G,3,FALSE) -> 24
A29: Kovács Cecília | F29: 417 | G29: 46129 | N29: BB-0-C414LS1 | O29: Operációkutatás | P29: =VLOOKUP(N29,kurzusok!E:G,3,FALSE) -> 23 | S29: TB-0-C408LS1 | T29: Kontrolling | U29: =VLOOKUP(S29,kurzusok!E:G,3,FALSE) -> 24
A30: Kovács Gergely | F30: 418 | G30: 46130 | N30: BB-3-C406LE0 | O30: KKV-k versenyképessége | P30: =VLOOKUP(N30,kurzusok!E:G,3,FALSE) -> 6 | S30: TB-0-C414LS1 | T30: Operációkutatás | U30: =VLOOKUP(S30,kurzusok!E:G,3,FALSE) -> 20
A31: Köbli Ádám | F31: 424 | G31: 46136 | N31: BB-3-C406LS1 | O31: KKV-k versenyképessége | P31: =VLOOKUP(N31,kurzusok!E:G,3,FALSE) -> 6 | S31: TB-3-C406LE0 | T31: KKV-k versenyképessége | U31: =VLOOKUP(S31,kurzusok!E:G,3,FALSE) -> 9
A32: Krupánszki Kornél | F32: 425 | G32: 46137 | N32: BB-3-C441LE0 | O32: Vezetői számvitel és inf. rend. | P32: =VLOOKUP(N32,kurzusok!E:G,3,FALSE) -> 8 | S32: TB-3-C406LS1 | T32: KKV-k versenyképessége | U32: =VLOOKUP(S32,kurzusok!E:G,3,FALSE) -> 9
A33: Krupánszkyné Léhárt Marianna | F33: 501 | G33: 46143 | N33: BB-3-C441LS1 | O33: Vezetői számvitel és inf. rend. | P33: =VLOOKUP(N33,kurzusok!E:G,3,FALSE) -> 8 | S33: TB-3-C441LE0 | T33: Vezetői számvitel és inf. rend. | U33: =VLOOKUP(S33,kurzusok!E:G,3,FALSE) -> 9
A34: Labossa Ildikó | F34: 502 | G34: 46144 | N34: BB-3-C439LE0 | O34: Nemzetközi vállalatok működése | P34: =VLOOKUP(N34,kurzusok!E:G,3,FALSE) -> 9 | S34: TB-3-C441LS1 | T34: Vezetői számvitel és inf. rend. | U34: =VLOOKUP(S34,kurzusok!E:G,3,FALSE) -> 9
... A38: Lukács András | F38: 516 | G38: 46158 | N38: BB-0-C417LE0 | O38: Termékfejlesztés, termékpolitika | P38: =VLOOKUP(N38,kurzusok!E:G,3,FALSE) -> 20 | S38: TB-0-C404LS1 | T38: Fogy. és szer. vás. magatartás | U38: =VLOOKUP(S38,kurzusok!E:G,3,FALSE) -> 13
A39: Mészáros Sándor | N39: BB-0-C417LS1 | O39: Termékfejlesztés, termékpolitika | P39: =VLOOKUP(N39,kurzusok!E:G,3,FALSE) -> 20 | S39: TB-0-C417LE0 | T39: Termékfejlesztés, termékpolitika | U39: =VLOOKUP(S39,kurzusok!E:G,3,FALSE) -> 16
A40: Miklós Ilona | N40: BB-3-C440LE0 | O40: Marketingpszichológia | P40: =VLOOKUP(N40,kurzusok!E:G,3,FALSE) -> 16 | S40: TB-0-C417LS1 | T40: Termékfejlesztés, termékpolitika | U40: =VLOOKUP(S40,kurzusok!E:G,3,FALSE) -> 16
A41: Molnár László | N41: BB-3-C440LS1 | O41: Marketingpszichológia | P41: =VLOOKUP(N41,kurzusok!E:G,3,FALSE) -> 16 | S41: TB-3-C440LE0 | T41: Marketingpszichológia | U41: =VLOOKUP(S41,kurzusok!E:G,3,FALSE) -> 3
A42: Molnárné Dőry Zsófia | N42: BB-3-C438LE0 | O42: Ellátáslánc menedzsment alapjai | P42: =VLOOKUP(N42,kurzusok!E:G,3,FALSE) -> 7 | S42: TB-3-C440LS1 | T42: Marketingpszichológia | U42: =VLOOKUP(S42,kurzusok!E:G,3,FALSE) -> 3
A43: Nagy Judit | N43: BB-3-C438LS1 | O43: Ellátáslánc menedzsment alapjai | P43: =VLOOKUP(N43,kurzusok!E:G,3,FALSE) -> 7 | S43: TB-3-C438LE0 | T43: Ellátáslánc menedzsment alapjai | U43: =VLOOKUP(S43,kurzusok!E:G,3,FALSE) -> 3
A44: Nagy Mónika | N44: BB-0-C409LE0 | O44: Külker. és értékesítéstechnika | P44: =VLOOKUP(N44,kurzusok!E:G,3,FALSE) -> 9 | S44: TB-3-C438LS1 | T44: Ellátáslánc menedzsment alapjai | U44: =VLOOKUP(S44,kurzusok!E:G,3,FALSE) -> 3
A45: Nagy Róbert | N45: BB-0-C409LS1 | O45: Külker. és értékesítéstechnika | P45: =VLOOKUP(N45,kurzusok!E:G,3,FALSE) -> 9 | S45: TB-0-C409LE0 | T45: Külker. és értékesítéstechnika | U45: =VLOOKUP(S45,kurzusok!E:G,3,FALSE) -> 16
A46: Nagyné Csóti Beáta | N46: BB-0-C418LE0 | O46: Turisztikai erőforrások | P46: =VLOOKUP(N46,kurzusok!E:G,3,FALSE) -> 7 | S46: TB-0-C409LS1 | T46: Külker. és értékesítéstechnika | U46: =VLOOKUP(S46,kurzusok!E:G,3,FALSE) -> 16
A47: Némethné Gál Andrea | N47: BB-0-C418LS1 | O47: Turisztikai erőforrások | P47: =VLOOKUP(N47,kurzusok!E:G,3,FALSE) -> 7 | S47: TB-4-C440LE0 | T47: Sportprotokoll (szv.) | U47: =VLOOKUP(S47,kurzusok!E:G,3,FALSE) -> 12
A48: Nyeste Zsolt | N48: BB-0-C421LE0 | O48: Utazás- és rendezvényszervezés | P48: =VLOOKUP(N48,kurzusok!E:G,3,FALSE) -> 11 | S48: TB-4-C542LE0 | T48: Üzleti földrajz (szv.) | U48: =VLOOKUP(S48,kurzusok!E:G,3,FALSE) -> 18
A49: Palotai Péter | N49: BB-0-C421LS1 | O49: Utazás- és rendezvényszervezés | P49: =VLOOKUP(N49,kurzusok!E:G,3,FALSE) -> 11 | S49: TB-8-S608LE0 | T49: Szakszeminárium I. (gazdász) | U49: =VLOOKUP(S49,kurzusok!E:G,3,FALSE) -> 55
A50: Papp Vanda | N50: BB-0-C431LE0 | O50: Vendéglátás szervezés, vezetés | P50: =VLOOKUP(N50,kurzusok!E:G,3,FALSE) -> 5 | S50: TB-8-S609LE0 | T50: Szakszeminárium I. (műszaki) | U50: =VLOOKUP(S50,kurzusok!E:G,3,FALSE) -> 86
... A70: Zalahegyi Zoltán | N70: BB-3-C629LS1 | O70: Termék- és folyamatinnováció | P70: =VLOOKUP(N70,kurzusok!E:G,3,FALSE) -> 13 | S70: TB-3-C616LS1 | T70: Nemzetk. váll. esettanulmányok | U70: =VLOOKUP(S70,kurzusok!E:G,3,FALSE) -> 22
N71: BB-3-C610LE0 | O71: KKV-k üzleti tervezése | P71: =VLOOKUP(N71,kurzusok!E:G,3,FALSE) -> 13 | S71: TB-3-C652LE0 | T71: Projektmunka nemz. vállalatoknál | U71: =VLOOKUP(S71,kurzusok!E:G,3,FALSE) -> 22
N72: BB-3-C610LS1 | O72: KKV-k üzleti tervezése | P72: =VLOOKUP(N72,kurzusok!E:G,3,FALSE) -> 13 | S72: TB-3-C652LS1 | T72: Projektmunka nemz. vállalatoknál | U72: =VLOOKUP(S72,kurzusok!E:G,3,FALSE) -> 22
N73: BB-3-C609LE0 | O73: KKV-k finanszírozása | P73: =VLOOKUP(N73,kurzusok!E:G,3,FALSE) -> 13 | S73: TB-3-C654LE0 | T73: SMART marketingkoncepció | U73: =VLOOKUP(S73,kurzusok!E:G,3,FALSE) -> 5
N74: BB-3-C609LS1 | O74: KKV-k finanszírozása | P74: =VLOOKUP(N74,kurzusok!E:G,3,FALSE) -> 13 | S74: TB-3-C654LS1 | T74: SMART marketingkoncepció | U74: =VLOOKUP(S74,kurzusok!E:G,3,FALSE) -> 5
N75: BB-3-C653LE0 | O75: Vállalatirányítási inf. rendszerek | P75: =VLOOKUP(N75,kurzusok!E:G,3,FALSE) -> 9 | S75: TB-3-C655LE0 | T75: Közösség- és hálózatépítés | U75: =VLOOKUP(S75,kurzusok!E:G,3,FALSE) -> 4
N76: BB-3-C653LS1 | O76: Vállalatirányítási inf. rendszerek | P76: =VLOOKUP(N76,kurzusok!E:G,3,FALSE) -> 9 | S76: TB-3-C655LS1 | T76: Közösség- és hálózatépítés | U76: =VLOOKUP(S76,kurzusok!E:G,3,FALSE) -> 4
N77: BB-3-C616LE0 | O77: Nemzetk. váll. esettanulmányok | P77: =VLOOKUP(N77,kurzusok!E:G,3,FALSE) -> 7 | S77: TB-3-C656LE0 | T77: B2B marketingkommunikáció | U77: =VLOOKUP(S77,kurzusok!E:G,3,FALSE) -> 4
N78: BB-3-C616LS1 | O78: Nemzetk. váll. esettanulmányok | P78: =VLOOKUP(N78,kurzusok!E:G,3,FALSE) -> 7 | S78: TB-3-C656LS1 | T78: B2B marketingkommunikáció | U78: =VLOOKUP(S78,kurzusok!E:G,3,FALSE) -> 4
N79: BB-3-C652LE0 | O79: Projektmunka nemz. vállalatoknál | P79: =VLOOKUP(N79,kurzusok!E:G,3,FALSE) -> 7 | S79: TB-3-C657LS1 | T79: Komplex projektfeladat | U79: =VLOOKUP(S79,kurzusok!E:G,3,FALSE) -> 5
N80: BB-3-C652LS1 | O80: Projektmunka nemz. vállalatoknál | P80: =VLOOKUP(N80,kurzusok!E:G,3,FALSE) -> 7 | S80: TB-2-B601LE0 | T80: Gazdasági etika | U80: =VLOOKUP(S80,kurzusok!E:G,3,FALSE) -> 40
N81: BB-3-C654LE0 | O81: SMART marketingkoncepció | P81: =VLOOKUP(N81,kurzusok!E:G,3,FALSE) -> 8 | S81: TB-2-B603LS1 | T81: Interkulturális men. és tárgyalást. | U81: =VLOOKUP(S81,kurzusok!E:G,3,FALSE) -> 13
N82: BB-3-C654LS1 | O82: SMART marketingkoncepció | P82: =VLOOKUP(N82,kurzusok!E:G,3,FALSE) -> 8 | S82: TB-2-B602LE0 | T82: Gazdaságpolitika | U82: =VLOOKUP(S82,kurzusok!E:G,3,FALSE) -> 0
... N119: BB-4-C539LS1 | O119: Aktuális nemzetközi gazd. tr. (szv.) | P119: =VLOOKUP(N119,kurzusok!E:G,3,FALSE) -> 20 | S119: TB-1-M403LS2 angol | T119: Műszaki szaknyelv II. (angol), 2. csop. | U119: =VLOOKUP(S119,kurzusok!E:G,3,FALSE) -> 19
N120: BB-0-A109LE0 | O120: Üzleti és szakmai kommunikáció | P120: =VLOOKUP(N120,kurzusok!E:G,3,FALSE)+P122 -> 54 | S120: TB-1-M403LS3 angol | T120: Műszaki szaknyelv II. (angol), 3. csop. | U120: =VLOOKUP(S120,kurzusok!E:G,3,FALSE) -> 26
N121: BB-0-A109LS1 | O121: Üzleti és szakmai kommunikáció | P121: =VLOOKUP(N121,kurzusok!E:G,3,FALSE) -> 48 | S121: TB-1-M403LS4 angol | T121: Műszaki szaknyelv II. (angol), 4. csop. | U121: =VLOOKUP(S121,kurzusok!E:G,3,FALSE) -> 28
N122: BF-0-A103LE0 | O122: Üzleti és szakmai kommunikáció | P122: =VLOOKUP(N122,kurzusok!E:G,3,FALSE) -> 6 | S122: TB-1-M403LS1 német | T122: Műszaki szaknyelv II. (német) | U122: =VLOOKUP(S122,kurzusok!E:G,3,FALSE) -> 14
N123: BF-0-A103LS1 | O123: Üzleti és szakmai kommunikáció | P123: =VLOOKUP(N123,kurzusok!E:G,3,FALSE) -> 6 | S123: TB-4-M707LS1 | T123: Műszaki karriertervezés (szv.) | U123: =VLOOKUP(S123,kurzusok!E:G,3,FALSE) -> 100
N124: BM-4-D003LE0 | O124: Ökológiai közgazdaságtan | P124: =VLOOKUP(N124,kurzusok!E:G,3,FALSE) -> 7 | S124: TB-4-M409LS1 | T124: Üzleti tervezés (szv.) | U124: =VLOOKUP(S124,kurzusok!E:G,3,FALSE) -> 22
N125: BM-0-A206LE0 | O125: Stratégiai és változásmenedzsment | P125: =VLOOKUP(N125,kurzusok!E:G,3,FALSE) -> 9 | S125: TB-4-M709LE0 | T125: Az R alapjai, gépi tanulás (szv.) | U125: =VLOOKUP(S125,kurzusok!E:G,3,FALSE) -> 7
N126: BM-0-A206LS1 | O126: Stratégiai és változásmenedzsment | P126: =VLOOKUP(N126,kurzusok!E:G,3,FALSE) -> 9 | S126: TB-4-M709LS1 | T126: Az R alapjai, gépi tanulás (szv.) | U126: =VLOOKUP(S126,kurzusok!E:G,3,FALSE) -> 7
N127: BM-0-B203LE0 | O127: K+F+I projektek és finanszírozásuk | P127: =VLOOKUP(N127,kurzusok!E:G,3,FALSE) -> 11 | S127: TB-0-M608LE0 | T127: Munka-, körny. és egészségvéd. | U127: =VLOOKUP(S127,kurzusok!E:G,3,FALSE) -> 84
N128: BM-0-B203LS1 | O128: K+F+I projektek és finanszírozásuk | P128: =VLOOKUP(N128,kurzusok!E:G,3,FALSE) -> 11 | S128: TB-0-M609LS1 | T128: Projekt feladat | U128: =VLOOKUP(S128,kurzusok!E:G,3,FALSE) -> 87
N129: BM-0-B204LE0 | O129: Fogyasztói magatartásvizsgálat | P129: =VLOOKUP(N129,kurzusok!E:G,3,FALSE) -> 11 | S129: TB-0-M607LE0 | T129: Minőségir. rendszerek | U129: =VLOOKUP(S129,kurzusok!E:G,3,FALSE) -> 73
N130: BM-0-B204LS1 | O130: Fogyasztói magatartásvizsgálat | P130: =VLOOKUP(N130,kurzusok!E:G,3,FALSE) -> 11 | S130: TB-5-M604LE0 | T130: Folyamatok fejlesztése - Lean | U130: =VLOOKUP(S130,kurzusok!E:G,3,FALSE) -> 17
N131: BM-0-C210LE0 | O131: Marketing stratégia és tervezés | P131: =VLOOKUP(N131,kurzusok!E:G,3,FALSE) -> 8 | S131: TB-5-M604LS1 | T131: Folyamatok fejlesztése - Lean | U131: =VLOOKUP(S131,kurzusok!E:G,3,FALSE) -> 17
N132: BM-0-C210LS1 | O132: Marketing stratégia és tervezés | P132: =VLOOKUP(N132,kurzusok!E:G,3,FALSE) -> 8 | S132: TB-3-M612LE0 | T132: Energia és környezet | U132: =VLOOKUP(S132,kurzusok!E:G,3,FALSE) -> 19
... N146: BM-4-C208LS1 | O146: Szolgáltatásmarketing (szv.) | P146: =VLOOKUP(N146,kurzusok!E:G,3,FALSE) -> 3 | S146: TB-3-M611LS1 | T146: Robottechnika | U146: =VLOOKUP(S146,kurzusok!E:G,3,FALSE) -> 10
S147: TB-3-M621LE0 | T147: Lézeres anyagmegmunkálás | U147: =VLOOKUP(S147,kurzusok!E:G,3,FALSE) -> 9
S148: TB-3-M621LS1 | T148: Lézeres anyagmegmunkálás | U148: =VLOOKUP(S148,kurzusok!E:G,3,FALSE) -> 9
S149: TB-3-M622LE0 | T149: Földi kockázatok UAS műv. során | U149: =VLOOKUP(S149,kurzusok!E:G,3,FALSE) -> 33
S150: TB-3-M622LS1 | T150: Földi kockázatok UAS műv. (1. csop.) | U150: =VLOOKUP(S150,kurzusok!E:G,3,FALSE) -> 11
S151: TB-3-M622LS2 | T151: Földi kockázatok UAS műv. (2. csop.) | U151: =VLOOKUP(S151,kurzusok!E:G,3,FALSE) -> 11
S152: TB-3-M622LS3 | T152: Földi kockázatok UAS műv. (3. csop.) | U152: =VLOOKUP(S152,kurzusok!E:G,3,FALSE) -> 11
S153: TB-3-M623LE0 | T153: UAS repülési teljesítménye | U153: =VLOOKUP(S153,kurzusok!E:G,3,FALSE) -> 33
S154: TB-3-M623LS1 | T154: UAS repülési teljesítménye (1. csop.) | U154: =VLOOKUP(S154,kurzusok!E:G,3,FALSE) -> 11
S155: TB-3-M623LS2 | T155: UAS repülési teljesítménye (2. csop.) | U155: =VLOOKUP(S155,kurzusok!E:G,3,FALSE) -> 11
S156: TB-3-M623LS3 | T156: UAS repülési teljesítménye (3. csop.) | U156: =VLOOKUP(S156,kurzusok!E:G,3,FALSE) -> 11
S157: TB-3-M624LE0 | T157: Mobil robotika és robot biztonságt. | U157: =VLOOKUP(S157,kurzusok!E:G,3,FALSE) -> 34
S158: TB-3-M624LS1 | T158: Mobil robotika és robot biztonságt. | U158: =VLOOKUP(S158,kurzusok!E:G,3,FALSE) -> 34
... S177: TM-4-D402LE0 | T177: Ökológia, környezeti fenntarth. | U177: =VLOOKUP(S177,kurzusok!E:G,3,FALSE) -> #N/A
T178: Mechatronika alapjai (dupla terem)
T179: Irányítástechnika (dupla terem)
T180: Szám. seg. mérés (plusz terem)

Sheet kurzusok
A1: Tárgykód | B1: Tárgynév | C1: Félév | D1: Oktatók | E1: Kurzuskód | F1: Kurzustípus | G1: Létszám | H1: Maximális létszám
A2: MDU-0-1485T | B2: A kultúra és a média európai dimenziói | C2: 2025/26/2 | D2: Zongor Attila | E2: BMDU-0-1485LE0 | F2: Elmélet | G2: 9 | H2: 30
A3: MDU-0-1480T | B3: A nyereséges művészet | C3: 2025/26/2 | D3: Buzás Kálmán | E3: BMDU-0-1480LE0 | F3: Elmélet | G3: 9 | H3: 30
A4: MDG-0-009T | B4: Adatvédelem, auditálás, validálás | C4: 2025/26/2 | D4: Hegedűs Gézáné Dr. Komlóssy Éva | E4: BMDG-0-009TLE0 | F4: Elmélet | G4: 10 | H4: 50
A5: B-4-C652T | B5: Agroturizmus | C5: 2025/26/2 | D5: Pavletits Péter | E5: BB-4-C652NE0 | F5: Elmélet | G5: 0 | H5: 50
A6: B-4-C539T | B6: Aktuális nemzetközi gazdasági trendek | C6: 2025/26/2 | D6: Buda Lorina | E6: BB-4-C539NE0 | F6: Elmélet | G6: 46 | H6: 46
A7: B-4-C539T | B7: Aktuális nemzetközi gazdasági trendek | C7: 2025/26/2 | D7: Buda Lorina | E7: TB-4-C539NE0 | F7: Elmélet | G7: 0 | H7: 40
A8: B-4-C539T | B8: Aktuális nemzetközi gazdasági trendek | C8: 2025/26/2 | D8: Buda Lorina | E8: TB-4-C539LS1 | F8: Gyakorlat | G8: 18 | H8: 100
A9: B-4-C539T | B9: Aktuális nemzetközi gazdasági trendek | C9: 2025/26/2 | D9: Buda Lorina | E9: BB-4-C539LS1 | F9: Gyakorlat | G9: 20 | H9: 100
A10: B-0-A401T | B10: Alkalmazott informatika | C10: 2025/26/2 | D10: Dobos Ádám | E10: BB-0-A401NS1 | F10: Gyakorlat | G10: 28 | H10: 28
A11: B-0-A401T | B11: Alkalmazott informatika | C11: 2025/26/2 | D11: Dobos Ádám | E11: BB-0-A401NS2 | F11: Gyakorlat | G11: 21 | H11: 28
A12: K-B-0-A401T | B12: Alkalmazott informatika | C12: 2025/26/2 | D12: Magyar Tímea | E12: BK-B-0-A401NS1 | F12: Gyakorlat | G12: 19 | H12: 20
A13: B-0-A401T | B13: Alkalmazott informatika | C13: 2025/26/2 | D13: Brunner Zsuzsanna | E13: TB-0-A401NS1 | F13: Gyakorlat | G13: 21 | H13: 25
... A20: B-0-M201T | B20: Alkalmazott mechanika | C20: 2025/26/2 | D20: Szentgyörgyiné Gyöngyösi Éva | E20: TB-0-M201LS1 | F20: Gyakorlat | G20: 85 | H20: 200
A21: SZ-B-8-A402T | B21: Általános angol nyelv II. | C21: 2025/26/2 | E21: SZ-B-8-A402TS01 | F21: Gyakorlat | G21: 38 | H21: 40
A22: B-0-A101T | B22: Általános és gazdasági jog | C22: 2025/26/2 | D22: Dr. Zalahegyi Zoltán | E22: BB-0-A101T(vk) | F22: Vizsgakurzus | G22: 5 | H22: 100
A23: B-0-A101T | B23: Általános és gazdasági jog | C23: 2025/26/2 | D23: Dr. Zalahegyi Zoltán | E23: TB-0-A101T(vk) | F23: Vizsgakurzus | G23: 7 | H23: 100
A24: K-B-4-C109T | B24: Általános nyelv- előkészítő-I | C24: 2025/26/2 | D24: Ferencz-Antal Klára | E24: BK-B-4-C109NS1 | F24: Szeminárium | G24: 8 | H24: 40
A25: B-4-C102T | B25: Általános nyelv II. | C25: 2025/26/2 | D25: Aliné Dr. Peres Anna | E25: BB-4-C102NS1 német | F25: Gyakorlat | G25: 1 | H25: 20
A26: B-4-C102T | B26: Általános nyelv II. | C26: 2025/26/2 | D26: Dr. Keszthelyi Csaba László | E26: TB-4-C102NS1 olasz | F26: Gyakorlat | G26: 3 | H26: 10
A27: B-4-C201T | B27: Általános nyelv III. | C27: 2025/26/2 | D27: Dr. Keszthelyi Csaba László | E27: BB-4-C201NS1 olasz | F27: Gyakorlat | G27: 1 | H27: 1
A28: B-0-M301T | B28: Analóg és digitális elektronika | C28: 2025/26/2 | D28: Szilágyi Zoltán Győző | E28: TB-0-M301TL(vk) | F28: Vizsgakurzus | G28: 4 | H28: 100
A29: B-1-A103T | B29: Angol gazdasági szaknyelv I. | C29: 2025/26/2 | D29: Balog Mónika | E29: TB-1-A103LS1 | F29: Gyakorlat | G29: 7 | H29: 100
A30: B-1-A103T | B30: Angol gazdasági szaknyelv I. | C30: 2025/26/2 | D30: Balog Mónika | E30: BB-1-A103LS1 | F30: Gyakorlat | G30: 8 | H30: 100
A31: B-1-A202T | B31: Angol gazdasági szaknyelv II. | C31: 2025/26/2 | D31: Gellért Judit Márta | E31: BB-1-A202NS1 | F31: Gyakorlat | G31: 23 | H31: 23
A32: B-1-A202T | B32: Angol gazdasági szaknyelv II. | C32: 2025/26/2 | D32: Ferencz-Antal Klára | E32: BB-1-A202NS2 | F32: Gyakorlat | G32: 22 | H32: 22
A33: B-1-A202T | B33: Angol gazdasági szaknyelv II. | C33: 2025/26/2 | D33: Gellért Judit Márta | E33: BB-1-A202NS3 | F33: Gyakorlat | G33: 24 | H33: 24
... A37: B-1-A202T | B37: Angol gazdasági szaknyelv II. | C37: 2025/26/2 | D37: Balog Mónika | E37: TB-1-A202NS2 | F37: Gyakorlat | G37: 20 | H37: 20
A38: B-1-A202T | B38: Angol gazdasági szaknyelv II. | C38: 2025/26/2 | E38: TB-1-A202LS0 | F38: Gyakorlat | G38: 0 | H38: 100
A39: B-1-A202T | B39: Angol gazdasági szaknyelv II. | C39: 2025/26/2 | D39: Nagy Mónika | E39: TB-1-A202LS1 | F39: Gyakorlat | G39: 17 | H39: 100
A40: B-1-A202T | B40: Angol gazdasági szaknyelv II. | C40: 2025/26/2 | D40: Szabó Zsófia | E40: TB-1-A202LS2 | F40: Gyakorlat | G40: 18 | H40: 100
A41: B-1-A202T | B41: Angol gazdasági szaknyelv II. | C41: 2025/26/2 | E41: BB-1-A202LS0 | F41: Gyakorlat | G41: 0 | H41: 100
A42: B-1-A202T | B42: Angol gazdasági szaknyelv II. | C42: 2025/26/2 | D42: Ferencz-Antal Klára | E42: BB-1-A202LS1 | F42: Gyakorlat | G42: 21 | H42: 100
A43: B-1-A202T | B43: Angol gazdasági szaknyelv II. | C43: 2025/26/2 | D43: Ferencz-Antal Klára | E43: BB-1-A202LS2 | F43: Gyakorlat | G43: 20 | H43: 100
A44: SZ-B-1-A202T | B44: Angol gazdasági szaknyelv II. | C44: 2025/26/2 | D44: Márton Mária | E44: SZ-B-1-A202LS1 | F44: Gyakorlat | G44: 26 | H44: 30
A45: K-B-1-A202T | B45: Angol gazdasági szaknyelv II. | C45: 2025/26/2 | D45: Balog Mónika | E45: BK-B-1-A202NS1 | F45: Gyakorlat | G45: 24 | H45: 40
A46: B-8-A111T | B46: Angol nyelvi szintfelmérő | C46: 2025/26/2 | D46: Ferencz-Antal Klára | E46: BB-8-A111LS1 | F46: Gyakorlat | G46: 15 | H46: 220
A47: B-8-A111T | B47: Angol nyelvi szintfelmérő | C47: 2025/26/2 | D47: Ferencz-Antal Klára | E47: BB-8-A111NS1 | F47: Gyakorlat | G47: 4 | H47: 220
A48: B-8-A111T | B48: Angol nyelvi szintfelmérő | C48: 2025/26/2 | D48: Balog Mónika | E48: TB-8-A111LS1 | F48: Gyakorlat | G48: 17 | H48: 200
A49: B-8-A111T | B49: Angol nyelvi szintfelmérő | C49: 2025/26/2 | D49: Balog Mónika | E49: TB-8-A111NS1 | F49: Gyakorlat | G49: 1 | H49: 100
A50: B-3-C505T | B50: Animáció | C50: 2025/26/2 | D50: Dr. Gondos Borbála | E50: BB-3-C505NS1 | F50: Gyakorlat | G50: 10 | H50: 10
A51: B-3-C505T | B51: Animáció | C51: 2025/26/2 | D51: Dr. Gondos Borbála | E51: BB-3-C505LE0 | F51: Elmélet | G51: 5 | H51: 100
A52: B-3-C505T | B52: Animáció | C52: 2025/26/2 | D52: Dr. Gondos Borbála | E52: BB-3-C505LS1 | F52: Gyakorlat | G52: 5 | H52: 100
A53: B-4-C401T | B53: Antik- és középkori kultúra | C53: 2025/26/2 | D53: Dr. Wirth Gábor | E53: BB-4-C401NS1 | F53: Gyakorlat | G53: 0 | H53: 40
... A144: MDS-0-0002T | B144: Fenntarthatóság jogi háttere | C144: 2025/26/2 | D144: Koterle Gábor | E144: BMDS-0-0002LE0 | F144: Elmélet | G144: 23 | H144: 23
A145: MDS-0-0008T | B145: Fenntarthatóság kommunikációja | C145: 2025/26/2 | E145: BMDS-0-0008LE0 | F145: Elmélet | G145: 22 | H145: 23
A146: K-M-4-C208T | B146: Fenntarthatóság, etikus üzleti gyakorlat és versenyképesség | C146: 2025/26/2 | D146: Dr. Peredy Zoltán Sándor | E146: BK-M-4-C208NE0 | F146: Elmélet | G146: 8 | H146: 12
A147: B-4-C202T | B147: Fizikai alapismeretek | C147: 2025/26/2 | D147: Lábszki József | E147: TB-4-C202LE0 | F147: Elmélet | G147: 26 | H147: 200
A148: B-0-C404T | B148: Fogyasztói és szervezeti vásárlási magatartás | C148: 2025/26/2 | D148: Dr. Köbli Ádám | E148: BB-0-C404NE0 | F148: Elmélet | G148: 38 | H148: 40
A149: B-0-C404T | B149: Fogyasztói és szervezeti vásárlási magatartás | C149: 2025/26/2 | D149: Dr. Köbli Ádám | E149: BB-0-C404NS1 | F149: Gyakorlat | G149: 38 | H149: 40
A150: B-0-C404T | B150: Fogyasztói és szervezeti vásárlási magatartás | C150: 2025/26/2 | D150: Dr. Köbli Ádám | E150: TB-0-C404NE0 | F150: Elmélet | G150: 10 | H150: 20
A151: B-0-C404T | B151: Fogyasztói és szervezeti vásárlási magatartás | C151: 2025/26/2 | D151: Dr. Köbli Ádám | E151: TB-0-C404NS1 | F151: Gyakorlat | G151: 10 | H151: 20
A152: B-0-C404T | B152: Fogyasztói és szervezeti vásárlási magatartás | C152: 2025/26/2 | D152: Dr. Köbli Ádám | E152: TB-0-C404LE0 | F152: Elmélet | G152: 13 | H152: 100
A153: B-0-C404T | B153: Fogyasztói és szervezeti vásárlási magatartás | C153: 2025/26/2 | D153: Dr. Köbli Ádám | E153: TB-0-C404LS1 | F153: Gyakorlat | G153: 13 | H153: 100
A154: B-0-C404T | B154: Fogyasztói és szervezeti vásárlási magatartás | C154: 2025/26/2 | D154: Dr. Köbli Ádám | E154: BB-0-C404LE0 | F154: Elmélet | G154: 23 | H154: 100
A155: B-0-C404T | B155: Fogyasztói és szervezeti vásárlási magatartás | C155: 2025/26/2 | D155: Dr. Köbli Ádám | E155: BB-0-C404LS1 | F155: Gyakorlat | G155: 23 | H155: 100
A156: SZ-B-0-C404T | B156: Fogyasztói és szervezeti vásárlási magatartás | C156: 2025/26/2 | D156: Fleisz Emőke | E156: SZ-B-0-C404LE0 | F156: Elmélet | G156: 47 | H156: 50
A157: SZ-B-0-C404T | B157: Fogyasztói és szervezeti vásárlási magatartás | C157: 2025/26/2 | D157: Fleisz Emőke | E157: SZ-B-0-C404LS1 | F157: Gyakorlat | G157: 47 | H157: 50
... A470: B-4-M707T | B470: Műszaki karriertervezés | C470: 2025/26/2 | D470: Laki Balázs József | E470: TB-4-M707LS1 | F470: Gyakorlat | G470: 100 | H470: 100
A471: B-8-S606T | B471: Műszaki menedzser szakmai szigorlat | C471: 2025/26/2 | E471: TB-S606SZ | F471: Gyakorlat | G471: 40 | H471: 100
A472: B-1-M403T | B472: Műszaki szaknyelv II. | C472: 2025/26/2 | D472: Gellért Judit Márta | E472: TB-1-M403NS1 | F472: Gyakorlat | G472: 3 | H472: 15
A473: B-1-M403T | B473: Műszaki szaknyelv II. | C473: 2025/26/2 | E473: TB-1-M403LS0 mű | F473: Gyakorlat | G473: 0 | H473: 100
A474: B-1-M403T | B474: Műszaki szaknyelv II. | C474: 2025/26/2 | E474: TB-1-M403LS0 me | F474: Gyakorlat | G474: 0 | H474: 100
A475: B-1-M403T | B475: Műszaki szaknyelv II. | C475: 2025/26/2 | D475: Gellért Judit Márta | E475: TB-1-M403LS1 angol | F475: Gyakorlat | G475: 19 | H475: 100
A476: B-1-M403T | B476: Műszaki szaknyelv II. | C476: 2025/26/2 | D476: Nagy Mónika | E476: TB-1-M403LS2 angol | F476: Gyakorlat | G476: 19 | H476: 100
A477: B-1-M403T | B477: Műszaki szaknyelv II. | C477: 2025/26/2 | D477: Nagy Mónika | E477: TB-1-M403LS3 angol | F477: Gyakorlat | G477: 26 | H477: 100
A478: B-1-M403T | B478: Műszaki szaknyelv II. | C478: 2025/26/2 | D478: Szabó Zsófia | E478: TB-1-M403LS4 angol | F478: Gyakorlat | G478: 28 | H478: 100
A479: B-1-M403T | B479: Műszaki szaknyelv II. | C479: 2025/26/2 | D479: Árendás Bence | E479: TB-1-M403LS1 német | F479: Gyakorlat | G479: 14 | H479: 100
A480: B-1-A108T | B480: Német általános nyelv I. (II. nyelv) | C480: 2025/26/2 | D480: Aliné Dr. Peres Anna | E480: BB-1-A108N(ET) | F480: Gyakorlat | G480: 1 | H480: 1
A481: B-1-A208T | B481: Német általános nyelv II. (II. nyelv) | C481: 2025/26/2 | D481: Aliné Dr. Peres Anna | E481: BB-1-A208NS1 | F481: Gyakorlat | G481: 9 | H481: 15
A482: B-1-A208T | B482: Német általános nyelv II. (II. nyelv) | C482: 2025/26/2 | D482: Aliné Dr. Peres Anna | E482: BB-1-A208T(et) | F482: Gyakorlat | G482: 1 | H482: 1
A483: B-1-A203T | B483: Német gazdasági szaknyelv II. | C483: 2025/26/2 | D483: Aliné Dr. Peres Anna | E483: BB-1-A203NS1 | F483: Gyakorlat | G483: 6 | H483: 15
A484: B-1-A203T | B484: Német gazdasági szaknyelv II. | C484: 2025/26/2 | D484: Árendás Bence | E484: TB-1-A203LS1 | F484: Gyakorlat | G484: 4 | H484: 100
A485: B-1-A203T | B485: Német gazdasági szaknyelv II. | C485: 2025/26/2 | D485: Aliné Dr. Peres Anna | E485: BB-1-A203T(et) | F485: Gyakorlat | G485: 2 | H485: 100
A486: B-1-A203T | B486: Német gazdasági szaknyelv II. | C486: 2025/26/2 | D486: Árendás Bence | E486: TB-1-A203NS1 | F486: Gyakorlat | G486: 5 | H486: 10
... A646: B-8-D701T | B646: Szakdolgozat - gazdasági alapszak | C646: 2025/26/2 | D646: Pály Ildikó | E646: TB-8-D701T | F646: Gyakorlat | G646: 9 | H646: 100
A647: B-8-D701-2FT | B647: Szakdolgozat - gazdasági alapszak-2F(felülbírálat) | C647: 2025/26/2 | E647: BB-8-D701-2FT | F647: Gyakorlat | G647: 1 | H647: 2
A648: B-8-D702T | B648: Szakdolgozat - műszaki alapszak | C648: 2025/26/2 | D648: Horváth Zsuzsanna, Pály Ildikó | E648: TB-8-D702T | F648: Gyakorlat | G648: 15 | H648: 100
A649: MT-014T | B649: Szakdolgozat konzultáció | C649: 2025/26/2 | E649: BMT-014TLS0 | F649: Elmélet | G649: 10 | H649: 100
A650: MDO-0-1409T | B650: Szakdolgozat konzultáció | C650: 2025/26/2 | E650: BMDO-0-1409LE0 | F650: Gyakorlat | G650: 15 | H650: 100
A651: MDG-0-011T | B651: Szakdolgozati konzultáció | C651: 2025/26/2 | E651: BMDG-0-011TLE0 | F651: Elmélet | G651: 10 | H651: 50
A652: MDU-0-1600T | B652: Szakdolgozati konzultáció | C652: 2025/26/2 | E652: BMDU-0-1600LS1 | F652: Gyakorlat | G652: 13 | H652: 20
A653: M-0-C404T | B653: Szakdolgozati konzultáció | C653: 2025/26/2 | D653: Molnárné Dőry Zsófia | E653: Molnárné Dőry Zsófia_TB | F653: Gyakorlat | G653: 3 | H653: 100
A654: M-0-C404T | B654: Szakdolgozati konzultáció | C654: 2025/26/2 | D654: Dr. Vigh László | E654: M-0-C404LE0 | F654: Elmélet | G654: 1 | H654: 100
A655: M-0-C404T | B655: Szakdolgozati konzultáció | C655: 2025/26/2 | D655: Dr. Borbás Lajos | E655: Dr. Borbás Lajos_TB | F655: Gyakorlat | G655: 1 | H655: 100
A656: M-0-C404T | B656: Szakdolgozati konzultáció | C656: 2025/26/2 | D656: Dr. Peredy Zoltán Sándor | E656: Dr. Peredy Zoltán Sándor_TB | F656: Gyakorlat | G656: 1 | H656: 2
A657: K-ML-0-7000T | B657: Szakdolgozati szakszeminárium | C657: 2025/26/2 | D657: Dr. Peredy Zoltán Sándor | E657: BK-ML-0-7000NE0 | F657: Elmélet | G657: 13 | H657: 20
A658: K-ML-0-7000T | B658: Szakdolgozati szakszeminárium | C658: 2025/26/2 | D658: Dr. Peredy Zoltán Sándor | E658: Dr. Peredy Zoltán Sándor_BP | F658: Gyakorlat | G658: 15 | H658: 100
A659: M-0-7000T | B659: Szakdolgozati szakszeminárium | C659: 2025/26/2 | D659: Antalík Imrich | E659: Antalík Imrich_BP | F659: Gyakorlat | G659: 0 | H659: 100
A660: M-0-7000T | B660: Szakdolgozati szakszeminárium | C660: 2025/26/2 | D660: Barócsi Zoltán | E660: Barócsi Zoltán_BP | F660: Gyakorlat | G660: 0 | H660: 100
A661: M-0-7000T | B661: Szakdolgozati szakszeminárium | C661: 2025/26/2 | D661: Buda Lorina | E661: Buda Lorina_BP | F661: Gyakorlat | G661: 0 | H661: 100
A662: M-0-7000T | B662: Szakdolgozati szakszeminárium | C662: 2025/26/2 | D662: Dr. Duga Zsófia | E662: Dr. Duga Zsófia_BP | F662: Gyakorlat | G662: 0 | H662: 100
A663: M-0-7000T | B663: Szakdolgozati szakszeminárium | C663: 2025/26/2 | D663: Dr. Gondos Borbála | E663: Dr. Gondos Borbála_BP | F663: Gyakorlat | G663: 0 | H663: 100
A664: M-0-7000T | B664: Szakdolgozati szakszeminárium | C664: 2025/26/2 | D664: Dr. Juhász Krisztina | E664: Dr. Juhász Krisztina_BP | F664: Gyakorlat | G664: 0 | H664: 100
... A730: F-8-K400T | B730: Szakdolgozati szakszeminárium | C730: 2025/26/2 | D730: Molnárné Dőry Zsófia | E730: Molnárné Dőry Zsófia_TB | F730: Gyakorlat | G730: 0 | H730: 100
A731: F-8-K400T | B731: Szakdolgozati szakszeminárium | C731: 2025/26/2 | E731: Nemes Márk_TB | F731: Gyakorlat | G731: 0 | H731: 100
A732: F-8-K400T | B732: Szakdolgozati szakszeminárium | C732: 2025/26/2 | D732: Szamosi Barna | E732: Szamosi Barna_TB | F732: Gyakorlat | G732: 0 | H732: 100
A733: F-8-K400T | B733: Szakdolgozati szakszeminárium | C733: 2025/26/2 | D733: Szilágyi Zoltán Győző | E733: Szilágyi Zoltán Győző_TB | F733: Gyakorlat | G733: 0 | H733: 100
A734: F-8-K400T | B734: Szakdolgozati szakszeminárium | C734: 2025/26/2 | D734: Török István | E734: Török István_TB | F734: Gyakorlat | G734: 0 | H734: 100
A735: F-8-K400T | B735: Szakdolgozati szakszeminárium | C735: 2025/26/2 | D735: Varga István | E735: Varga István_TB | F735: Gyakorlat | G735: 1 | H735: 100
...

Sheet Bp. terem
A1: 207 | D1: szombat
B2: 207 | C2: 214 | D2: 221 | E2: 228 | F2: 307 | G2: 314 | H2: 321 | I2: 328 | J2: 404 | K2: 411 | L2: 418 | M2: 425 | N2: 502 | O2: 509 | P2: 516
A3: sáv | B3: február 7. | C3: február 14. | D3: február 21. | E3: február 28. | F3: március 7. | G3: március 14. | H3: március 21. | I3: március 28. | J3: április 4. | K3: április 11. | L3: április 18. | M3: április 25. | N3: május 2. | O3: május 9. | P3: május 16.
A4: 8.00 - 9.30 | B4: =IFERROR(VLOOKUP(CONCATENATE($A$1,B$2,$Q4),Alap!$A:$B,2,FALSE),"") | C4: =IFERROR(VLOOKUP(CONCATENATE($A$1,C$2,$Q4),Alap!$A:$B,2,FALSE),"") -> Nemzetk. ellátásilánc men. (gépterem, Tb.-ről web) 7 | D4: =IFERROR(VLOOKUP(CONCATENATE($A$1,D$2,$Q4),Alap!$A:$B,2,FALSE),"") -> Ellátáslánc menedzsment alapjai (otthonról web) 7 | E4: =IFERROR(VLOOKUP(CONCATENATE($A$1,E$2,$Q4),Alap!$A:$B,2,FALSE),"") -> Kvantitatív módszerek, ökonometria (gépterem, Bp.-ről web) 13 | F4: =IFERROR(VLOOKUP(CONCATENATE($A$1,F$2,$Q4),Alap!$A:$B,2,FALSE),"") | G4: =IFERROR(VLOOKUP(CONCATENATE($A$1,G$2,$Q4),Alap!$A:$B,2,FALSE),"") -> Logisztikai folyamatok és techn. (gépterem) 14 | H4: =IFERROR(VLOOKUP(CONCATENATE($A$1,H$2,$Q4),Alap!$A:$B,2,FALSE),"") -> Logisztikai folyamatok és techn. (gépterem) 14 | I4: =IFERROR(VLOOKUP(CONCATENATE($A$1,I$2,$Q4),Alap!$A:$B,2,FALSE),"") -> Logisztikai folyamatok és techn. (gépterem) 14 | ... P4: =IFERROR(VLOOKUP(CONCATENATE($A$1,P$2,$Q4),Alap!$A:$B,2,FALSE),"") -> Kvantitatív módszerek, ökonometria (gépterem, Bp.-ről web) 13 | Q4: 1
A5: 9.45 - 11.15 | B5: =IFERROR(VLOOKUP(CONCATENATE($A$1,B$2,$Q5),Alap!$A:$B,2,FALSE),"") | C5: =IFERROR(VLOOKUP(CONCATENATE($A$1,C$2,$Q5),Alap!$A:$B,2,FALSE),"") -> Nemzetk. ellátásilánc men. (gépterem, Tb.-ről web) 7 | D5: =IFERROR(VLOOKUP(CONCATENATE($A$1,D$2,$Q5),Alap!$A:$B,2,FALSE),"") -> Ellátáslánc menedzsment alapjai (otthonról web) 7 | E5: =IFERROR(VLOOKUP(CONCATENATE($A$1,E$2,$Q5),Alap!$A:$B,2,FALSE),"") -> Kvantitatív módszerek, ökonometria (gépterem, Bp.-ről web) 13 | F5: =IFERROR(VLOOKUP(CONCATENATE($A$1,F$2,$Q5),Alap!$A:$B,2,FALSE),"") | G5: =IFERROR(VLOOKUP(CONCATENATE($A$1,G$2,$Q5),Alap!$A:$B,2,FALSE),"") -> Logisztikai folyamatok és techn. (gépterem) 14 | H5: =IFERROR(VLOOKUP(CONCATENATE($A$1,H$2,$Q5),Alap!$A:$B,2,FALSE),"") -> Logisztikai folyamatok és techn. (gépterem) 14 | I5: =IFERROR(VLOOKUP(CONCATENATE($A$1,I$2,$Q5),Alap!$A:$B,2,FALSE),"") -> Alkalmazott informatika (gépterem, web) 44 | ... P5: =IFERROR(VLOOKUP(CONCATENATE($A$1,P$2,$Q5),Alap!$A:$B,2,FALSE),"") -> Kvantitatív módszerek, ökonometria (gépterem, Bp.-ről web) 13 | Q5: 2
A6: 11.30 - 13.00 | B6: =IFERROR(VLOOKUP(CONCATENATE($A$1,B$2,$Q6),Alap!$A:$B,2,FALSE),"") | C6: =IFERROR(VLOOKUP(CONCATENATE($A$1,C$2,$Q6),Alap!$A:$B,2,FALSE),"") -> Vállalatirányítási inf. rendszerek (gépterem, Tb.-ről web) 9 | D6: =IFERROR(VLOOKUP(CONCATENATE($A$1,D$2,$Q6),Alap!$A:$B,2,FALSE),"") -> Projektmunka nemz. vállalatoknál (gépterem, Tb.-ről web) 7 | E6: =IFERROR(VLOOKUP(CONCATENATE($A$1,E$2,$Q6),Alap!$A:$B,2,FALSE),"") -> Szállítási log. az ellátási láncban (web) 8 | F6: =IFERROR(VLOOKUP(CONCATENATE($A$1,F$2,$Q6),Alap!$A:$B,2,FALSE),"") -> Alkalmazott informatika (gépterem, web) 44 | G6: =IFERROR(VLOOKUP(CONCATENATE($A$1,G$2,$Q6),Alap!$A:$B,2,FALSE),"") -> Projektmunka nemz. vállalatoknál (gépterem, Bp.-ről web) 7 | H6: =IFERROR(VLOOKUP(CONCATENATE($A$1,H$2,$Q6),Alap!$A:$B,2,FALSE),"") -> Logisztikai folyamatok és techn. (gépterem) 14 | I6: =IFERROR(VLOOKUP(CONCATENATE($A$1,I$2,$Q6),Alap!$A:$B,2,FALSE),"") -> Alkalmazott informatika (gépterem, web) 44 | ... P6: =IFERROR(VLOOKUP(CONCATENATE($A$1,P$2,$Q6),Alap!$A:$B,2,FALSE),"") -> Ellátásilánc-men. felj. és kontr. (gépterem) 7 | Q6: 3
A7: 13.30 - 15.00 | B7: =IFERROR(VLOOKUP(CONCATENATE($A$1,B$2,$Q7),Alap!$A:$B,2,FALSE),"") | C7: =IFERROR(VLOOKUP(CONCATENATE($A$1,C$2,$Q7),Alap!$A:$B,2,FALSE),"") -> Logisztikai folyamatok és techn. (gépterem) 14 | D7: =IFERROR(VLOOKUP(CONCATENATE($A$1,D$2,$Q7),Alap!$A:$B,2,FALSE),"") -> Projektmunka nemz. vállalatoknál (gépterem, Tb.-ről web) 7 | E7: =IFERROR(VLOOKUP(CONCATENATE($A$1,E$2,$Q7),Alap!$A:$B,2,FALSE),"") -> Vállalatirányítási inf. rendszerek (gépterem, Tb.-ről web) 9 | F7: =IFERROR(VLOOKUP(CONCATENATE($A$1,F$2,$Q7),Alap!$A:$B,2,FALSE),"") -> Alkalmazott informatika (gépterem, web) 44 | G7: =IFERROR(VLOOKUP(CONCATENATE($A$1,G$2,$Q7),Alap!$A:$B,2,FALSE),"") -> Projektmunka nemz. vállalatoknál (gépterem, Bp.-ről web) 7 | H7: =IFERROR(VLOOKUP(CONCATENATE($A$1,H$2,$Q7),Alap!$A:$B,2,FALSE),"") -> Kvantitatív módszerek, ökonometria (gépterem, Bp.-ről web) 13 | I7: =IFERROR(VLOOKUP(CONCATENATE($A$1,I$2,$Q7),Alap!$A:$B,2,FALSE),"") | ... P7: =IFERROR(VLOOKUP(CONCATENATE($A$1,P$2,$Q7),Alap!$A:$B,2,FALSE),"") -> Ellátásilánc-men. felj. és kontr. (gépterem) 7 | Q7: 4
A8: 15.15 - 16.45 | B8: =IFERROR(VLOOKUP(CONCATENATE($A$1,B$2,$Q8),Alap!$A:$B,2,FALSE),"") | C8: =IFERROR(VLOOKUP(CONCATENATE($A$1,C$2,$Q8),Alap!$A:$B,2,FALSE),"") -> Logisztikai folyamatok és techn. (gépterem) 14 | D8: =IFERROR(VLOOKUP(CONCATENATE($A$1,D$2,$Q8),Alap!$A:$B,2,FALSE),"") -> Vállalatirányítási inf. rendszerek (gépterem, Tb.-ről web) 9 | E8: =IFERROR(VLOOKUP(CONCATENATE($A$1,E$2,$Q8),Alap!$A:$B,2,FALSE),"") -> Vállalatirányítási inf. rendszerek (gépterem, Tb.-ről web) 9 | F8: =IFERROR(VLOOKUP(CONCATENATE($A$1,F$2,$Q8),Alap!$A:$B,2,FALSE),"") | G8: =IFERROR(VLOOKUP(CONCATENATE($A$1,G$2,$Q8),Alap!$A:$B,2,FALSE),"") | H8: =IFERROR(VLOOKUP(CONCATENATE($A$1,H$2,$Q8),Alap!$A:$B,2,FALSE),"") -> Kvantitatív módszerek, ökonometria (gépterem, Bp.-ről web) 13 | I8: =IFERROR(VLOOKUP(CONCATENATE($A$1,I$2,$Q8),Alap!$A:$B,2,FALSE),"") | ... P8: =IFERROR(VLOOKUP(CONCATENATE($A$1,P$2,$Q8),Alap!$A:$B,2,FALSE),"") | Q8: 5
A9: 17.00 - 18.30 | B9: =IFERROR(VLOOKUP(CONCATENATE($A$1,B$2,$Q9),Alap!$A:$B,2,FALSE),"") | C9: =IFERROR(VLOOKUP(CONCATENATE($A$1,C$2,$Q9),Alap!$A:$B,2,FALSE),"") | D9: =IFERROR(VLOOKUP(CONCATENATE($A$1,D$2,$Q9),Alap!$A:$B,2,FALSE),"") | E9: =IFERROR(VLOOKUP(CONCATENATE($A$1,E$2,$Q9),Alap!$A:$B,2,FALSE),"") | F9: =IFERROR(VLOOKUP(CONCATENATE($A$1,F$2,$Q9),Alap!$A:$B,2,FALSE),"") | G9: =IFERROR(VLOOKUP(CONCATENATE($A$1,G$2,$Q9),Alap!$A:$B,2,FALSE),"") | H9: =IFERROR(VLOOKUP(CONCATENATE($A$1,H$2,$Q9),Alap!$A:$B,2,FALSE),"") | I9: =IFERROR(VLOOKUP(CONCATENATE($A$1,I$2,$Q9),Alap!$A:$B,2,FALSE),"") | ... P9: =IFERROR(VLOOKUP(CONCATENATE($A$1,P$2,$Q9),Alap!$A:$B,2,FALSE),"") | Q9: 6
B10: =B2-1 -> 206 | C10: =C2-1 -> 213 | D10: =D2-1 -> 220 | E10: =E2-1 -> 227 | F10: =F2-1 -> 306 | G10: =G2-1 -> 313 | H10: =H2-1 -> 320 | I10: =I2-1 -> 327 | ... P10: =P2-1 -> 515
A11: péntek
A12: sáv | B12: február 6. | C12: február 13. | D12: február 20. | E12: február 27. | F12: március 6. | G12: március 13. | H12: március 20. | I12: március 27. | J12: április 3. | K12: április 10. | L12: április 17. | M12: április 24. | N12: május 1. | O12: május 8. | P12: május 15.
A13: 13.30 - 15.00 | B13: =IFERROR(VLOOKUP(CONCATENATE($A$1,B$10,$Q13),Alap!$A:$B,2,FALSE),"") | C13: =IFERROR(VLOOKUP(CONCATENATE($A$1,C$10,$Q13),Alap!$A:$B,2,FALSE),"") | D13: =IFERROR(VLOOKUP(CONCATENATE($A$1,D$10,$Q13),Alap!$A:$B,2,FALSE),"") | E13: =IFERROR(VLOOKUP(CONCATENATE($A$1,E$10,$Q13),Alap!$A:$B,2,FALSE),"") | F13: =IFERROR(VLOOKUP(CONCATENATE($A$1,F$10,$Q13),Alap!$A:$B,2,FALSE),"") | G13: =IFERROR(VLOOKUP(CONCATENATE($A$1,G$10,$Q13),Alap!$A:$B,2,FALSE),"") | H13: =IFERROR(VLOOKUP(CONCATENATE($A$1,H$10,$Q13),Alap!$A:$B,2,FALSE),"") | I13: =IFERROR(VLOOKUP(CONCATENATE($A$1,I$10,$Q13),Alap!$A:$B,2,FALSE),"") | ... P13: =IFERROR(VLOOKUP(CONCATENATE($A$1,P$10,$Q13),Alap!$A:$B,2,FALSE),"") | Q13: 4
A14: 15.15 - 16.45 | B14: =IFERROR(VLOOKUP(CONCATENATE($A$1,B$10,$Q14),Alap!$A:$B,2,FALSE),"") | C14: =IFERROR(VLOOKUP(CONCATENATE($A$1,C$10,$Q14),Alap!$A:$B,2,FALSE),"") | D14: =IFERROR(VLOOKUP(CONCATENATE($A$1,D$10,$Q14),Alap!$A:$B,2,FALSE),"") | E14: =IFERROR(VLOOKUP(CONCATENATE($A$1,E$10,$Q14),Alap!$A:$B,2,FALSE),"") | F14: =IFERROR(VLOOKUP(CONCATENATE($A$1,F$10,$Q14),Alap!$A:$B,2,FALSE),"") | G14: =IFERROR(VLOOKUP(CONCATENATE($A$1,G$10,$Q14),Alap!$A:$B,2,FALSE),"") | H14: =IFERROR(VLOOKUP(CONCATENATE($A$1,H$10,$Q14),Alap!$A:$B,2,FALSE),"") | I14: =IFERROR(VLOOKUP(CONCATENATE($A$1,I$10,$Q14),Alap!$A:$B,2,FALSE),"") | ... P14: =IFERROR(VLOOKUP(CONCATENATE($A$1,P$10,$Q14),Alap!$A:$B,2,FALSE),"") | Q14: 5
A15: 17.00 - 18.30 | B15: =IFERROR(VLOOKUP(CONCATENATE($A$1,B$10,$Q15),Alap!$A:$B,2,FALSE),"") | C15: =IFERROR(VLOOKUP(CONCATENATE($A$1,C$10,$Q15),Alap!$A:$B,2,FALSE),"") | D15: =IFERROR(VLOOKUP(CONCATENATE($A$1,D$10,$Q15),Alap!$A:$B,2,FALSE),"") | E15: =IFERROR(VLOOKUP(CONCATENATE($A$1,E$10,$Q15),Alap!$A:$B,2,FALSE),"") | F15: =IFERROR(VLOOKUP(CONCATENATE($A$1,F$10,$Q15),Alap!$A:$B,2,FALSE),"") | G15: =IFERROR(VLOOKUP(CONCATENATE($A$1,G$10,$Q15),Alap!$A:$B,2,FALSE),"") | H15: =IFERROR(VLOOKUP(CONCATENATE($A$1,H$10,$Q15),Alap!$A:$B,2,FALSE),"") | I15: =IFERROR(VLOOKUP(CONCATENATE($A$1,I$10,$Q15),Alap!$A:$B,2,FALSE),"") | ... P15: =IFERROR(VLOOKUP(CONCATENATE($A$1,P$10,$Q15),Alap!$A:$B,2,FALSE),"") | Q15: 6
A16: 18.45 - 20.15 | B16: =IFERROR(VLOOKUP(CONCATENATE($A$1,B$10,$Q16),Alap!$A:$B,2,FALSE),"") | C16: =IFERROR(VLOOKUP(CONCATENATE($A$1,C$10,$Q16),Alap!$A:$B,2,FALSE),"") | D16: =IFERROR(VLOOKUP(CONCATENATE($A$1,D$10,$Q16),Alap!$A:$B,2,FALSE),"") | E16: =IFERROR(VLOOKUP(CONCATENATE($A$1,E$10,$Q16),Alap!$A:$B,2,FALSE),"") | F16: =IFERROR(VLOOKUP(CONCATENATE($A$1,F$10,$Q16),Alap!$A:$B,2,FALSE),"") | G16: =IFERROR(VLOOKUP(CONCATENATE($A$1,G$10,$Q16),Alap!$A:$B,2,FALSE),"") | H16: =IFERROR(VLOOKUP(CONCATENATE($A$1,H$10,$Q16),Alap!$A:$B,2,FALSE),"") | I16: =IFERROR(VLOOKUP(CONCATENATE($A$1,I$10,$Q16),Alap!$A:$B,2,FALSE),"") | ... P16: =IFERROR(VLOOKUP(CONCATENATE($A$1,P$10,$Q16),Alap!$A:$B,2,FALSE),"") | Q16: 7

Sheet Tb. terem
A1: Passzív | D1: szombat
B2: 207 | C2: 214 | D2: 221 | E2: 228 | F2: 307 | G2: 314 | H2: 321 | I2: 328 | J2: 404 | K2: 411 | L2: 418 | M2: 425 | N2: 502 | O2: 509 | P2: 516
A3: sáv | B3: február 7. | C3: február 14. | D3: február 21. | E3: február 28. | F3: március 7. | G3: március 14. | H3: március 21. | I3: március 28. | J3: április 4. | K3: április 11. | L3: április 18. | M3: április 25. | N3: május 2. | O3: május 9. | P3: május 16.
A4: 8.00 - 9.30 | B4: =IFERROR(VLOOKUP(CONCATENATE($A$1,B$2,$Q4),Alap!$C:$D,2,FALSE),"") | C4: =IFERROR(VLOOKUP(CONCATENATE($A$1,C$2,$Q4),Alap!$C:$D,2,FALSE),"") | D4: =IFERROR(VLOOKUP(CONCATENATE($A$1,D$2,$Q4),Alap!$C:$D,2,FALSE),"") | E4: =IFERROR(VLOOKUP(CONCATENATE($A$1,E$2,$Q4),Alap!$C:$D,2,FALSE),"") | F4: =IFERROR(VLOOKUP(CONCATENATE($A$1,F$2,$Q4),Alap!$C:$D,2,FALSE),"") | G4: =IFERROR(VLOOKUP(CONCATENATE($A$1,G$2,$Q4),Alap!$C:$D,2,FALSE),"") -> Energia és környezet (web) 19 | H4: =IFERROR(VLOOKUP(CONCATENATE($A$1,H$2,$Q4),Alap!$C:$D,2,FALSE),"") -> Energia és környezet (web) 19 | I4: =IFERROR(VLOOKUP(CONCATENATE($A$1,I$2,$Q4),Alap!$C:$D,2,FALSE),"") | ... P4: =IFERROR(VLOOKUP(CONCATENATE($A$1,P$2,$Q4),Alap!$C:$D,2,FALSE),"") | Q4: 1
A5: 9.45 - 11.15 | B5: =IFERROR(VLOOKUP(CONCATENATE($A$1,B$2,$Q5),Alap!$C:$D,2,FALSE),"") | C5: =IFERROR(VLOOKUP(CONCATENATE($A$1,C$2,$Q5),Alap!$C:$D,2,FALSE),"") | D5: =IFERROR(VLOOKUP(CONCATENATE($A$1,D$2,$Q5),Alap!$C:$D,2,FALSE),"") | E5: =IFERROR(VLOOKUP(CONCATENATE($A$1,E$2,$Q5),Alap!$C:$D,2,FALSE),"") | F5: =IFERROR(VLOOKUP(CONCATENATE($A$1,F$2,$Q5),Alap!$C:$D,2,FALSE),"") | G5: =IFERROR(VLOOKUP(CONCATENATE($A$1,G$2,$Q5),Alap!$C:$D,2,FALSE),"") -> Energia és környezet (web) 19 | H5: =IFERROR(VLOOKUP(CONCATENATE($A$1,H$2,$Q5),Alap!$C:$D,2,FALSE),"") -> Energia és környezet (web) 19 | I5: =IFERROR(VLOOKUP(CONCATENATE($A$1,I$2,$Q5),Alap!$C:$D,2,FALSE),"") | ... P5: =IFERROR(VLOOKUP(CONCATENATE($A$1,P$2,$Q5),Alap!$C:$D,2,FALSE),"") | Q5: 2
A6: 11.30 - 13.00 | B6: =IFERROR(VLOOKUP(CONCATENATE($A$1,B$2,$Q6),Alap!$C:$D,2,FALSE),"") | C6: =IFERROR(VLOOKUP(CONCATENATE($A$1,C$2,$Q6),Alap!$C:$D,2,FALSE),"") | D6: =IFERROR(VLOOKUP(CONCATENATE($A$1,D$2,$Q6),Alap!$C:$D,2,FALSE),"") | E6: =IFERROR(VLOOKUP(CONCATENATE($A$1,E$2,$Q6),Alap!$C:$D,2,FALSE),"") | F6: =IFERROR(VLOOKUP(CONCATENATE($A$1,F$2,$Q6),Alap!$C:$D,2,FALSE),"") | G6: =IFERROR(VLOOKUP(CONCATENATE($A$1,G$2,$Q6),Alap!$C:$D,2,FALSE),"") | H6: =IFERROR(VLOOKUP(CONCATENATE($A$1,H$2,$Q6),Alap!$C:$D,2,FALSE),"") -> Energia és környezet (web) 19 | I6: =IFERROR(VLOOKUP(CONCATENATE($A$1,I$2,$Q6),Alap!$C:$D,2,FALSE),"") | ... P6: =IFERROR(VLOOKUP(CONCATENATE($A$1,P$2,$Q6),Alap!$C:$D,2,FALSE),"") | Q6: 3
A7: 13.30 - 15.00 | B7: =IFERROR(VLOOKUP(CONCATENATE($A$1,B$2,$Q7),Alap!$C:$D,2,FALSE),"") | C7: =IFERROR(VLOOKUP(CONCATENATE($A$1,C$2,$Q7),Alap!$C:$D,2,FALSE),"") | D7: =IFERROR(VLOOKUP(CONCATENATE($A$1,D$2,$Q7),Alap!$C:$D,2,FALSE),"") | E7: =IFERROR(VLOOKUP(CONCATENATE($A$1,E$2,$Q7),Alap!$C:$D,2,FALSE),"") | F7: =IFERROR(VLOOKUP(CONCATENATE($A$1,F$2,$Q7),Alap!$C:$D,2,FALSE),"") | G7: =IFERROR(VLOOKUP(CONCATENATE($A$1,G$2,$Q7),Alap!$C:$D,2,FALSE),"") | H7: =IFERROR(VLOOKUP(CONCATENATE($A$1,H$2,$Q7),Alap!$C:$D,2,FALSE),"") | I7: =IFERROR(VLOOKUP(CONCATENATE($A$1,I$2,$Q7),Alap!$C:$D,2,FALSE),"") | ... P7: =IFERROR(VLOOKUP(CONCATENATE($A$1,P$2,$Q7),Alap!$C:$D,2,FALSE),"") | Q7: 4
A8: 15.15 - 16.45 | B8: =IFERROR(VLOOKUP(CONCATENATE($A$1,B$2,$Q8),Alap!$C:$D,2,FALSE),"") | C8: =IFERROR(VLOOKUP(CONCATENATE($A$1,C$2,$Q8),Alap!$C:$D,2,FALSE),"") | D8: =IFERROR(VLOOKUP(CONCATENATE($A$1,D$2,$Q8),Alap!$C:$D,2,FALSE),"") | E8: =IFERROR(VLOOKUP(CONCATENATE($A$1,E$2,$Q8),Alap!$C:$D,2,FALSE),"") | F8: =IFERROR(VLOOKUP(CONCATENATE($A$1,F$2,$Q8),Alap!$C:$D,2,FALSE),"") | G8: =IFERROR(VLOOKUP(CONCATENATE($A$1,G$2,$Q8),Alap!$C:$D,2,FALSE),"") | H8: =IFERROR(VLOOKUP(CONCATENATE($A$1,H$2,$Q8),Alap!$C:$D,2,FALSE),"") | I8: =IFERROR(VLOOKUP(CONCATENATE($A$1,I$2,$Q8),Alap!$C:$D,2,FALSE),"") | ... P8: =IFERROR(VLOOKUP(CONCATENATE($A$1,P$2,$Q8),Alap!$C:$D,2,FALSE),"") | Q8: 5
A9: 17.00 - 18.30 | B9: =IFERROR(VLOOKUP(CONCATENATE($A$1,B$2,$Q9),Alap!$C:$D,2,FALSE),"") | C9: =IFERROR(VLOOKUP(CONCATENATE($A$1,C$2,$Q9),Alap!$C:$D,2,FALSE),"") | D9: =IFERROR(VLOOKUP(CONCATENATE($A$1,D$2,$Q9),Alap!$C:$D,2,FALSE),"") | E9: =IFERROR(VLOOKUP(CONCATENATE($A$1,E$2,$Q9),Alap!$C:$D,2,FALSE),"") | F9: =IFERROR(VLOOKUP(CONCATENATE($A$1,F$2,$Q9),Alap!$C:$D,2,FALSE),"") | G9: =IFERROR(VLOOKUP(CONCATENATE($A$1,G$2,$Q9),Alap!$C:$D,2,FALSE),"") | H9: =IFERROR(VLOOKUP(CONCATENATE($A$1,H$2,$Q9),Alap!$C:$D,2,FALSE),"") | I9: =IFERROR(VLOOKUP(CONCATENATE($A$1,I$2,$Q9),Alap!$C:$D,2,FALSE),"") | ... P9: =IFERROR(VLOOKUP(CONCATENATE($A$1,P$2,$Q9),Alap!$C:$D,2,FALSE),"") | Q9: 6
B10: =B2-1 -> 206 | C10: =C2-1 -> 213 | D10: =D2-1 -> 220 | E10: =E2-1 -> 227 | F10: =F2-1 -> 306 | G10: =G2-1 -> 313 | H10: =H2-1 -> 320 | I10: =I2-1 -> 327 | ... P10: =P2-1 -> 515
A11: péntek
A12: sáv | B12: február 6. | C12: február 13. | D12: február 20. | E12: február 27. | F12: március 6. | G12: március 13. | H12: március 20. | I12: március 27. | J12: április 3. | K12: április 10. | L12: április 17. | M12: április 24. | N12: május 1. | O12: május 8. | P12: május 15.
A13: 13.30 - 15.00 | B13: =IFERROR(VLOOKUP(CONCATENATE($A$1,B$10,$Q13),Alap!$C:$D,2,FALSE),"") | C13: =IFERROR(VLOOKUP(CONCATENATE($A$1,C$10,$Q13),Alap!$C:$D,2,FALSE),"") | D13: =IFERROR(VLOOKUP(CONCATENATE($A$1,D$10,$Q13),Alap!$C:$D,2,FALSE),"") | E13: =IFERROR(VLOOKUP(CONCATENATE($A$1,E$10,$Q13),Alap!$C:$D,2,FALSE),"") | F13: =IFERROR(VLOOKUP(CONCATENATE($A$1,F$10,$Q13),Alap!$C:$D,2,FALSE),"") | G13: =IFERROR(VLOOKUP(CONCATENATE($A$1,G$10,$Q13),Alap!$C:$D,2,FALSE),"") | H13: =IFERROR(VLOOKUP(CONCATENATE($A$1,H$10,$Q13),Alap!$C:$D,2,FALSE),"") | I13: =IFERROR(VLOOKUP(CONCATENATE($A$1,I$10,$Q13),Alap!$C:$D,2,FALSE),"") | ... P13: =IFERROR(VLOOKUP(CONCATENATE($A$1,P$10,$Q13),Alap!$C:$D,2,FALSE),"") | Q13: 4
A14: 15.15 - 16.45 | B14: =IFERROR(VLOOKUP(CONCATENATE($A$1,B$10,$Q14),Alap!$C:$D,2,FALSE),"") | C14: =IFERROR(VLOOKUP(CONCATENATE($A$1,C$10,$Q14),Alap!$C:$D,2,FALSE),"") | D14: =IFERROR(VLOOKUP(CONCATENATE($A$1,D$10,$Q14),Alap!$C:$D,2,FALSE),"") | E14: =IFERROR(VLOOKUP(CONCATENATE($A$1,E$10,$Q14),Alap!$C:$D,2,FALSE),"") | F14: =IFERROR(VLOOKUP(CONCATENATE($A$1,F$10,$Q14),Alap!$C:$D,2,FALSE),"") | G14: =IFERROR(VLOOKUP(CONCATENATE($A$1,G$10,$Q14),Alap!$C:$D,2,FALSE),"") | H14: =IFERROR(VLOOKUP(CONCATENATE($A$1,H$10,$Q14),Alap!$C:$D,2,FALSE),"") | I14: =IFERROR(VLOOKUP(CONCATENATE($A$1,I$10,$Q14),Alap!$C:$D,2,FALSE),"") | ... P14: =IFERROR(VLOOKUP(CONCATENATE($A$1,P$10,$Q14),Alap!$C:$D,2,FALSE),"") | Q14: 5
A15: 17.00 - 18.30 | B15: =IFERROR(VLOOKUP(CONCATENATE($A$1,B$10,$Q15),Alap!$C:$D,2,FALSE),"") | C15: =IFERROR(VLOOKUP(CONCATENATE($A$1,C$10,$Q15),Alap!$C:$D,2,FALSE),"") | D15: =IFERROR(VLOOKUP(CONCATENATE($A$1,D$10,$Q15),Alap!$C:$D,2,FALSE),"") | E15: =IFERROR(VLOOKUP(CONCATENATE($A$1,E$10,$Q15),Alap!$C:$D,2,FALSE),"") | F15: =IFERROR(VLOOKUP(CONCATENATE($A$1,F$10,$Q15),Alap!$C:$D,2,FALSE),"") | G15: =IFERROR(VLOOKUP(CONCATENATE($A$1,G$10,$Q15),Alap!$C:$D,2,FALSE),"") | H15: =IFERROR(VLOOKUP(CONCATENATE($A$1,H$10,$Q15),Alap!$C:$D,2,FALSE),"") | I15: =IFERROR(VLOOKUP(CONCATENATE($A$1,I$10,$Q15),Alap!$C:$D,2,FALSE),"") | ... P15: =IFERROR(VLOOKUP(CONCATENATE($A$1,P$10,$Q15),Alap!$C:$D,2,FALSE),"") | Q15: 6
A16: 18.45 - 20.15 | B16: =IFERROR(VLOOKUP(CONCATENATE($A$1,B$10,$Q16),Alap!$C:$D,2,FALSE),"") | C16: =IFERROR(VLOOKUP(CONCATENATE($A$1,C$10,$Q16),Alap!$C:$D,2,FALSE),"") | D16: =IFERROR(VLOOKUP(CONCATENATE($A$1,D$10,$Q16),Alap!$C:$D,2,FALSE),"") | E16: =IFERROR(VLOOKUP(CONCATENATE($A$1,E$10,$Q16),Alap!$C:$D,2,FALSE),"") | F16: =IFERROR(VLOOKUP(CONCATENATE($A$1,F$10,$Q16),Alap!$C:$D,2,FALSE),"") | G16: =IFERROR(VLOOKUP(CONCATENATE($A$1,G$10,$Q16),Alap!$C:$D,2,FALSE),"") | H16: =IFERROR(VLOOKUP(CONCATENATE($A$1,H$10,$Q16),Alap!$C:$D,2,FALSE),"") | I16: =IFERROR(VLOOKUP(CONCATENATE($A$1,I$10,$Q16),Alap!$C:$D,2,FALSE),"") | ... P16: =IFERROR(VLOOKUP(CONCATENATE($A$1,P$10,$Q16),Alap!$C:$D,2,FALSE),"") | Q16: 7

Sheet Bp.
A1: május 15-16. | D1: szombat
A2: sáv | B2: 201 | C2: 202 | D2: 203 | E2: 205 | F2: 206 | G2: 207 | H2: 208 | I2: 209 | J2: 210 | K2: 214 | L2: 217 | M2: 463 | N2: 217 (30 fő, okos)
A3: 8.00 - 9.30 | B3: =IFERROR(VLOOKUP(CONCATENATE(B$11,VLOOKUP($A$1,segéd!$I$1:$K$15,3,FALSE),$N3),Alap!$A:$B,2,FALSE),"") | C3: =IFERROR(VLOOKUP(CONCATENATE(C$11,VLOOKUP($A$1,segéd!$I$1:$K$15,3,FALSE),$N3),Alap!$A:$B,2,FALSE),"") -> KKV-k versenyképessége (Tb.-ről web) 6 | D3: =IFERROR(VLOOKUP(CONCATENATE(D$11,VLOOKUP($A$1,segéd!$I$1:$K$15,3,FALSE),$N3),Alap!$A:$B,2,FALSE),"") | E3: =IFERROR(VLOOKUP(CONCATENATE(E$11,VLOOKUP($A$1,segéd!$I$1:$K$15,3,FALSE),$N3),Alap!$A:$B,2,FALSE),"") -> Pénzügyi alapismeretek (Tb.-ről web) 4 | F3: =IFERROR(VLOOKUP(CONCATENATE(F$11,VLOOKUP($A$1,segéd!$I$1:$K$15,3,FALSE),$N3),Alap!$A:$B,2,FALSE),"") | G3: =IFERROR(VLOOKUP(CONCATENATE(G$11,VLOOKUP($A$1,segéd!$I$1:$K$15,3,FALSE),$N3),Alap!$A:$B,2,FALSE),"") -> Kvantitatív módszerek, ökonometria (gépterem, Bp.-ről web) 13 | H3: =IFERROR(VLOOKUP(CONCATENATE(H$11,VLOOKUP($A$1,segéd!$I$1:$K$15,3,FALSE),$N3),Alap!$A:$B,2,FALSE),"") | I3: =IFERROR(VLOOKUP(CONCATENATE(I$11,VLOOKUP($A$1,segéd!$I$1:$K$15,3,FALSE),$N3),Alap!$A:$B,2,FALSE),"") | ... M3: =IFERROR(VLOOKUP(CONCATENATE(M$11,VLOOKUP($A$1,segéd!$I$1:$K$15,3,FALSE),$N3),Alap!$A:$B,2,FALSE),"") | N3: 1
A4: 9.45 - 11.15 | B4: =IFERROR(VLOOKUP(CONCATENATE(B$11,VLOOKUP($A$1,segéd!$I$1:$K$15,3,FALSE),$N4),Alap!$A:$B,2,FALSE),"") | C4: =IFERROR(VLOOKUP(CONCATENATE(C$11,VLOOKUP($A$1,segéd!$I$1:$K$15,3,FALSE),$N4),Alap!$A:$B,2,FALSE),"") -> KKV-k versenyképessége (Tb.-ről web) 6 | D4: =IFERROR(VLOOKUP(CONCATENATE(D$11,VLOOKUP($A$1,segéd!$I$1:$K$15,3,FALSE),$N4),Alap!$A:$B,2,FALSE),"") | E4: =IFERROR(VLOOKUP(CONCATENATE(E$11,VLOOKUP($A$1,segéd!$I$1:$K$15,3,FALSE),$N4),Alap!$A:$B,2,FALSE),"") -> Pénzügyi alapismeretek (Tb.-ről web) 4 | F4: =IFERROR(VLOOKUP(CONCATENATE(F$11,VLOOKUP($A$1,segéd!$I$1:$K$15,3,FALSE),$N4),Alap!$A:$B,2,FALSE),"") | G4: =IFERROR(VLOOKUP(CONCATENATE(G$11,VLOOKUP($A$1,segéd!$I$1:$K$15,3,FALSE),$N4),Alap!$A:$B,2,FALSE),"") -> Kvantitatív módszerek, ökonometria (gépterem, Bp.-ről web) 13 | H4: =IFERROR(VLOOKUP(CONCATENATE(H$11,VLOOKUP($A$1,segéd!$I$1:$K$15,3,FALSE),$N4),Alap!$A:$B,2,FALSE),"") | I4: =IFERROR(VLOOKUP(CONCATENATE(I$11,VLOOKUP($A$1,segéd!$I$1:$K$15,3,FALSE),$N4),Alap!$A:$B,2,FALSE),"") | ... M4: =IFERROR(VLOOKUP(CONCATENATE(M$11,VLOOKUP($A$1,segéd!$I$1:$K$15,3,FALSE),$N4),Alap!$A:$B,2,FALSE),"") | N4: 2
A5: 11.30 - 13.00 | B5: =IFERROR(VLOOKUP(CONCATENATE(B$11,VLOOKUP($A$1,segéd!$I$1:$K$15,3,FALSE),$N5),Alap!$A:$B,2,FALSE),"") | C5: =IFERROR(VLOOKUP(CONCATENATE(C$11,VLOOKUP($A$1,segéd!$I$1:$K$15,3,FALSE),$N5),Alap!$A:$B,2,FALSE),"") | D5: =IFERROR(VLOOKUP(CONCATENATE(D$11,VLOOKUP($A$1,segéd!$I$1:$K$15,3,FALSE),$N5),Alap!$A:$B,2,FALSE),"") | E5: =IFERROR(VLOOKUP(CONCATENATE(E$11,VLOOKUP($A$1,segéd!$I$1:$K$15,3,FALSE),$N5),Alap!$A:$B,2,FALSE),"") -> Pénzügyi alapismeretek (Tb.-ről web) 4 | F5: =IFERROR(VLOOKUP(CONCATENATE(F$11,VLOOKUP($A$1,segéd!$I$1:$K$15,3,FALSE),$N5),Alap!$A:$B,2,FALSE),"") | G5: =IFERROR(VLOOKUP(CONCATENATE(G$11,VLOOKUP($A$1,segéd!$I$1:$K$15,3,FALSE),$N5),Alap!$A:$B,2,FALSE),"") -> Ellátásilánc-men. felj. és kontr. (gépterem) 7 | H5: =IFERROR(VLOOKUP(CONCATENATE(H$11,VLOOKUP($A$1,segéd!$I$1:$K$15,3,FALSE),$N5),Alap!$A:$B,2,FALSE),"") | I5: =IFERROR(VLOOKUP(CONCATENATE(I$11,VLOOKUP($A$1,segéd!$I$1:$K$15,3,FALSE),$N5),Alap!$A:$B,2,FALSE),"") | ... M5: =IFERROR(VLOOKUP(CONCATENATE(M$11,VLOOKUP($A$1,segéd!$I$1:$K$15,3,FALSE),$N5),Alap!$A:$B,2,FALSE),"") | N5: 3
A6: 13.30 - 15.00 | B6: =IFERROR(VLOOKUP(CONCATENATE(B$11,VLOOKUP($A$1,segéd!$I$1:$K$15,3,FALSE),$N6),Alap!$A:$B,2,FALSE),"") | C6: =IFERROR(VLOOKUP(CONCATENATE(C$11,VLOOKUP($A$1,segéd!$I$1:$K$15,3,FALSE),$N6),Alap!$A:$B,2,FALSE),"") | D6: =IFERROR(VLOOKUP(CONCATENATE(D$11,VLOOKUP($A$1,segéd!$I$1:$K$15,3,FALSE),$N6),Alap!$A:$B,2,FALSE),"") | E6: =IFERROR(VLOOKUP(CONCATENATE(E$11,VLOOKUP($A$1,segéd!$I$1:$K$15,3,FALSE),$N6),Alap!$A:$B,2,FALSE),"") | F6: =IFERROR(VLOOKUP(CONCATENATE(F$11,VLOOKUP($A$1,segéd!$I$1:$K$15,3,FALSE),$N6),Alap!$A:$B,2,FALSE),"") | G6: =IFERROR(VLOOKUP(CONCATENATE(G$11,VLOOKUP($A$1,segéd!$I$1:$K$15,3,FALSE),$N6),Alap!$A:$B,2,FALSE),"") -> Ellátásilánc-men. felj. és kontr. (gépterem) 7 | H6: =IFERROR(VLOOKUP(CONCATENATE(H$11,VLOOKUP($A$1,segéd!$I$1:$K$15,3,FALSE),$N6),Alap!$A:$B,2,FALSE),"") | I6: =IFERROR(VLOOKUP(CONCATENATE(I$11,VLOOKUP($A$1,segéd!$I$1:$K$15,3,FALSE),$N6),Alap!$A:$B,2,FALSE),"") | ... M6: =IFERROR(VLOOKUP(CONCATENATE(M$11,VLOOKUP($A$1,segéd!$I$1:$K$15,3,FALSE),$N6),Alap!$A:$B,2,FALSE),"") | N6: 4
A7: 15.15 - 16.45 | B7: =IFERROR(VLOOKUP(CONCATENATE(B$11,VLOOKUP($A$1,segéd!$I$1:$K$15,3,FALSE),$N7),Alap!$A:$B,2,FALSE),"") | C7: =IFERROR(VLOOKUP(CONCATENATE(C$11,VLOOKUP($A$1,segéd!$I$1:$K$15,3,FALSE),$N7),Alap!$A:$B,2,FALSE),"") | D7: =IFERROR(VLOOKUP(CONCATENATE(D$11,VLOOKUP($A$1,segéd!$I$1:$K$15,3,FALSE),$N7),Alap!$A:$B,2,FALSE),"") | E7: =IFERROR(VLOOKUP(CONCATENATE(E$11,VLOOKUP($A$1,segéd!$I$1:$K$15,3,FALSE),$N7),Alap!$A:$B,2,FALSE),"") | F7: =IFERROR(VLOOKUP(CONCATENATE(F$11,VLOOKUP($A$1,segéd!$I$1:$K$15,3,FALSE),$N7),Alap!$A:$B,2,FALSE),"") | G7: =IFERROR(VLOOKUP(CONCATENATE(G$11,VLOOKUP($A$1,segéd!$I$1:$K$15,3,FALSE),$N7),Alap!$A:$B,2,FALSE),"") | H7: =IFERROR(VLOOKUP(CONCATENATE(H$11,VLOOKUP($A$1,segéd!$I$1:$K$15,3,FALSE),$N7),Alap!$A:$B,2,FALSE),"") | I7: =IFERROR(VLOOKUP(CONCATENATE(I$11,VLOOKUP($A$1,segéd!$I$1:$K$15,3,FALSE),$N7),Alap!$A:$B,2,FALSE),"") | ... M7: =IFERROR(VLOOKUP(CONCATENATE(M$11,VLOOKUP($A$1,segéd!$I$1:$K$15,3,FALSE),$N7),Alap!$A:$B,2,FALSE),"") | N7: 5
A8: 17.00 - 18.30 | B8: =IFERROR(VLOOKUP(CONCATENATE(B$11,VLOOKUP($A$1,segéd!$I$1:$K$15,3,FALSE),$N8),Alap!$A:$B,2,FALSE),"") | C8: =IFERROR(VLOOKUP(CONCATENATE(C$11,VLOOKUP($A$1,segéd!$I$1:$K$15,3,FALSE),$N8),Alap!$A:$B,2,FALSE),"") | D8: =IFERROR(VLOOKUP(CONCATENATE(D$11,VLOOKUP($A$1,segéd!$I$1:$K$15,3,FALSE),$N8),Alap!$A:$B,2,FALSE),"") | E8: =IFERROR(VLOOKUP(CONCATENATE(E$11,VLOOKUP($A$1,segéd!$I$1:$K$15,3,FALSE),$N8),Alap!$A:$B,2,FALSE),"") | F8: =IFERROR(VLOOKUP(CONCATENATE(F$11,VLOOKUP($A$1,segéd!$I$1:$K$15,3,FALSE),$N8),Alap!$A:$B,2,FALSE),"") | G8: =IFERROR(VLOOKUP(CONCATENATE(G$11,VLOOKUP($A$1,segéd!$I$1:$K$15,3,FALSE),$N8),Alap!$A:$B,2,FALSE),"") | H8: =IFERROR(VLOOKUP(CONCATENATE(H$11,VLOOKUP($A$1,segéd!$I$1:$K$15,3,FALSE),$N8),Alap!$A:$B,2,FALSE),"") | I8: =IFERROR(VLOOKUP(CONCATENATE(I$11,VLOOKUP($A$1,segéd!$I$1:$K$15,3,FALSE),$N8),Alap!$A:$B,2,FALSE),"") | ... M8: =IFERROR(VLOOKUP(CONCATENATE(M$11,VLOOKUP($A$1,segéd!$I$1:$K$15,3,FALSE),$N8),Alap!$A:$B,2,FALSE),"") | N8: 6
A10: péntek
A11: sáv | B11: 201 | C11: 202 | D11: 203 | E11: 205 | F11: 206 | G11: 207 | H11: 208 | I11: 209 | J11: 210 | K11: 214 | L11: 217 | M11: 463
A12: 13.30 - 15.00 | B12: =IFERROR(VLOOKUP(CONCATENATE(B$11,VLOOKUP($A$1,segéd!$I$1:$K$15,2,FALSE),$N12),Alap!$A:$B,2,FALSE),"") | C12: =IFERROR(VLOOKUP(CONCATENATE(C$11,VLOOKUP($A$1,segéd!$I$1:$K$15,2,FALSE),$N12),Alap!$A:$B,2,FALSE),"") | D12: =IFERROR(VLOOKUP(CONCATENATE(D$11,VLOOKUP($A$1,segéd!$I$1:$K$15,2,FALSE),$N12),Alap!$A:$B,2,FALSE),"") | E12: =IFERROR(VLOOKUP(CONCATENATE(E$11,VLOOKUP($A$1,segéd!$I$1:$K$15,2,FALSE),$N12),Alap!$A:$B,2,FALSE),"") | F12: =IFERROR(VLOOKUP(CONCATENATE(F$11,VLOOKUP($A$1,segéd!$I$1:$K$15,2,FALSE),$N12),Alap!$A:$B,2,FALSE),"") | G12: =IFERROR(VLOOKUP(CONCATENATE(G$11,VLOOKUP($A$1,segéd!$I$1:$K$15,2,FALSE),$N12),Alap!$A:$B,2,FALSE),"") | H12: =IFERROR(VLOOKUP(CONCATENATE(H$11,VLOOKUP($A$1,segéd!$I$1:$K$15,2,FALSE),$N12),Alap!$A:$B,2,FALSE),"") | I12: =IFERROR(VLOOKUP(CONCATENATE(I$11,VLOOKUP($A$1,segéd!$I$1:$K$15,2,FALSE),$N12),Alap!$A:$B,2,FALSE),"") | ... M12: =IFERROR(VLOOKUP(CONCATENATE(M$11,VLOOKUP($A$1,segéd!$I$1:$K$15,2,FALSE),$N12),Alap!$A:$B,2,FALSE),"") | N12: 4
A13: 15.15 - 16.45 | B13: =IFERROR(VLOOKUP(CONCATENATE(B$11,VLOOKUP($A$1,segéd!$I$1:$K$15,2,FALSE),$N13),Alap!$A:$B,2,FALSE),"") | C13: =IFERROR(VLOOKUP(CONCATENATE(C$11,VLOOKUP($A$1,segéd!$I$1:$K$15,2,FALSE),$N13),Alap!$A:$B,2,FALSE),"") -> Közgazdaságtan I. (otthonról web) 13 | D13: =IFERROR(VLOOKUP(CONCATENATE(D$11,VLOOKUP($A$1,segéd!$I$1:$K$15,2,FALSE),$N13),Alap!$A:$B,2,FALSE),"") | E13: =IFERROR(VLOOKUP(CONCATENATE(E$11,VLOOKUP($A$1,segéd!$I$1:$K$15,2,FALSE),$N13),Alap!$A:$B,2,FALSE),"") | F13: =IFERROR(VLOOKUP(CONCATENATE(F$11,VLOOKUP($A$1,segéd!$I$1:$K$15,2,FALSE),$N13),Alap!$A:$B,2,FALSE),"") | G13: =IFERROR(VLOOKUP(CONCATENATE(G$11,VLOOKUP($A$1,segéd!$I$1:$K$15,2,FALSE),$N13),Alap!$A:$B,2,FALSE),"") | H13: =IFERROR(VLOOKUP(CONCATENATE(H$11,VLOOKUP($A$1,segéd!$I$1:$K$15,2,FALSE),$N13),Alap!$A:$B,2,FALSE),"") | I13: =IFERROR(VLOOKUP(CONCATENATE(I$11,VLOOKUP($A$1,segéd!$I$1:$K$15,2,FALSE),$N13),Alap!$A:$B,2,FALSE),"") | ... M13: =IFERROR(VLOOKUP(CONCATENATE(M$11,VLOOKUP($A$1,segéd!$I$1:$K$15,2,FALSE),$N13),Alap!$A:$B,2,FALSE),"") | N13: 5
A14: 17.00 - 18.30 | B14: =IFERROR(VLOOKUP(CONCATENATE(B$11,VLOOKUP($A$1,segéd!$I$1:$K$15,2,FALSE),$N14),Alap!$A:$B,2,FALSE),"") | C14: =IFERROR(VLOOKUP(CONCATENATE(C$11,VLOOKUP($A$1,segéd!$I$1:$K$15,2,FALSE),$N14),Alap!$A:$B,2,FALSE),"") -> Közgazdaságtan I. (otthonról web) 13 | D14: =IFERROR(VLOOKUP(CONCATENATE(D$11,VLOOKUP($A$1,segéd!$I$1:$K$15,2,FALSE),$N14),Alap!$A:$B,2,FALSE),"") | E14: =IFERROR(VLOOKUP(CONCATENATE(E$11,VLOOKUP($A$1,segéd!$I$1:$K$15,2,FALSE),$N14),Alap!$A:$B,2,FALSE),"") | F14: =IFERROR(VLOOKUP(CONCATENATE(F$11,VLOOKUP($A$1,segéd!$I$1:$K$15,2,FALSE),$N14),Alap!$A:$B,2,FALSE),"") | G14: =IFERROR(VLOOKUP(CONCATENATE(G$11,VLOOKUP($A$1,segéd!$I$1:$K$15,2,FALSE),$N14),Alap!$A:$B,2,FALSE),"") | H14: =IFERROR(VLOOKUP(CONCATENATE(H$11,VLOOKUP($A$1,segéd!$I$1:$K$15,2,FALSE),$N14),Alap!$A:$B,2,FALSE),"") | I14: =IFERROR(VLOOKUP(CONCATENATE(I$11,VLOOKUP($A$1,segéd!$I$1:$K$15,2,FALSE),$N14),Alap!$A:$B,2,FALSE),"") | ... M14: =IFERROR(VLOOKUP(CONCATENATE(M$11,VLOOKUP($A$1,segéd!$I$1:$K$15,2,FALSE),$N14),Alap!$A:$B,2,FALSE),"") | N14: 6
A15: 18.45 - 20.15 | B15: =IFERROR(VLOOKUP(CONCATENATE(B$11,VLOOKUP($A$1,segéd!$I$1:$K$15,2,FALSE),$N15),Alap!$A:$B,2,FALSE),"") | C15: =IFERROR(VLOOKUP(CONCATENATE(C$11,VLOOKUP($A$1,segéd!$I$1:$K$15,2,FALSE),$N15),Alap!$A:$B,2,FALSE),"") | D15: =IFERROR(VLOOKUP(CONCATENATE(D$11,VLOOKUP($A$1,segéd!$I$1:$K$15,2,FALSE),$N15),Alap!$A:$B,2,FALSE),"") | E15: =IFERROR(VLOOKUP(CONCATENATE(E$11,VLOOKUP($A$1,segéd!$I$1:$K$15,2,FALSE),$N15),Alap!$A:$B,2,FALSE),"") | F15: =IFERROR(VLOOKUP(CONCATENATE(F$11,VLOOKUP($A$1,segéd!$I$1:$K$15,2,FALSE),$N15),Alap!$A:$B,2,FALSE),"") | G15: =IFERROR(VLOOKUP(CONCATENATE(G$11,VLOOKUP($A$1,segéd!$I$1:$K$15,2,FALSE),$N15),Alap!$A:$B,2,FALSE),"") | H15: =IFERROR(VLOOKUP(CONCATENATE(H$11,VLOOKUP($A$1,segéd!$I$1:$K$15,2,FALSE),$N15),Alap!$A:$B,2,FALSE),"") | I15: =IFERROR(VLOOKUP(CONCATENATE(I$11,VLOOKUP($A$1,segéd!$I$1:$K$15,2,FALSE),$N15),Alap!$A:$B,2,FALSE),"") | ... M15: =IFERROR(VLOOKUP(CONCATENATE(M$11,VLOOKUP($A$1,segéd!$I$1:$K$15,2,FALSE),$N15),Alap!$A:$B,2,FALSE),"") | N15: 7

Sheet Tb.
A1: május 15-16. | E1: szombat
A2: sáv | B2: A/Nae. | C2: 2 | D2: 3 | E2: 6 | F2: 212 | G2: 213 | H2: 214 | I2: 215 | J2: 216 | K2: 217 | L2: 401 | M2: 402 | N2: 403 | O2: 404 | P2: 408 | Q2: 501 | R2: 601 | S2: 603 | T2: 604 | U2: 605 | V2: Passzív
A3: 8.00 - 9.30 | B3: =IFERROR(VLOOKUP(CONCATENATE(B$2,VLOOKUP($A$1,segéd!$I$1:$K$15,3,FALSE),$W3),Alap!$C:$D,2,FALSE),"") | C3: =IFERROR(VLOOKUP(CONCATENATE(C$2,VLOOKUP($A$1,segéd!$I$1:$K$15,3,FALSE),$W3),Alap!$C:$D,2,FALSE),"") | D3: =IFERROR(VLOOKUP(CONCATENATE(D$2,VLOOKUP($A$1,segéd!$I$1:$K$15,3,FALSE),$W3),Alap!$C:$D,2,FALSE),"") | E3: =IFERROR(VLOOKUP(CONCATENATE(E$2,VLOOKUP($A$1,segéd!$I$1:$K$15,3,FALSE),$W3),Alap!$C:$D,2,FALSE),"") | F3: =IFERROR(VLOOKUP(CONCATENATE(F$2,VLOOKUP($A$1,segéd!$I$1:$K$15,3,FALSE),$W3),Alap!$C:$D,2,FALSE),"") -> Pénzügyi alapismeretek (Tb.-ről web) 12 | G3: =IFERROR(VLOOKUP(CONCATENATE(G$2,VLOOKUP($A$1,segéd!$I$1:$K$15,3,FALSE),$W3),Alap!$C:$D,2,FALSE),"") | H3: =IFERROR(VLOOKUP(CONCATENATE(H$2,VLOOKUP($A$1,segéd!$I$1:$K$15,3,FALSE),$W3),Alap!$C:$D,2,FALSE),"") | I3: =IFERROR(VLOOKUP(CONCATENATE(I$2,VLOOKUP($A$1,segéd!$I$1:$K$15,3,FALSE),$W3),Alap!$C:$D,2,FALSE),"") -> Optikai- és látórendszerek (web) 77 | ... V3: =IFERROR(VLOOKUP(CONCATENATE(V$2,VLOOKUP($A$1,segéd!$I$1:$K$15,3,FALSE),$W3),Alap!$C:$D,2,FALSE),"") | W3: 1
A4: 9.45 - 11.15 | B4: =IFERROR(VLOOKUP(CONCATENATE(B$2,VLOOKUP($A$1,segéd!$I$1:$K$15,3,FALSE),$W4),Alap!$C:$D,2,FALSE),"") | C4: =IFERROR(VLOOKUP(CONCATENATE(C$2,VLOOKUP($A$1,segéd!$I$1:$K$15,3,FALSE),$W4),Alap!$C:$D,2,FALSE),"") | D4: =IFERROR(VLOOKUP(CONCATENATE(D$2,VLOOKUP($A$1,segéd!$I$1:$K$15,3,FALSE),$W4),Alap!$C:$D,2,FALSE),"") | E4: =IFERROR(VLOOKUP(CONCATENATE(E$2,VLOOKUP($A$1,segéd!$I$1:$K$15,3,FALSE),$W4),Alap!$C:$D,2,FALSE),"") | F4: =IFERROR(VLOOKUP(CONCATENATE(F$2,VLOOKUP($A$1,segéd!$I$1:$K$15,3,FALSE),$W4),Alap!$C:$D,2,FALSE),"") -> Pénzügyi alapismeretek (Tb.-ről web) 12 | G4: =IFERROR(VLOOKUP(CONCATENATE(G$2,VLOOKUP($A$1,segéd!$I$1:$K$15,3,FALSE),$W4),Alap!$C:$D,2,FALSE),"") | H4: =IFERROR(VLOOKUP(CONCATENATE(H$2,VLOOKUP($A$1,segéd!$I$1:$K$15,3,FALSE),$W4),Alap!$C:$D,2,FALSE),"") | I4: =IFERROR(VLOOKUP(CONCATENATE(I$2,VLOOKUP($A$1,segéd!$I$1:$K$15,3,FALSE),$W4),Alap!$C:$D,2,FALSE),"") -> Optikai- és látórendszerek (web) 77 | ... V4: =IFERROR(VLOOKUP(CONCATENATE(V$2,VLOOKUP($A$1,segéd!$I$1:$K$15,3,FALSE),$W4),Alap!$C:$D,2,FALSE),"") | W4: 2
A5: 11.30 - 13.00 | B5: =IFERROR(VLOOKUP(CONCATENATE(B$2,VLOOKUP($A$1,segéd!$I$1:$K$15,3,FALSE),$W5),Alap!$C:$D,2,FALSE),"") | C5: =IFERROR(VLOOKUP(CONCATENATE(C$2,VLOOKUP($A$1,segéd!$I$1:$K$15,3,FALSE),$W5),Alap!$C:$D,2,FALSE),"") | D5: =IFERROR(VLOOKUP(CONCATENATE(D$2,VLOOKUP($A$1,segéd!$I$1:$K$15,3,FALSE),$W5),Alap!$C:$D,2,FALSE),"") | E5: =IFERROR(VLOOKUP(CONCATENATE(E$2,VLOOKUP($A$1,segéd!$I$1:$K$15,3,FALSE),$W5),Alap!$C:$D,2,FALSE),"") | F5: =IFERROR(VLOOKUP(CONCATENATE(F$2,VLOOKUP($A$1,segéd!$I$1:$K$15,3,FALSE),$W5),Alap!$C:$D,2,FALSE),"") -> Pénzügyi alapismeretek (Tb.-ről web) 12 | G5: =IFERROR(VLOOKUP(CONCATENATE(G$2,VLOOKUP($A$1,segéd!$I$1:$K$15,3,FALSE),$W5),Alap!$C:$D,2,FALSE),"") | H5: =IFERROR(VLOOKUP(CONCATENATE(H$2,VLOOKUP($A$1,segéd!$I$1:$K$15,3,FALSE),$W5),Alap!$C:$D,2,FALSE),"") | I5: =IFERROR(VLOOKUP(CONCATENATE(I$2,VLOOKUP($A$1,segéd!$I$1:$K$15,3,FALSE),$W5),Alap!$C:$D,2,FALSE),"") | ... V5: =IFERROR(VLOOKUP(CONCATENATE(V$2,VLOOKUP($A$1,segéd!$I$1:$K$15,3,FALSE),$W5),Alap!$C:$D,2,FALSE),"") | W5: 3
A6: 13.30 - 15.00 | B6: =IFERROR(VLOOKUP(CONCATENATE(B$2,VLOOKUP($A$1,segéd!$I$1:$K$15,3,FALSE),$W6),Alap!$C:$D,2,FALSE),"") | C6: =IFERROR(VLOOKUP(CONCATENATE(C$2,VLOOKUP($A$1,segéd!$I$1:$K$15,3,FALSE),$W6),Alap!$C:$D,2,FALSE),"") | D6: =IFERROR(VLOOKUP(CONCATENATE(D$2,VLOOKUP($A$1,segéd!$I$1:$K$15,3,FALSE),$W6),Alap!$C:$D,2,FALSE),"") | E6: =IFERROR(VLOOKUP(CONCATENATE(E$2,VLOOKUP($A$1,segéd!$I$1:$K$15,3,FALSE),$W6),Alap!$C:$D,2,FALSE),"") | F6: =IFERROR(VLOOKUP(CONCATENATE(F$2,VLOOKUP($A$1,segéd!$I$1:$K$15,3,FALSE),$W6),Alap!$C:$D,2,FALSE),"") | G6: =IFERROR(VLOOKUP(CONCATENATE(G$2,VLOOKUP($A$1,segéd!$I$1:$K$15,3,FALSE),$W6),Alap!$C:$D,2,FALSE),"") -> Angol gazdasági szaknyelv II., 2. csop. 18 | H6: =IFERROR(VLOOKUP(CONCATENATE(H$2,VLOOKUP($A$1,segéd!$I$1:$K$15,3,FALSE),$W6),Alap!$C:$D,2,FALSE),"") | I6: =IFERROR(VLOOKUP(CONCATENATE(I$2,VLOOKUP($A$1,segéd!$I$1:$K$15,3,FALSE),$W6),Alap!$C:$D,2,FALSE),"") | ... V6: =IFERROR(VLOOKUP(CONCATENATE(V$2,VLOOKUP($A$1,segéd!$I$1:$K$15,3,FALSE),$W6),Alap!$C:$D,2,FALSE),"") | W6: 4
A7: 15.15 - 16.45 | B7: =IFERROR(VLOOKUP(CONCATENATE(B$2,VLOOKUP($A$1,segéd!$I$1:$K$15,3,FALSE),$W7),Alap!$C:$D,2,FALSE),"") | C7: =IFERROR(VLOOKUP(CONCATENATE(C$2,VLOOKUP($A$1,segéd!$I$1:$K$15,3,FALSE),$W7),Alap!$C:$D,2,FALSE),"") | D7: =IFERROR(VLOOKUP(CONCATENATE(D$2,VLOOKUP($A$1,segéd!$I$1:$K$15,3,FALSE),$W7),Alap!$C:$D,2,FALSE),"") | E7: =IFERROR(VLOOKUP(CONCATENATE(E$2,VLOOKUP($A$1,segéd!$I$1:$K$15,3,FALSE),$W7),Alap!$C:$D,2,FALSE),"") | F7: =IFERROR(VLOOKUP(CONCATENATE(F$2,VLOOKUP($A$1,segéd!$I$1:$K$15,3,FALSE),$W7),Alap!$C:$D,2,FALSE),"") | G7: =IFERROR(VLOOKUP(CONCATENATE(G$2,VLOOKUP($A$1,segéd!$I$1:$K$15,3,FALSE),$W7),Alap!$C:$D,2,FALSE),"") -> Angol gazdasági szaknyelv II., 2. csop. 18 | H7: =IFERROR(VLOOKUP(CONCATENATE(H$2,VLOOKUP($A$1,segéd!$I$1:$K$15,3,FALSE),$W7),Alap!$C:$D,2,FALSE),"") | I7: =IFERROR(VLOOKUP(CONCATENATE(I$2,VLOOKUP($A$1,segéd!$I$1:$K$15,3,FALSE),$W7),Alap!$C:$D,2,FALSE),"") | ... V7: =IFERROR(VLOOKUP(CONCATENATE(V$2,VLOOKUP($A$1,segéd!$I$1:$K$15,3,FALSE),$W7),Alap!$C:$D,2,FALSE),"") | W7: 5
A8: 17.00 - 18.30 | B8: =IFERROR(VLOOKUP(CONCATENATE(B$2,VLOOKUP($A$1,segéd!$I$1:$K$15,3,FALSE),$W8),Alap!$C:$D,2,FALSE),"") | C8: =IFERROR(VLOOKUP(CONCATENATE(C$2,VLOOKUP($A$1,segéd!$I$1:$K$15,3,FALSE),$W8),Alap!$C:$D,2,FALSE),"") | D8: =IFERROR(VLOOKUP(CONCATENATE(D$2,VLOOKUP($A$1,segéd!$I$1:$K$15,3,FALSE),$W8),Alap!$C:$D,2,FALSE),"") | E8: =IFERROR(VLOOKUP(CONCATENATE(E$2,VLOOKUP($A$1,segéd!$I$1:$K$15,3,FALSE),$W8),Alap!$C:$D,2,FALSE),"") | F8: =IFERROR(VLOOKUP(CONCATENATE(F$2,VLOOKUP($A$1,segéd!$I$1:$K$15,3,FALSE),$W8),Alap!$C:$D,2,FALSE),"") | G8: =IFERROR(VLOOKUP(CONCATENATE(G$2,VLOOKUP($A$1,segéd!$I$1:$K$15,3,FALSE),$W8),Alap!$C:$D,2,FALSE),"") | H8: =IFERROR(VLOOKUP(CONCATENATE(H$2,VLOOKUP($A$1,segéd!$I$1:$K$15,3,FALSE),$W8),Alap!$C:$D,2,FALSE),"") | I8: =IFERROR(VLOOKUP(CONCATENATE(I$2,VLOOKUP($A$1,segéd!$I$1:$K$15,3,FALSE),$W8),Alap!$C:$D,2,FALSE),"") | ... V8: =IFERROR(VLOOKUP(CONCATENATE(V$2,VLOOKUP($A$1,segéd!$I$1:$K$15,3,FALSE),$W8),Alap!$C:$D,2,FALSE),"") | W8: 6
A10: péntek
A11: sáv | B11: A/Nae. | C11: 2 | D11: 3 | E11: 6 | F11: 212 | G11: 213 | H11: 214 | I11: 215 | J11: 216 | K11: 217 | L11: 401 | M11: 402 | N11: 403 | O11: 404 | P11: 408 | Q11: 501 | R11: 601 | S11: 603 | T11: 604 | U11: 605 | V11: C ép.
A12: 13.30 - 15.00 | B12: =IFERROR(VLOOKUP(CONCATENATE(B$2,VLOOKUP($A$1,segéd!$I$1:$K$15,2,FALSE),$W12),Alap!$C:$D,2,FALSE),"") | C12: =IFERROR(VLOOKUP(CONCATENATE(C$2,VLOOKUP($A$1,segéd!$I$1:$K$15,2,FALSE),$W12),Alap!$C:$D,2,FALSE),"") | D12: =IFERROR(VLOOKUP(CONCATENATE(D$2,VLOOKUP($A$1,segéd!$I$1:$K$15,2,FALSE),$W12),Alap!$C:$D,2,FALSE),"") | E12: =IFERROR(VLOOKUP(CONCATENATE(E$2,VLOOKUP($A$1,segéd!$I$1:$K$15,2,FALSE),$W12),Alap!$C:$D,2,FALSE),"") | F12: =IFERROR(VLOOKUP(CONCATENATE(F$2,VLOOKUP($A$1,segéd!$I$1:$K$15,2,FALSE),$W12),Alap!$C:$D,2,FALSE),"") | G12: =IFERROR(VLOOKUP(CONCATENATE(G$2,VLOOKUP($A$1,segéd!$I$1:$K$15,2,FALSE),$W12),Alap!$C:$D,2,FALSE),"") | H12: =IFERROR(VLOOKUP(CONCATENATE(H$2,VLOOKUP($A$1,segéd!$I$1:$K$15,2,FALSE),$W12),Alap!$C:$D,2,FALSE),"") | I12: =IFERROR(VLOOKUP(CONCATENATE(I$2,VLOOKUP($A$1,segéd!$I$1:$K$15,2,FALSE),$W12),Alap!$C:$D,2,FALSE),"") | ... V12: =IFERROR(VLOOKUP(CONCATENATE(V$2,VLOOKUP($A$1,segéd!$I$1:$K$15,2,FALSE),$W12),Alap!$C:$D,2,FALSE),"") | W12: 4
A13: 15.15 - 16.45 | B13: =IFERROR(VLOOKUP(CONCATENATE(B$2,VLOOKUP($A$1,segéd!$I$1:$K$15,2,FALSE),$W13),Alap!$C:$D,2,FALSE),"") | C13: =IFERROR(VLOOKUP(CONCATENATE(C$2,VLOOKUP($A$1,segéd!$I$1:$K$15,2,FALSE),$W13),Alap!$C:$D,2,FALSE),"") | D13: =IFERROR(VLOOKUP(CONCATENATE(D$2,VLOOKUP($A$1,segéd!$I$1:$K$15,2,FALSE),$W13),Alap!$C:$D,2,FALSE),"") | E13: =IFERROR(VLOOKUP(CONCATENATE(E$2,VLOOKUP($A$1,segéd!$I$1:$K$15,2,FALSE),$W13),Alap!$C:$D,2,FALSE),"") | F13: =IFERROR(VLOOKUP(CONCATENATE(F$2,VLOOKUP($A$1,segéd!$I$1:$K$15,2,FALSE),$W13),Alap!$C:$D,2,FALSE),"") -> Közgazdaságtan I. (otthonról web) 41 | G13: =IFERROR(VLOOKUP(CONCATENATE(G$2,VLOOKUP($A$1,segéd!$I$1:$K$15,2,FALSE),$W13),Alap!$C:$D,2,FALSE),"") | H13: =IFERROR(VLOOKUP(CONCATENATE(H$2,VLOOKUP($A$1,segéd!$I$1:$K$15,2,FALSE),$W13),Alap!$C:$D,2,FALSE),"") | I13: =IFERROR(VLOOKUP(CONCATENATE(I$2,VLOOKUP($A$1,segéd!$I$1:$K$15,2,FALSE),$W13),Alap!$C:$D,2,FALSE),"") | ... V13: =IFERROR(VLOOKUP(CONCATENATE(V$2,VLOOKUP($A$1,segéd!$I$1:$K$15,2,FALSE),$W13),Alap!$C:$D,2,FALSE),"") | W13: 5
A14: 17.00 - 18.30 | B14: =IFERROR(VLOOKUP(CONCATENATE(B$2,VLOOKUP($A$1,segéd!$I$1:$K$15,2,FALSE),$W14),Alap!$C:$D,2,FALSE),"") | C14: =IFERROR(VLOOKUP(CONCATENATE(C$2,VLOOKUP($A$1,segéd!$I$1:$K$15,2,FALSE),$W14),Alap!$C:$D,2,FALSE),"") | D14: =IFERROR(VLOOKUP(CONCATENATE(D$2,VLOOKUP($A$1,segéd!$I$1:$K$15,2,FALSE),$W14),Alap!$C:$D,2,FALSE),"") | E14: =IFERROR(VLOOKUP(CONCATENATE(E$2,VLOOKUP($A$1,segéd!$I$1:$K$15,2,FALSE),$W14),Alap!$C:$D,2,FALSE),"") | F14: =IFERROR(VLOOKUP(CONCATENATE(F$2,VLOOKUP($A$1,segéd!$I$1:$K$15,2,FALSE),$W14),Alap!$C:$D,2,FALSE),"") -> Közgazdaságtan I. (otthonról web) 41 | G14: =IFERROR(VLOOKUP(CONCATENATE(G$2,VLOOKUP($A$1,segéd!$I$1:$K$15,2,FALSE),$W14),Alap!$C:$D,2,FALSE),"") | H14: =IFERROR(VLOOKUP(CONCATENATE(H$2,VLOOKUP($A$1,segéd!$I$1:$K$15,2,FALSE),$W14),Alap!$C:$D,2,FALSE),"") | I14: =IFERROR(VLOOKUP(CONCATENATE(I$2,VLOOKUP($A$1,segéd!$I$1:$K$15,2,FALSE),$W14),Alap!$C:$D,2,FALSE),"") | ... V14: =IFERROR(VLOOKUP(CONCATENATE(V$2,VLOOKUP($A$1,segéd!$I$1:$K$15,2,FALSE),$W14),Alap!$C:$D,2,FALSE),"") | W14: 6
A15: 18.45 - 20.15 | B15: =IFERROR(VLOOKUP(CONCATENATE(B$2,VLOOKUP($A$1,segéd!$I$1:$K$15,2,FALSE),$W15),Alap!$C:$D,2,FALSE),"") | C15: =IFERROR(VLOOKUP(CONCATENATE(C$2,VLOOKUP($A$1,segéd!$I$1:$K$15,2,FALSE),$W15),Alap!$C:$D,2,FALSE),"") | D15: =IFERROR(VLOOKUP(CONCATENATE(D$2,VLOOKUP($A$1,segéd!$I$1:$K$15,2,FALSE),$W15),Alap!$C:$D,2,FALSE),"") | E15: =IFERROR(VLOOKUP(CONCATENATE(E$2,VLOOKUP($A$1,segéd!$I$1:$K$15,2,FALSE),$W15),Alap!$C:$D,2,FALSE),"") | F15: =IFERROR(VLOOKUP(CONCATENATE(F$2,VLOOKUP($A$1,segéd!$I$1:$K$15,2,FALSE),$W15),Alap!$C:$D,2,FALSE),"") | G15: =IFERROR(VLOOKUP(CONCATENATE(G$2,VLOOKUP($A$1,segéd!$I$1:$K$15,2,FALSE),$W15),Alap!$C:$D,2,FALSE),"") | H15: =IFERROR(VLOOKUP(CONCATENATE(H$2,VLOOKUP($A$1,segéd!$I$1:$K$15,2,FALSE),$W15),Alap!$C:$D,2,FALSE),"") | I15: =IFERROR(VLOOKUP(CONCATENATE(I$2,VLOOKUP($A$1,segéd!$I$1:$K$15,2,FALSE),$W15),Alap!$C:$D,2,FALSE),"") | ... V15: =IFERROR(VLOOKUP(CONCATENATE(V$2,VLOOKUP($A$1,segéd!$I$1:$K$15,2,FALSE),$W15),Alap!$C:$D,2,FALSE),"") | W15: 7

Sheet Útmutató
A1: Az órarendi adatok januártól a Neptun tanulmányi rendszerből is elérhetőek!
A3: Felhasználói útmutató a levelezős órarendi Excel használatához
A4: Bármilyen kérdése van az órarendi Excellel kapcsolatban, keresse Kovács Gergelyt a kovacs.gergely@edutus.hu elérhetőségen.
A6: Útmutató oktatóknak:
A7: 1. Az Oktató munkalapon a bal felső piros cellában a legördülő menüből válassza ki a nevét (előfordulhat, hogy ehhez a szerkeszthetőséget engedélyezni kell).
A8: Ezek után a táblázatban megjelennek az órák, felül a szombatok, alatta egy külön táblázatban a péntekek.
A9: 2. Ha egy tárgyról részletes adatokat szeretne, az Alap munkalapon a tárgy nevére, vagy az oktató nevére szűrve láthatja a saját óráit.
A10: A "terem Bp.", illetve a "terem Tb." oszlopok töltöttsége jelzi azt, hogy az óra Budapesten vagy Tatabányán van.
A11: Ha egy sorban több helyszín rovata is töltött, akkor az óra webináriummal egyszerre több helyszínen zajlik, az oktató a Megjegyzés rovatban jelzett helyszínen jelenik meg.
A13: Útmutató hallgatóknak:
A14: 1. Egy adott szak és évfolyama óráinak megjelenítése.
A15: Az alábbi táblázatban keresse ki az adott évfolyam rövidítését, majd keresse meg az adott rövidítéshez tartozó munkalapot. A pénteki órák a szombati órák alatti táblázatban találhatóak.
... A22: Az órarend és a terembeosztás év közben sűrűn változhat, érdemes ellenőrizni!
A24: kód | B24: helyszín, évfolyam, szak, szakirány
A25: B1 | B25: Budapest, 1. év, gazdálkodási és menedzsment, illetve kereskedelem és marketing alapképzés
A26: 1T | B26: Budapest, 1. év, turizmus-vendéglátás alapképzés
A27: FK | B27: Budapest, 1. év, kereskedelem és marketing FOKSZ
A28: BM | B28: Budapest, 1. év, marketing mesterképzés
A29: E | B29: Budapest, 1. év, ellátásilánc-menedzsment mesterképzés
A30: K | B30: Budapest, 1. év, körforgásos gazdaság menedzsment mesterképzés
A31: T1 | B31: Tatabánya, 1. év, gazdálkodási és menedzsment, illetve kereskedelem és marketing alapképzés
A32: FM | B32: Tatabánya, 1. év, műszaki FOKSZ
A33: 1Mű | B33: Tatabánya, 1. év, műszaki menedzser alapképzés
A34: 1Me | B34: Tatabánya, 1. év, mechatronikai mérnök alapképzés
A35: TM | B35: Tatabánya, 1. év, műszaki menedzser mesterképzés
... A66: MR | B66: Tatabánya, 3. év, mechatronikai mérnök alapképzés, robotika és dróntechnológia szakirány

Sheet Alap
BF1: terem | BG1: terem | BJ1: létsz. | BK1: Bp. | BL1: Tb. | BM1: B1 | BN1: 1T | BO1: FK | BP1: BM | BQ1: E | BR1: K | BS1: B2GI | BT1: B2GK | BU1: B2GN | BV1: B2KL | BW1: B2KM | BX1: B2KN | BY1: 2T | BZ1: B3GI | CA1: B3GN | CB1: B3KL | CC1: B3KM | CD1: B3KN | CE1: T1 | CF1: FM | CG1: 1Mű | CH1: 1Me | CI1: TM | CJ1: T2GI | CK1: TGK | CL1: T2GN | CM1: T2KL | CN1: T2KM | CO1: T2KN | CP1: 2Mű | CQ1: 2Me | CR1: T3GI | CS1: T3GN | CT1: T3KL | CU1: T3KM | CV1: T3KN | CW1: MF | CX1: MűL | CY1: MM | CZ1: MK | DA1: MeL | DB1: MR
A2: Teremhez | B2: Terem | C2: Tbteremhez | D2: TB terem | E2: Oktatóhoz | F2: Oktató | G2: B1 | H2: 1T | I2: FK | J2: BM | K2: E | L2: K | M2: B2GI | N2: BGK | O2: B2GN | P2: B2KL | Q2: B2KM | R2: B2KN | S2: 2T | T2: B3GI | U2: B3GN | V2: B3KL | W2: B3KM | X2: B3KN | Y2: Hallgató Budapest | Z2: T1 | AA2: FM | AB2: 1Mű | AC2: 1Me | AD2: TM | AE2: T2GI | AF2: TGK | AG2: T2GN | AH2: T2KL | AI2: TKM | AJ2: T2KN | AK2: 2Mű | AL2: 2Me | AM2: T3GI | AN2: T3GN | AO2: T3KL | AP2: T3KM | AQ2: T3KN | AR2: MF | AS2: MűL | AT2: MM | AU2: MK | AV2: MeL | AW2: MR | AX2: Hallgató Tatabánya | AY2: 100 | AZ2: Sáv0 | BA2: Dátum | BB2: Időtartam | BC2: Tárgy | BD2: Oktató | BE2: Képzés | BF2: Bp. | BG2: Tb. | BH2: Megjegyzés | BI2: weblink | BM2: 62 | BN2: 14 | BO2: 13 | BP2: 8 | BQ2: 12 | BR2: 11 | BS2: 6 | BT2: 8 | BU2: 9 | BV2: 8 | BW2: 13 | BX2: 2 | BY2: 6 | BZ2: 12 | CA2: 7 | CB2: 5 | CC2: 8 | CD2: 3 | CE2: 74 | CF2: 19 | CG2: 59 | CH2: 57 | CI2: 7 | CJ2: 4 | CK2: 10 | CL2: 10 | CM2: 5 | CN2: 2 | CO2: 4 | CP2: 52 | CQ2: 59 | CR2: 21 | CS2: 17 | CT2: 6 | CU2: 6 | CV2: 7 | CW2: 16 | CX2: 8 | CY2: 13 | CZ2: 9 | DA2: 13 | DB2: 34
A3: =CONCATENATE(BF3,AY3,AZ3) -> 2066 | B3: =CONCATENATE(BC3,IF(BH3="","",CONCATENATE(" (",BH3,")"))," ",BK3) -> Fizikai alapismeretek (web) | C3: =CONCATENATE(BG3,AY3,AZ3) -> 2152066 | D3: =CONCATENATE(BC3,IF(BH3="","",CONCATENATE(" (",BH3,")"))," ",BL3) -> Fizikai alapismeretek (web) 26 | E3: =CONCATENATE(BD3,AY3,AZ3) -> Lábszki József2066 | F3: =CONCATENATE(BC3," (",IF(OR(BF3="",BH3="Tb.-ről web",BH3="gépterem, Tb.-ről web"),"",CONCATENATE("Bp. ",BF3)),IF(OR(BG3="",BH3="Bp.-ről web",BH3="gépterem, Bp.-ről web"),"",CONCATENATE("Tb. ",BG3)),IF(BH3="","",CONCATENATE(", ",BH3)),")") -> Fizikai alapismeretek (Tb. 215, web) | G3: =IF(BM3="","",CONCATENATE($AY3,$AZ3)) | H3: =IF(BN3="","",CONCATENATE($AY3,$AZ3)) | I3: =IF(BO3="","",CONCATENATE($AY3,$AZ3)) | J3: =IF(BP3="","",CONCATENATE($AY3,$AZ3)) | K3: =IF(BQ3="","",CONCATENATE($AY3,$AZ3)) | L3: =IF(BR3="","",CONCATENATE($AY3,$AZ3)) | M3: =IF(BS3="","",CONCATENATE($AY3,$AZ3)) | N3: =IF(BT3="","",CONCATENATE($AY3,$AZ3)) | ... X3: =IF(CD3="","",CONCATENATE($AY3,$AZ3)) | Y3: =CONCATENATE(BC3," (",BF3,IF(BH3="","",CONCATENATE(", ",BH3)),")") -> Fizikai alapismeretek (, web) | Z3: =IF(CE3="","",CONCATENATE($AY3,$AZ3)) | AA3: =IF(CF3="","",CONCATENATE($AY3,$AZ3)) | AB3: =IF(CG3="","",CONCATENATE($AY3,$AZ3)) -> 2066 | AC3: =IF(CH3="","",CONCATENATE($AY3,$AZ3)) -> 2066 | AD3: =IF(CI3="","",CONCATENATE($AY3,$AZ3)) | AE3: =IF(CJ3="","",CONCATENATE($AY3,$AZ3)) | AF3: =IF(CK3="","",CONCATENATE($AY3,$AZ3)) | AG3: =IF(CL3="","",CONCATENATE($AY3,$AZ3)) | ... AW3: =IF(DB3="","",CONCATENATE($AY3,$AZ3)) | AX3: =CONCATENATE(BC3," (",BG3,IF(BH3="","",CONCATENATE(", ",BH3)),")") -> Fizikai alapismeretek (215, web) | AY3: 206 | AZ3: 6 | BA3: =VLOOKUP(AY3,segéd!$F$9:$G$38,2,FALSE) -> 46059 | BB3: =VLOOKUP(AZ3,segéd!$F$1:$G$7,2,FALSE) -> 17.00-18.30 | BC3: Fizikai alapismeretek | BD3: Lábszki József | BE3: tatabányai alapképzés | BG3: 215 | BH3: web | BI3: https://teams.microsoft.com/meet/38884420113875?p=kqhPHzNg3Vrcj0rU2U | BJ3: =SUM(BK3:BL3) -> 26 | BK3: =IF(BF3="","",VLOOKUP(BC3,segéd!O:P,2,FALSE)) | BL3: =IF(BG3="","",VLOOKUP(BC3,segéd!T:U,2,FALSE)) -> 26 | CG3: 19 | CH3: 19
A4: =CONCATENATE(BF4,AY4,AZ4) -> otthon2066 | B4: =CONCATENATE(BC4,IF(BH4="","",CONCATENATE(" (",BH4,")"))," ",BK4) -> Nyelvi záróvizsga felkészítő (otthonról web) 14 | C4: =CONCATENATE(BG4,AY4,AZ4) -> otthon2066 | D4: =CONCATENATE(BC4,IF(BH4="","",CONCATENATE(" (",BH4,")"))," ",BL4) -> Nyelvi záróvizsga felkészítő (otthonról web) 15 | E4: =CONCATENATE(BD4,AY4,AZ4) -> Balog Mónika2066 | F4: =CONCATENATE(BC4," (",IF(OR(BF4="",BH4="Tb.-ről web",BH4="gépterem, Tb.-ről web"),"",CONCATENATE("Bp. ",BF4)),IF(OR(BG4="",BH4="Bp.-ről web",BH4="gépterem, Bp.-ről web"),"",CONCATENATE("Tb. ",BG4)),IF(BH4="","",CONCATENATE(", ",BH4)),")") -> Nyelvi záróvizsga felkészítő (Bp. otthonTb. otthon, otthonról web) | G4: =IF(BM4="","",CONCATENATE($AY4,$AZ4)) | H4: =IF(BN4="","",CONCATENATE($AY4,$AZ4)) | I4: =IF(BO4="","",CONCATENATE($AY4,$AZ4)) | J4: =IF(BP4="","",CONCATENATE($AY4,$AZ4)) | K4: =IF(BQ4="","",CONCATENATE($AY4,$AZ4)) | L4: =IF(BR4="","",CONCATENATE($AY4,$AZ4)) | M4: =IF(BS4="","",CONCATENATE($AY4,$AZ4)) | N4: =IF(BT4="","",CONCATENATE($AY4,$AZ4)) | ... X4: =IF(CD4="","",CONCATENATE($AY4,$AZ4)) -> 2066 | Y4: =CONCATENATE(BC4," (",BF4,IF(BH4="","",CONCATENATE(", ",BH4)),")") -> Nyelvi záróvizsga felkészítő (otthon, otthonról web) | Z4: =IF(CE4="","",CONCATENATE($AY4,$AZ4)) | AA4: =IF(CF4="","",CONCATENATE($AY4,$AZ4)) | AB4: =IF(CG4="","",CONCATENATE($AY4,$AZ4)) | AC4: =IF(CH4="","",CONCATENATE($AY4,$AZ4)) | AD4: =IF(CI4="","",CONCATENATE($AY4,$AZ4)) | AE4: =IF(CJ4="","",CONCATENATE($AY4,$AZ4)) | AF4: =IF(CK4="","",CONCATENATE($AY4,$AZ4)) | AG4: =IF(CL4="","",CONCATENATE($AY4,$AZ4)) | ... AW4: =IF(DB4="","",CONCATENATE($AY4,$AZ4)) | AX4: =CONCATENATE(BC4," (",BG4,IF(BH4="","",CONCATENATE(", ",BH4)),")") -> Nyelvi záróvizsga felkészítő (otthon, otthonról web) | AY4: 206 | AZ4: 6 | BA4: =VLOOKUP(AY4,segéd!$F$9:$G$38,2,FALSE) -> 46059 | BB4: =VLOOKUP(AZ4,segéd!$F$1:$G$7,2,FALSE) -> 17.00-18.30 | BC4: Nyelvi záróvizsga felkészítő | BD4: Balog Mónika | BE4: tatabányai, budapesti alapképzés | BF4: otthon | BG4: otthon | BH4: otthonról web | BI4: https://teams.microsoft.com/meet/35103025080337?p=O7yyTm98fHreYyYir0 | BJ4: =SUM(BK4:BL4) -> 29 | BK4: =IF(BF4="","",VLOOKUP(BC4,segéd!O:P,2,FALSE)) -> 14 | BL4: =IF(BG4="","",VLOOKUP(BC4,segéd!T:U,2,FALSE)) -> 15 | BZ4: 1 | CA4: 1 | CB4: 1 | CC4: 1 | CD4: 1 | CR4: 1 | CS4: 1 | CT4: 1 | CU4: 1 | CV4: 1
A5: =CONCATENATE(BF5,AY5,AZ5) -> 2067 | B5: =CONCATENATE(BC5,IF(BH5="","",CONCATENATE(" (",BH5,")"))," ",BK5) -> Fizikai alapismeretek (19.30-ig, web) | C5: =CONCATENATE(BG5,AY5,AZ5) -> 2152067 | D5: =CONCATENATE(BC5,IF(BH5="","",CONCATENATE(" (",BH5,")"))," ",BL5) -> Fizikai alapismeretek (19.30-ig, web) 26 | E5: =CONCATENATE(BD5,AY5,AZ5) -> Lábszki József2067 | F5: =CONCATENATE(BC5," (",IF(OR(BF5="",BH5="Tb.-ről web",BH5="gépterem, Tb.-ről web"),"",CONCATENATE("Bp. ",BF5)),IF(OR(BG5="",BH5="Bp.-ről web",BH5="gépterem, Bp.-ről web"),"",CONCATENATE("Tb. ",BG5)),IF(BH5="","",CONCATENATE(", ",BH5)),")") -> Fizikai alapismeretek (Tb. 215, 19.30-ig, web) | G5: =IF(BM5="","",CONCATENATE($AY5,$AZ5)) | H5: =IF(BN5="","",CONCATENATE($AY5,$AZ5)) | I5: =IF(BO5="","",CONCATENATE($AY5,$AZ5)) | J5: =IF(BP5="","",CONCATENATE($AY5,$AZ5)) | K5: =IF(BQ5="","",CONCATENATE($AY5,$AZ5)) | L5: =IF(BR5="","",CONCATENATE($AY5,$AZ5)) | M5: =IF(BS5="","",CONCATENATE($AY5,$AZ5)) | N5: =IF(BT5="","",CONCATENATE($AY5,$AZ5)) | ... X5: =IF(CD5="","",CONCATENATE($AY5,$AZ5)) | Y5: =CONCATENATE(BC5," (",BF5,IF(BH5="","",CONCATENATE(", ",BH5)),")") -> Fizikai alapismeretek (, 19.30-ig, web) | Z5: =IF(CE5="","",CONCATENATE($AY5,$AZ5)) | AA5: =IF(CF5="","",CONCATENATE($AY5,$AZ5)) | AB5: =IF(CG5="","",CONCATENATE($AY5,$AZ5)) -> 2067 | AC5: =IF(CH5="","",CONCATENATE($AY5,$AZ5)) -> 2067 | AD5: =IF(CI5="","",CONCATENATE($AY5,$AZ5)) | AE5: =IF(CJ5="","",CONCATENATE($AY5,$AZ5)) | AF5: =IF(CK5="","",CONCATENATE($AY5,$AZ5)) | AG5: =IF(CL5="","",CONCATENATE($AY5,$AZ5)) | ... AW5: =IF(DB5="","",CONCATENATE($AY5,$AZ5)) | AX5: =CONCATENATE(BC5," (",BG5,IF(BH5="","",CONCATENATE(", ",BH5)),")") -> Fizikai alapismeretek (215, 19.30-ig, web) | AY5: 206 | AZ5: 7 | BA5: =VLOOKUP(AY5,segéd!$F$9:$G$38,2,FALSE) -> 46059 | BB5: 18.45-19.30 | BC5: Fizikai alapismeretek | BD5: Lábszki József | BE5: tatabányai alapképzés | BG5: 215 | BH5: 19.30-ig, web | BI5: https://teams.microsoft.com/meet/38884420113875?p=kqhPHzNg3Vrcj0rU2U | BJ5: =SUM(BK5:BL5) -> 26 | BK5: =IF(BF5="","",VLOOKUP(BC5,segéd!O:P,2,FALSE)) | BL5: =IF(BG5="","",VLOOKUP(BC5,segéd!T:U,2,FALSE)) -> 26 | CG5: 19 | CH5: 19
A6: =CONCATENATE(BF6,AY6,AZ6) -> otthon2067 | B6: =CONCATENATE(BC6,IF(BH6="","",CONCATENATE(" (",BH6,")"))," ",BK6) -> Nyelvi záróvizsga felkészítő (otthonról web) 14 | C6: =CONCATENATE(BG6,AY6,AZ6) -> otthon2067 | D6: =CONCATENATE(BC6,IF(BH6="","",CONCATENATE(" (",BH6,")"))," ",BL6) -> Nyelvi záróvizsga felkészítő (otthonról web) 15 | E6: =CONCATENATE(BD6,AY6,AZ6) -> Balog Mónika2067 | F6: =CONCATENATE(BC6," (",IF(OR(BF6="",BH6="Tb.-ről web",BH6="gépterem, Tb.-ről web"),"",CONCATENATE("Bp. ",BF6)),IF(OR(BG6="",BH6="Bp.-ről web",BH6="gépterem, Bp.-ről web"),"",CONCATENATE("Tb. ",BG6)),IF(BH6="","",CONCATENATE(", ",BH6)),")") -> Nyelvi záróvizsga felkészítő (Bp. otthonTb. otthon, otthonról web) | G6: =IF(BM6="","",CONCATENATE($AY6,$AZ6)) | H6: =IF(BN6="","",CONCATENATE($AY6,$AZ6)) | I6: =IF(BO6="","",CONCATENATE($AY6,$AZ6)) | J6: =IF(BP6="","",CONCATENATE($AY6,$AZ6)) | K6: =IF(BQ6="","",CONCATENATE($AY6,$AZ6)) | L6: =IF(BR6="","",CONCATENATE($AY6,$AZ6)) | M6: =IF(BS6="","",CONCATENATE($AY6,$AZ6)) | N6: =IF(BT6="","",CONCATENATE($AY6,$AZ6)) | ... X6: =IF(CD6="","",CONCATENATE($AY6,$AZ6)) -> 2067 | Y6: =CONCATENATE(BC6," (",BF6,IF(BH6="","",CONCATENATE(", ",BH6)),")") -> Nyelvi záróvizsga felkészítő (otthon, otthonról web) | Z6: =IF(CE6="","",CONCATENATE($AY6,$AZ6)) | AA6: =IF(CF6="","",CONCATENATE($AY6,$AZ6)) | AB6: =IF(CG6="","",CONCATENATE($AY6,$AZ6)) | AC6: =IF(CH6="","",CONCATENATE($AY6,$AZ6)) | AD6: =IF(CI6="","",CONCATENATE($AY6,$AZ6)) | AE6: =IF(CJ6="","",CONCATENATE($AY6,$AZ6)) | AF6: =IF(CK6="","",CONCATENATE($AY6,$AZ6)) | AG6: =IF(CL6="","",CONCATENATE($AY6,$AZ6)) | ... AW6: =IF(DB6="","",CONCATENATE($AY6,$AZ6)) | AX6: =CONCATENATE(BC6," (",BG6,IF(BH6="","",CONCATENATE(", ",BH6)),")") -> Nyelvi záróvizsga felkészítő (otthon, otthonról web) | AY6: 206 | AZ6: 7 | BA6: =VLOOKUP(AY6,segéd!$F$9:$G$38,2,FALSE) -> 46059 | BB6: =VLOOKUP(AZ6,segéd!$F$1:$G$7,2,FALSE) -> 18.45-20.15 | BC6: Nyelvi záróvizsga felkészítő | BD6: Balog Mónika | BE6: tatabányai, budapesti alapképzés | BF6: otthon | BG6: otthon | BH6: otthonról web | BI6: https://teams.microsoft.com/meet/35103025080337?p=O7yyTm98fHreYyYir0 | BJ6: =SUM(BK6:BL6) -> 29 | BK6: =IF(BF6="","",VLOOKUP(BC6,segéd!O:P,2,FALSE)) -> 14 | BL6: =IF(BG6="","",VLOOKUP(BC6,segéd!T:U,2,FALSE)) -> 15 | BZ6: 1 | CA6: 1 | CB6: 1 | CC6: 1 | CD6: 1 | CR6: 1 | CS6: 1 | CT6: 1 | CU6: 1 | CV6: 1
A7: =CONCATENATE(BF7,AY7,AZ7) -> 2142071 | B7: =CONCATENATE(BC7,IF(BH7="","",CONCATENATE(" (",BH7,")"))," ",BK7) -> Aktuális nemzetközi gazd. tr. (szv.) (Bp.-ről web) 20 | C7: =CONCATENATE(BG7,AY7,AZ7) -> 2172071 | D7: =CONCATENATE(BC7,IF(BH7="","",CONCATENATE(" (",BH7,")"))," ",BL7) -> Aktuális nemzetközi gazd. tr. (szv.) (Bp.-ről web) 18 | E7: =CONCATENATE(BD7,AY7,AZ7) -> Buda Lorina2071 | F7: =CONCATENATE(BC7," (",IF(OR(BF7="",BH7="Tb.-ről web",BH7="gépterem, Tb.-ről web"),"",CONCATENATE("Bp. ",BF7)),IF(OR(BG7="",BH7="Bp.-ről web",BH7="gépterem, Bp.-ről web"),"",CONCATENATE("Tb. ",BG7)),IF(BH7="","",CONCATENATE(", ",BH7)),")") -> Aktuális nemzetközi gazd. tr. (szv.) (Bp. 214, Bp.-ről web) | G7: =IF(BM7="","",CONCATENATE($AY7,$AZ7)) | H7: =IF(BN7="","",CONCATENATE($AY7,$AZ7)) | I7: =IF(BO7="","",CONCATENATE($AY7,$AZ7)) | J7: =IF(BP7="","",CONCATENATE($AY7,$AZ7)) | K7: =IF(BQ7="","",CONCATENATE($AY7,$AZ7)) | L7: =IF(BR7="","",CONCATENATE($AY7,$AZ7)) | M7: =IF(BS7="","",CONCATENATE($AY7,$AZ7)) | N7: =IF(BT7="","",CONCATENATE($AY7,$AZ7)) | ... X7: =IF(CD7="","",CONCATENATE($AY7,$AZ7)) -> 2071 | Y7: =CONCATENATE(BC7," (",BF7,IF(BH7="","",CONCATENATE(", ",BH7)),")") -> Aktuális nemzetközi gazd. tr. (szv.) (214, Bp.-ről web) | Z7: =IF(CE7="","",CONCATENATE($AY7,$AZ7)) | AA7: =IF(CF7="","",CONCATENATE($AY7,$AZ7)) | AB7: =IF(CG7="","",CONCATENATE($AY7,$AZ7)) | AC7: =IF(CH7="","",CONCATENATE($AY7,$AZ7)) | AD7: =IF(CI7="","",CONCATENATE($AY7,$AZ7)) | AE7: =IF(CJ7="","",CONCATENATE($AY7,$AZ7)) | AF7: =IF(CK7="","",CONCATENATE($AY7,$AZ7)) | AG7: =IF(CL7="","",CONCATENATE($AY7,$AZ7)) | ... AW7: =IF(DB7="","",CONCATENATE($AY7,$AZ7)) | AX7: =CONCATENATE(BC7," (",BG7,IF(BH7="","",CONCATENATE(", ",BH7)),")") -> Aktuális nemzetközi gazd. tr. (szv.) (217, Bp.-ről web) | AY7: 207 | AZ7: 1 | BA7: =VLOOKUP(AY7,segéd!$F$9:$G$38,2,FALSE) -> 46060 | BB7: =VLOOKUP(AZ7,segéd!$F$1:$G$7,2,FALSE) -> 8.00-9.30 | BC7: Aktuális nemzetközi gazd. tr. (szv.) | BD7: Buda Lorina | BE7: tatabányai, budapesti alapképzés | BF7: 214 | BG7: 217 | BH7: Bp.-ről web | BI7: https://teams.microsoft.com/meet/32681884326829?p=JIyWx3sXEtI5hTncQR | BJ7: =SUM(BK7:BL7) -> 38 | BK7: =IF(BF7="","",VLOOKUP(BC7,segéd!O:P,2,FALSE)) -> 20 | BL7: =IF(BG7="","",VLOOKUP(BC7,segéd!T:U,2,FALSE)) -> 18 | BZ7: 6 | CA7: 3 | CB7: 2 | CC7: 4 | CD7: 1 | CR7: 10 | CS7: 8 | CT7: 3 | CU7: 3 | CV7: 3
A8: =CONCATENATE(BF8,AY8,AZ8) -> 2071 | B8: =CONCATENATE(BC8,IF(BH8="","",CONCATENATE(" (",BH8,")"))," ",BK8) -> Az elektrotechnika alapjai (web) | C8: =CONCATENATE(BG8,AY8,AZ8) -> 62071 | D8: =CONCATENATE(BC8,IF(BH8="","",CONCATENATE(" (",BH8,")"))," ",BL8) -> Az elektrotechnika alapjai (web) 4 | E8: =CONCATENATE(BD8,AY8,AZ8) -> Varga István2071 | F8: =CONCATENATE(BC8," (",IF(OR(BF8="",BH8="Tb.-ről web",BH8="gépterem, Tb.-ről web"),"",CONCATENATE("Bp. ",BF8)),IF(OR(BG8="",BH8="Bp.-ről web",BH8="gépterem, Bp.-ről web"),"",CONCATENATE("Tb. ",BG8)),IF(BH8="","",CONCATENATE(", ",BH8)),")") -> Az elektrotechnika alapjai (Tb. 6, web) | G8: =IF(BM8="","",CONCATENATE($AY8,$AZ8)) | H8: =IF(BN8="","",CONCATENATE($AY8,$AZ8)) | I8: =IF(BO8="","",CONCATENATE($AY8,$AZ8)) | J8: =IF(BP8="","",CONCATENATE($AY8,$AZ8)) | K8: =IF(BQ8="","",CONCATENATE($AY8,$AZ8)) | L8: =IF(BR8="","",CONCATENATE($AY8,$AZ8)) | M8: =IF(BS8="","",CONCATENATE($AY8,$AZ8)) | N8: =IF(BT8="","",CONCATENATE($AY8,$AZ8)) | ... X8: =IF(CD8="","",CONCATENATE($AY8,$AZ8)) | Y8: =CONCATENATE(BC8," (",BF8,IF(BH8="","",CONCATENATE(", ",BH8)),")") -> Az elektrotechnika alapjai (, web) | Z8: =IF(CE8="","",CONCATENATE($AY8,$AZ8)) | AA8: =IF(CF8="","",CONCATENATE($AY8,$AZ8)) -> 2071 | AB8: =IF(CG8="","",CONCATENATE($AY8,$AZ8)) | AC8: =IF(CH8="","",CONCATENATE($AY8,$AZ8)) | AD8: =IF(CI8="","",CONCATENATE($AY8,$AZ8)) | AE8: =IF(CJ8="","",CONCATENATE($AY8,$AZ8)) | AF8: =IF(CK8="","",CONCATENATE($AY8,$AZ8)) | AG8: =IF(CL8="","",CONCATENATE($AY8,$AZ8)) | ... AW8: =IF(DB8="","",CONCATENATE($AY8,$AZ8)) | AX8: =CONCATENATE(BC8," (",BG8,IF(BH8="","",CONCATENATE(", ",BH8)),")") -> Az elektrotechnika alapjai (6, web) | AY8: 207 | AZ8: 1 | BA8: =VLOOKUP(AY8,segéd!$F$9:$G$38,2,FALSE) -> 46060 | BB8: =VLOOKUP(AZ8,segéd!$F$1:$G$7,2,FALSE) -> 8.00-9.30 | BC8: Az elektrotechnika alapjai | BD8: Varga István | BE8: tatabányai FOKSZ | BG8: 6 | BH8: web | BI8: https://teams.microsoft.com/meet/34716540307507?p=pqUNhuEQnhCC2rjxVw | BJ8: =SUM(BK8:BL8) -> 4 | BK8: =IF(BF8="","",VLOOKUP(BC8,segéd!O:P,2,FALSE)) | BL8: =IF(BG8="","",VLOOKUP(BC8,segéd!T:U,2,FALSE)) -> 4 | CF8: 19
A9: =CONCATENATE(BF9,AY9,AZ9) -> 2172071 | B9: =CONCATENATE(BC9,IF(BH9="","",CONCATENATE(" (",BH9,")"))," ",BK9) -> Marketing stratégia és tervezés (web) 8 | C9: =CONCATENATE(BG9,AY9,AZ9) -> 2071 | D9: =CONCATENATE(BC9,IF(BH9="","",CONCATENATE(" (",BH9,")"))," ",BL9) -> Marketing stratégia és tervezés (web) | E9: =CONCATENATE(BD9,AY9,AZ9) -> Rózsa Zoltán2071 | F9: =CONCATENATE(BC9," (",IF(OR(BF9="",BH9="Tb.-ről web",BH9="gépterem, Tb.-ről web"),"",CONCATENATE("Bp. ",BF9)),IF(OR(BG9="",BH9="Bp.-ről web",BH9="gépterem, Bp.-ről web"),"",CONCATENATE("Tb. ",BG9)),IF(BH9="","",CONCATENATE(", ",BH9)),")") -> Marketing stratégia és tervezés (Bp. 217, web) | G9: =IF(BM9="","",CONCATENATE($AY9,$AZ9)) | H9: =IF(BN9="","",CONCATENATE($AY9,$AZ9)) | I9: =IF(BO9="","",CONCATENATE($AY9,$AZ9)) | J9: =IF(BP9="","",CONCATENATE($AY9,$AZ9)) | K9: =IF(BQ9="","",CONCATENATE($AY9,$AZ9)) | L9: =IF(BR9="","",CONCATENATE($AY9,$AZ9)) -> 2071 | M9: =IF(BS9="","",CONCATENATE($AY9,$AZ9)) | N9: =IF(BT9="","",CONCATENATE($AY9,$AZ9)) | ... X9: =IF(CD9="","",CONCATENATE($AY9,$AZ9)) | Y9: =CONCATENATE(BC9," (",BF9,IF(BH9="","",CONCATENATE(", ",BH9)),")") -> Marketing stratégia és tervezés (217, web) | Z9: =IF(CE9="","",CONCATENATE($AY9,$AZ9)) | AA9: =IF(CF9="","",CONCATENATE($AY9,$AZ9)) | AB9: =IF(CG9="","",CONCATENATE($AY9,$AZ9)) | AC9: =IF(CH9="","",CONCATENATE($AY9,$AZ9)) | AD9: =IF(CI9="","",CONCATENATE($AY9,$AZ9)) | AE9: =IF(CJ9="","",CONCATENATE($AY9,$AZ9)) | AF9: =IF(CK9="","",CONCATENATE($AY9,$AZ9)) | AG9: =IF(CL9="","",CONCATENATE($AY9,$AZ9)) | ... AW9: =IF(DB9="","",CONCATENATE($AY9,$AZ9)) | AX9: =CONCATENATE(BC9," (",BG9,IF(BH9="","",CONCATENATE(", ",BH9)),")") -> Marketing stratégia és tervezés (, web) | AY9: 207 | AZ9: 1 | BA9: =VLOOKUP(AY9,segéd!$F$9:$G$38,2,FALSE) -> 46060 | BB9: =VLOOKUP(AZ9,segéd!$F$1:$G$7,2,FALSE) -> 8.00-9.30 | BC9: Marketing stratégia és tervezés | BD9: Rózsa Zoltán | BE9: budapesti mesterképzés | BF9: 217 | BH9: web | BI9: https://teams.microsoft.com/meet/35980685106029?p=dYv64NSSHwSOGW8jxz | BJ9: =SUM(BK9:BL9) -> 8 | BK9: =IF(BF9="","",VLOOKUP(BC9,segéd!O:P,2,FALSE)) -> 8 | BL9: =IF(BG9="","",VLOOKUP(BC9,segéd!T:U,2,FALSE)) | BR9: 9
A10: =CONCATENATE(BF10,AY10,AZ10) -> 2071 | B10: =CONCATENATE(BC10,IF(BH10="","",CONCATENATE(" (",BH10,")"))," ",BK10) -> Mechatronika alapjai (gépterem, web) | C10: =CONCATENATE(BG10,AY10,AZ10) -> 6042071 | D10: =CONCATENATE(BC10,IF(BH10="","",CONCATENATE(" (",BH10,")"))," ",BL10) -> Mechatronika alapjai (gépterem, web) 46 | E10: =CONCATENATE(BD10,AY10,AZ10) -> Molnár László2071 | F10: =CONCATENATE(BC10," (",IF(OR(BF10="",BH10="Tb.-ről web",BH10="gépterem, Tb.-ről web"),"",CONCATENATE("Bp. ",BF10)),IF(OR(BG10="",BH10="Bp.-ről web",BH10="gépterem, Bp.-ről web"),"",CONCATENATE("Tb. ",BG10)),IF(BH10="","",CONCATENATE(", ",BH10)),")") -> Mechatronika alapjai (Tb. 604, gépterem, web) | G10: =IF(BM10="","",CONCATENATE($AY10,$AZ10)) | H10: =IF(BN10="","",CONCATENATE($AY10,$AZ10)) | I10: =IF(BO10="","",CONCATENATE($AY10,$AZ10)) | J10: =IF(BP10="","",CONCATENATE($AY10,$AZ10)) | K10: =IF(BQ10="","",CONCATENATE($AY10,$AZ10)) | L10: =IF(BR10="","",CONCATENATE($AY10,$AZ10)) | M10: =IF(BS10="","",CONCATENATE($AY10,$AZ10)) | N10: =IF(BT10="","",CONCATENATE($AY10,$AZ10)) | ... X10: =IF(CD10="","",CONCATENATE($AY10,$AZ10)) | Y10: =CONCATENATE(BC10," (",BF10,IF(BH10="","",CONCATENATE(", ",BH10)),")") -> Mechatronika alapjai (, gépterem, web) | Z10: =IF(CE10="","",CONCATENATE($AY10,$AZ10)) | AA10: =IF(CF10="","",CONCATENATE($AY10,$AZ10)) | AB10: =IF(CG10="","",CONCATENATE($AY10,$AZ10)) | AC10: =IF(CH10="","",CONCATENATE($AY10,$AZ10)) -> 2071 | AD10: =IF(CI10="","",CONCATENATE($AY10,$AZ10)) | AE10: =IF(CJ10="","",CONCATENATE($AY10,$AZ10)) | AF10: =IF(CK10="","",CONCATENATE($AY10,$AZ10)) | AG10: =IF(CL10="","",CONCATENATE($AY10,$AZ10)) | ... AW10: =IF(DB10="","",CONCATENATE($AY10,$AZ10)) | AX10: =CONCATENATE(BC10," (",BG10,IF(BH10="","",CONCATENATE(", ",BH10)),")") -> Mechatronika alapjai (604, gépterem, web) | AY10: 207 | AZ10: 1 | BA10: =VLOOKUP(AY10,segéd!$F$9:$G$38,2,FALSE) -> 46060 | BB10: =VLOOKUP(AZ10,segéd!$F$1:$G$7,2,FALSE) -> 8.00-9.30 | BC10: Mechatronika alapjai | BD10: Molnár László | BE10: tatabányai alapképzés | BG10: 604 | BH10: gépterem, web | BI10: https://teams.microsoft.com/meet/374524903517?p=iK5tslsn2xaVxJVOHR | BJ10: =SUM(BK10:BL10) -> 46 | BK10: =IF(BF10="","",VLOOKUP(BC10,segéd!O:P,2,FALSE)) | BL10: =IF(BG10="","",VLOOKUP(BC10,segéd!T:U,2,FALSE)) -> 46 | CH10: 57
A11: =CONCATENATE(BF11,AY11,AZ11) -> 2071 | B11: =CONCATENATE(BC11,IF(BH11="","",CONCATENATE(" (",BH11,")"))," ",BK11) -> Mechatronika alapjai (dupla terem) (gépterem, web) | C11: =CONCATENATE(BG11,AY11,AZ11) -> 6032071 | D11: =CONCATENATE(BC11,IF(BH11="","",CONCATENATE(" (",BH11,")"))," ",BL11) -> Mechatronika alapjai (dupla terem) (gépterem, web) 0 | E11: =CONCATENATE(BD11,AY11,AZ11) -> Molnár László2071 | F11: =CONCATENATE(BC11," (",IF(OR(BF11="",BH11="Tb.-ről web",BH11="gépterem, Tb.-ről web"),"",CONCATENATE("Bp. ",BF11)),IF(OR(BG11="",BH11="Bp.-ről web",BH11="gépterem, Bp.-ről web"),"",CONCATENATE("Tb. ",BG11)),IF(BH11="","",CONCATENATE(", ",BH11)),")") -> Mechatronika alapjai (dupla terem) (Tb. 603, gépterem, web) | G11: =IF(BM11="","",CONCATENATE($AY11,$AZ11)) | H11: =IF(BN11="","",CONCATENATE($AY11,$AZ11)) | I11: =IF(BO11="","",CONCATENATE($AY11,$AZ11)) | J11: =IF(BP11="","",CONCATENATE($AY11,$AZ11)) | K11: =IF(BQ11="","",CONCATENATE($AY11,$AZ11)) | L11: =IF(BR11="","",CONCATENATE($AY11,$AZ11)) | M11: =IF(BS11="","",CONCATENATE($AY11,$AZ11)) | N11: =IF(BT11="","",CONCATENATE($AY11,$AZ11)) | ... X11: =IF(CD11="","",CONCATENATE($AY11,$AZ11)) | Y11: =CONCATENATE(BC11," (",BF11,IF(BH11="","",CONCATENATE(", ",BH11)),")") -> Mechatronika alapjai (dupla terem) (, gépterem, web) | Z11: =IF(CE11="","",CONCATENATE($AY11,$AZ11)) | AA11: =IF(CF11="","",CONCATENATE($AY11,$AZ11)) | AB11: =IF(CG11="","",CONCATENATE($AY11,$AZ11)) | AC11: =IF(CH11="","",CONCATENATE($AY11,$AZ11)) | AD11: =IF(CI11="","",CONCATENATE($AY11,$AZ11)) | AE11: =IF(CJ11="","",CONCATENATE($AY11,$AZ11)) | AF11: =IF(CK11="","",CONCATENATE($AY11,$AZ11)) | AG11: =IF(CL11="","",CONCATENATE($AY11,$AZ11)) | ... AW11: =IF(DB11="","",CONCATENATE($AY11,$AZ11)) | AX11: =CONCATENATE(BC11," (",BG11,IF(BH11="","",CONCATENATE(", ",BH11)),")") -> Mechatronika alapjai (dupla terem) (603, gépterem, web) | AY11: 207 | AZ11: 1 | BA11: =VLOOKUP(AY11,segéd!$F$9:$G$38,2,FALSE) -> 46060 | BB11: =VLOOKUP(AZ11,segéd!$F$1:$G$7,2,FALSE) -> 8.00-9.30 | BC11: Mechatronika alapjai (dupla terem) | BD11: Molnár László | BE11: tatabányai alapképzés | BG11: 603 | BH11: gépterem, web | BI11: https://teams.microsoft.com/meet/374524903517?p=iK5tslsn2xaVxJVOHR | BJ11: =SUM(BK11:BL11) -> 0 | BK11: =IF(BF11="","",VLOOKUP(BC11,segéd!O:P,2,FALSE)) | BL11: =IF(BG11="","",VLOOKUP(BC11,segéd!T:U,2,FALSE)) -> 0
A12: =CONCATENATE(BF12,AY12,AZ12) -> 2082071 | B12: =CONCATENATE(BC12,IF(BH12="","",CONCATENATE(" (",BH12,")"))," ",BK12) -> Operációkutatás (Tb.-ről web) 23 | C12: =CONCATENATE(BG12,AY12,AZ12) -> 2152071 | D12: =CONCATENATE(BC12,IF(BH12="","",CONCATENATE(" (",BH12,")"))," ",BL12) -> Operációkutatás (Tb.-ről web) 20 | E12: =CONCATENATE(BD12,AY12,AZ12) -> Kovács Gergely2071 | F12: =CONCATENATE(BC12," (",IF(OR(BF12="",BH12="Tb.-ről web",BH12="gépterem, Tb.-ről web"),"",CONCATENATE("Bp. ",BF12)),IF(OR(BG12="",BH12="Bp.-ről web",BH12="gépterem, Bp.-ről web"),"",CONCATENATE("Tb. ",BG12)),IF(BH12="","",CONCATENATE(", ",BH12)),")") -> Operációkutatás (Tb. 215, Tb.-ről web) | G12: =IF(BM12="","",CONCATENATE($AY12,$AZ12)) | H12: =IF(BN12="","",CONCATENATE($AY12,$AZ12)) | I12: =IF(BO12="","",CONCATENATE($AY12,$AZ12)) | J12: =IF(BP12="","",CONCATENATE($AY12,$AZ12)) | K12: =IF(BQ12="","",CONCATENATE($AY12,$AZ12)) | L12: =IF(BR12="","",CONCATENATE($AY12,$AZ12)) | M12: =IF(BS12="","",CONCATENATE($AY12,$AZ12)) -> 2071 | N12: =IF(BT12="","",CONCATENATE($AY12,$AZ12)) -> 2071 | ... X12: =IF(CD12="","",CONCATENATE($AY12,$AZ12)) | Y12: =CONCATENATE(BC12," (",BF12,IF(BH12="","",CONCATENATE(", ",BH12)),")") -> Operációkutatás (208, Tb.-ről web) | Z12: =IF(CE12="","",CONCATENATE($AY12,$AZ12)) | AA12: =IF(CF12="","",CONCATENATE($AY12,$AZ12)) | AB12: =IF(CG12="","",CONCATENATE($AY12,$AZ12)) | AC12: =IF(CH12="","",CONCATENATE($AY12,$AZ12)) | AD12: =IF(CI12="","",CONCATENATE($AY12,$AZ12)) | AE12: =IF(CJ12="","",CONCATENATE($AY12,$AZ12)) -> 2071 | AF12: =IF(CK12="","",CONCATENATE($AY12,$AZ12)) -> 2071 | AG12: =IF(CL12="","",CONCATENATE($AY12,$AZ12)) -> 2071 | ... AW12: =IF(DB12="","",CONCATENATE($AY12,$AZ12)) | AX12: =CONCATENATE(BC12," (",BG12,IF(BH12="","",CONCATENATE(", ",BH12)),")") -> Operációkutatás (215, Tb.-ről web) | AY12: 207 | AZ12: 1 | BA12: =VLOOKUP(AY12,segéd!$F$9:$G$38,2,FALSE) -> 46060 | BB12: =VLOOKUP(AZ12,segéd!$F$1:$G$7,2,FALSE) -> 8.00-9.30 | BC12: Operációkutatás | BD12: Kovács Gergely | BE12: tatabányai, budapesti alapképzés | BF12: 208 | BG12: 215 | BH12: Tb.-ről web | BI12: https://teams.microsoft.com/meet/32595983126048?p=bUUeQfvzUd5Vs4OWYy | BJ12: =SUM(BK12:BL12) -> 43 | BK12: =IF(BF12="","",VLOOKUP(BC12,segéd!O:P,2,FALSE)) -> 23 | BL12: =IF(BG12="","",VLOOKUP(BC12,segéd!T:U,2,FALSE)) -> 20 | BS12: 6 | BT12: 6 | BU12: 9 | CJ12: 3 | CK12: 7 | CL12: 10
A13: =CONCATENATE(BF13,AY13,AZ13) -> 2022071 | B13: =CONCATENATE(BC13,IF(BH13="","",CONCATENATE(" (",BH13,")"))," ",BK13) -> Pénzügyi menedzsment (Bp.-ről web) 7 | C13: =CONCATENATE(BG13,AY13,AZ13) -> 4012071 | D13: =CONCATENATE(BC13,IF(BH13="","",CONCATENATE(" (",BH13,")"))," ",BL13) -> Pénzügyi menedzsment (Bp.-ről web) 3 | E13: =CONCATENATE(BD13,AY13,AZ13) -> Antalík Imrich2071 | F13: =CONCATENATE(BC13," (",IF(OR(BF13="",BH13="Tb.-ről web",BH13="gépterem, Tb.-ről web"),"",CONCATENATE("Bp. ",BF13)),IF(OR(BG13="",BH13="Bp.-ről web",BH13="gépterem, Bp.-ről web"),"",CONCATENATE("Tb. ",BG13)),IF(BH13="","",CONCATENATE(", ",BH13)),")") -> Pénzügyi menedzsment (Bp. 202, Bp.-ről web) | G13: =IF(BM13="","",CONCATENATE($AY13,$AZ13)) | H13: =IF(BN13="","",CONCATENATE($AY13,$AZ13)) | I13: =IF(BO13="","",CONCATENATE($AY13,$AZ13)) | J13: =IF(BP13="","",CONCATENATE($AY13,$AZ13)) -> 2071 | K13: =IF(BQ13="","",CONCATENATE($AY13,$AZ13)) -> 2071 | L13: =IF(BR13="","",CONCATENATE($AY13,$AZ13)) | M13: =IF(BS13="","",CONCATENATE($AY13,$AZ13)) | N13: =IF(BT13="","",CONCATENATE($AY13,$AZ13)) | ... X13: =IF(CD13="","",CONCATENATE($AY13,$AZ13)) | Y13: =CONCATENATE(BC13," (",BF13,IF(BH13="","",CONCATENATE(", ",BH13)),")") -> Pénzügyi menedzsment (202, Bp.-ről web) | Z13: =IF(CE13="","",CONCATENATE($AY13,$AZ13)) | AA13: =IF(CF13="","",CONCATENATE($AY13,$AZ13)) | AB13: =IF(CG13="","",CONCATENATE($AY13,$AZ13)) | AC13: =IF(CH13="","",CONCATENATE($AY13,$AZ13)) | AD13: =IF(CI13="","",CONCATENATE($AY13,$AZ13)) -> 2071 | AE13: =IF(CJ13="","",CONCATENATE($AY13,$AZ13)) | AF13: =IF(CK13="","",CONCATENATE($AY13,$AZ13)) | AG13: =IF(CL13="","",CONCATENATE($AY13,$AZ13)) | ... AW13: =IF(DB13="","",CONCATENATE($AY13,$AZ13)) | AX13: =CONCATENATE(BC13," (",BG13,IF(BH13="","",CONCATENATE(", ",BH13)),")") -> Pénzügyi menedzsment (401, Bp.-ről web) | AY13: 207 | AZ13: 1 | BA13: =VLOOKUP(AY13,segéd!$F$9:$G$38,2,FALSE) -> 46060 | BB13: =VLOOKUP(AZ13,segéd!$F$1:$G$7,2,FALSE) -> 8.00-9.30 | BC13: Pénzügyi menedzsment | BD13: Antalík Imrich | BE13: tatabányai, budapesti mesterképzés | BF13: 202 | BG13: 401 | BH13: Bp.-ről web | BI13: https://teams.microsoft.com/meet/35735168884791?p=qAdUpGL5ujvEAR5RH5 | BJ13: =SUM(BK13:BL13) -> 10 | BK13: =IF(BF13="","",VLOOKUP(BC13,segéd!O:P,2,FALSE)) -> 7 | BL13: =IF(BG13="","",VLOOKUP(BC13,segéd!T:U,2,FALSE)) -> 3 | BP13: 4 | BQ13: 5 | CI13: 4
A14: =CONCATENATE(BF14,AY14,AZ14) -> 2052071 | B14: =CONCATENATE(BC14,IF(BH14="","",CONCATENATE(" (",BH14,")"))," ",BK14) -> Prezentációs és karrt. tech. (Tb.-ről web) 19 | C14: =CONCATENATE(BG14,AY14,AZ14) -> 2122071 | D14: =CONCATENATE(BC14,IF(BH14="","",CONCATENATE(" (",BH14,")"))," ",BL14) -> Prezentációs és karrt. tech. (Tb.-ről web) 32 | E14: =CONCATENATE(BD14,AY14,AZ14) -> Gyalogos Norbert2071 | F14: =CONCATENATE(BC14," (",IF(OR(BF14="",BH14="Tb.-ről web",BH14="gépterem, Tb.-ről web"),"",CONCATENATE("Bp. ",BF14)),IF(OR(BG14="",BH14="Bp.-ről web",BH14="gépterem, Bp.-ről web"),"",CONCATENATE("Tb. ",BG14)),IF(BH14="","",CONCATENATE(", ",BH14)),")") -> Prezentációs és karrt. tech. (Tb. 212, Tb.-ről web) | G14: =IF(BM14="","",CONCATENATE($AY14,$AZ14)) | H14: =IF(BN14="","",CONCATENATE($AY14,$AZ14)) | I14: =IF(BO14="","",CONCATENATE($AY14,$AZ14)) -> 2071 | J14: =IF(BP14="","",CONCATENATE($AY14,$AZ14)) | K14: =IF(BQ14="","",CONCATENATE($AY14,$AZ14)) | L14: =IF(BR14="","",CONCATENATE($AY14,$AZ14)) | M14: =IF(BS14="","",CONCATENATE($AY14,$AZ14)) | N14: =IF(BT14="","",CONCATENATE($AY14,$AZ14)) | ... X14: =IF(CD14="","",CONCATENATE($AY14,$AZ14)) -> 2071 | Y14: =CONCATENATE(BC14," (",BF14,IF(BH14="","",CONCATENATE(", ",BH14)),")") -> Prezentációs és karrt. tech. (205, Tb.-ről web) | Z14: =IF(CE14="","",CONCATENATE($AY14,$AZ14)) | AA14: =IF(CF14="","",CONCATENATE($AY14,$AZ14)) | AB14: =IF(CG14="","",CONCATENATE($AY14,$AZ14)) | AC14: =IF(CH14="","",CONCATENATE($AY14,$AZ14)) | AD14: =IF(CI14="","",CONCATENATE($AY14,$AZ14)) | AE14: =IF(CJ14="","",CONCATENATE($AY14,$AZ14)) | AF14: =IF(CK14="","",CONCATENATE($AY14,$AZ14)) | AG14: =IF(CL14="","",CONCATENATE($AY14,$AZ14)) | ... AW14: =IF(DB14="","",CONCATENATE($AY14,$AZ14)) | AX14: =CONCATENATE(BC14," (",BG14,IF(BH14="","",CONCATENATE(", ",BH14)),")") -> Prezentációs és karrt. tech. (212, Tb.-ről web) | AY14: 207 | AZ14: 1 | BA14: =VLOOKUP(AY14,segéd!$F$9:$G$38,2,FALSE) -> 46060 | BB14: =VLOOKUP(AZ14,segéd!$F$1:$G$7,2,FALSE) -> 8.00-9.30 | BC14: Prezentációs és karrt. tech. | BD14: Gyalogos Norbert | BE14: tatabányai, budapesti alapképzés, FOKSZ | BF14: 205 | BG14: 212 | BH14: Tb.-ről web | BI14: https://teams.microsoft.com/meet/34578620820158?p=esNH2NCiUY43c4O9Sx | BJ14: =SUM(BK14:BL14) -> 51 | BK14: =IF(BF14="","",VLOOKUP(BC14,segéd!O:P,2,FALSE)) -> 19 | BL14: =IF(BG14="","",VLOOKUP(BC14,segéd!T:U,2,FALSE)) -> 32 | BO14: 13 | BZ14: 6 | CA14: 4 | CB14: 3 | CC14: 4 | CD14: 2 | CR14: 11 | CS14: 9 | CT14: 3 | CU14: 3 | CV14: 4
A15: =CONCATENATE(BF15,AY15,AZ15) -> 2071 | B15: =CONCATENATE(BC15,IF(BH15="","",CONCATENATE(" (",BH15,")"))," ",BK15) -> Statisztika I. (web) | C15: =CONCATENATE(BG15,AY15,AZ15) -> 5012071 | D15: =CONCATENATE(BC15,IF(BH15="","",CONCATENATE(" (",BH15,")"))," ",BL15) -> Statisztika I. (web) 119 | E15: =CONCATENATE(BD15,AY15,AZ15) -> Brunner Zsuzsanna2071 | F15: =CONCATENATE(BC15," (",IF(OR(BF15="",BH15="Tb.-ről web",BH15="gépterem, Tb.-ről web"),"",CONCATENATE("Bp. ",BF15)),IF(OR(BG15="",BH15="Bp.-ről web",BH15="gépterem, Bp.-ről web"),"",CONCATENATE("Tb. ",BG15)),IF(BH15="","",CONCATENATE(", ",BH15)),")") -> Statisztika I. (Tb. 501, web) | G15: =IF(BM15="","",CONCATENATE($AY15,$AZ15)) | H15: =IF(BN15="","",CONCATENATE($AY15,$AZ15)) | I15: =IF(BO15="","",CONCATENATE($AY15,$AZ15)) | J15: =IF(BP15="","",CONCATENATE($AY15,$AZ15)) | K15: =IF(BQ15="","",CONCATENATE($AY15,$AZ15)) | L15: =IF(BR15="","",CONCATENATE($AY15,$AZ15)) | M15: =IF(BS15="","",CONCATENATE($AY15,$AZ15)) | N15: =IF(BT15="","",CONCATENATE($AY15,$AZ15)) | ... X15: =IF(CD15="","",CONCATENATE($AY15,$AZ15)) | Y15: =CONCATENATE(BC15," (",BF15,IF(BH15="","",CONCATENATE(", ",BH15)),")") -> Statisztika I. (, web) | Z15: =IF(CE15="","",CONCATENATE($AY15,$AZ15)) -> 2071 | AA15: =IF(CF15="","",CONCATENATE($AY15,$AZ15)) | AB15: =IF(CG15="","",CONCATENATE($AY15,$AZ15)) -> 2071 | AC15: =IF(CH15="","",CONCATENATE($AY15,$AZ15)) | AD15: =IF(CI15="","",CONCATENATE($AY15,$AZ15)) | AE15: =IF(CJ15="","",CONCATENATE($AY15,$AZ15)) | AF15: =IF(CK15="","",CONCATENATE($AY15,$AZ15)) | AG15: =IF(CL15="","",CONCATENATE($AY15,$AZ15)) | ... AW15: =IF(DB15="","",CONCATENATE($AY15,$AZ15)) | AX15: =CONCATENATE(BC15," (",BG15,IF(BH15="","",CONCATENATE(", ",BH15)),")") -> Statisztika I. (501, web) | AY15: 207 | AZ15: 1 | BA15: =VLOOKUP(AY15,segéd!$F$9:$G$38,2,FALSE) -> 46060 | BB15: =VLOOKUP(AZ15,segéd!$F$1:$G$7,2,FALSE) -> 8.00-9.30 | BC15: Statisztika I. | BD15: Brunner Zsuzsanna | BE15: tatabányai alapképzés | BG15: 501 | BH15: web | BI15: https://teams.microsoft.com/meet/34773906729544?p=wIJRc8806Wvzn2sGJd | BJ15: =SUM(BK15:BL15) -> 119 | BK15: =IF(BF15="","",VLOOKUP(BC15,segéd!O:P,2,FALSE)) | BL15: =IF(BG15="","",VLOOKUP(BC15,segéd!T:U,2,FALSE)) -> 119 | CE15: 74 | CG15: 59 | CQ15: 25
A16: =CONCATENATE(BF16,AY16,AZ16) -> 2012071 | B16: =CONCATENATE(BC16,IF(BH16="","",CONCATENATE(" (",BH16,")"))," ",BK16) -> Statisztika I. (web) 59 | C16: =CONCATENATE(BG16,AY16,AZ16) -> 2071 | D16: =CONCATENATE(BC16,IF(BH16="","",CONCATENATE(" (",BH16,")"))," ",BL16) -> Statisztika I. (web) | E16: =CONCATENATE(BD16,AY16,AZ16) -> Piroska László2071 | F16: =CONCATENATE(BC16," (",IF(OR(BF16="",BH16="Tb.-ről web",BH16="gépterem, Tb.-ről web"),"",CONCATENATE("Bp. ",BF16)),IF(OR(BG16="",BH16="Bp.-ről web",BH16="gépterem, Bp.-ről web"),"",CONCATENATE("Tb. ",BG16)),IF(BH16="","",CONCATENATE(", ",BH16)),")") -> Statisztika I. (Bp. 201, web) | G16: =IF(BM16="","",CONCATENATE($AY16,$AZ16)) -> 2071 | H16: =IF(BN16="","",CONCATENATE($AY16,$AZ16)) -> 2071 | I16: =IF(BO16="","",CONCATENATE($AY16,$AZ16)) | J16: =IF(BP16="","",CONCATENATE($AY16,$AZ16)) | K16: =IF(BQ16="","",CONCATENATE($AY16,$AZ16)) | L16: =IF(BR16="","",CONCATENATE($AY16,$AZ16)) | M16: =IF(BS16="","",CONCATENATE($AY16,$AZ16)) | N16: =IF(BT16="","",CONCATENATE($AY16,$AZ16)) | ... X16: =IF(CD16="","",CONCATENATE($AY16,$AZ16)) | Y16: =CONCATENATE(BC16," (",BF16,IF(BH16="","",CONCATENATE(", ",BH16)),")") -> Statisztika I. (201, web) | Z16: =IF(CE16="","",CONCATENATE($AY16,$AZ16)) | AA16: =IF(CF16="","",CONCATENATE($AY16,$AZ16)) | AB16: =IF(CG16="","",CONCATENATE($AY16,$AZ16)) | AC16: =IF(CH16="","",CONCATENATE($AY16,$AZ16)) | AD16: =IF(CI16="","",CONCATENATE($AY16,$AZ16)) | AE16: =IF(CJ16="","",CONCATENATE($AY16,$AZ16)) | AF16: =IF(CK16="","",CONCATENATE($AY16,$AZ16)) | AG16: =IF(CL16="","",CONCATENATE($AY16,$AZ16)) | ... AW16: =IF(DB16="","",CONCATENATE($AY16,$AZ16)) | AX16: =CONCATENATE(BC16," (",BG16,IF(BH16="","",CONCATENATE(", ",BH16)),")") -> Statisztika I. (, web) | AY16: 207 | AZ16: 1 | BA16: =VLOOKUP(AY16,segéd!$F$9:$G$38,2,FALSE) -> 46060 | BB16: =VLOOKUP(AZ16,segéd!$F$1:$G$7,2,FALSE) -> 8.00-9.30 | BC16: Statisztika I. | BD16: Piroska László | BE16: budapesti alapképzés | BF16: 201 | BH16: web | BI16: https://teams.microsoft.com/meet/31019455347525?p=ZN7eAlVKUufj7zDUqb | BJ16: =SUM(BK16:BL16) -> 59 | BK16: =IF(BF16="","",VLOOKUP(BC16,segéd!O:P,2,FALSE)) -> 59 | BL16: =IF(BG16="","",VLOOKUP(BC16,segéd!T:U,2,FALSE)) | BM16: 62 | BN16: 14
A17: =CONCATENATE(BF17,AY17,AZ17) -> 2071 | B17: =CONCATENATE(BC17,IF(BH17="","",CONCATENATE(" (",BH17,")"))," ",BK17) -> Szakszeminárium I. (műszaki) (web) | C17: =CONCATENATE(BG17,AY17,AZ17) -> 6012071 | D17: =CONCATENATE(BC17,IF(BH17="","",CONCATENATE(" (",BH17,")"))," ",BL17) -> Szakszeminárium I. (műszaki) (web) 86 | E17: =CONCATENATE(BD17,AY17,AZ17) -> Vigh László2071 | F17: =CONCATENATE(BC17," (",IF(OR(BF17="",BH17="Tb.-ről web",BH17="gépterem, Tb.-ről web"),"",CONCATENATE("Bp. ",BF17)),IF(OR(BG17="",BH17="Bp.-ről web",BH17="gépterem, Bp.-ről web"),"",CONCATENATE("Tb. ",BG17)),IF(BH17="","",CONCATENATE(", ",BH17)),")") -> Szakszeminárium I. (műszaki) (Tb. 601, web) | G17: =IF(BM17="","",CONCATENATE($AY17,$AZ17)) | H17: =IF(BN17="","",CONCATENATE($AY17,$AZ17)) | I17: =IF(BO17="","",CONCATENATE($AY17,$AZ17)) | J17: =IF(BP17="","",CONCATENATE($AY17,$AZ17)) | K17: =IF(BQ17="","",CONCATENATE($AY17,$AZ17)) | L17: =IF(BR17="","",CONCATENATE($AY17,$AZ17)) | M17: =IF(BS17="","",CONCATENATE($AY17,$AZ17)) | N17: =IF(BT17="","",CONCATENATE($AY17,$AZ17)) | ... X17: =IF(CD17="","",CONCATENATE($AY17,$AZ17)) | Y17: =CONCATENATE(BC17," (",BF17,IF(BH17="","",CONCATENATE(", ",BH17)),")") -> Szakszeminárium I. (műszaki) (, web) | Z17: =IF(CE17="","",CONCATENATE($AY17,$AZ17)) | AA17: =IF(CF17="","",CONCATENATE($AY17,$AZ17)) | AB17: =IF(CG17="","",CONCATENATE($AY17,$AZ17)) | AC17: =IF(CH17="","",CONCATENATE($AY17,$AZ17)) | AD17: =IF(CI17="","",CONCATENATE($AY17,$AZ17)) | AE17: =IF(CJ17="","",CONCATENATE($AY17,$AZ17)) | AF17: =IF(CK17="","",CONCATENATE($AY17,$AZ17)) | AG17: =IF(CL17="","",CONCATENATE($AY17,$AZ17)) | ... AW17: =IF(DB17="","",CONCATENATE($AY17,$AZ17)) -> 2071 | AX17: =CONCATENATE(BC17," (",BG17,IF(BH17="","",CONCATENATE(", ",BH17)),")") -> Szakszeminárium I. (műszaki) (601, web) | AY17: 207 | AZ17: 1 | BA17: =VLOOKUP(AY17,segéd!$F$9:$G$38,2,FALSE) -> 46060 | BB17: =VLOOKUP(AZ17,segéd!$F$1:$G$7,2,FALSE) -> 8.00-9.30 | BC17: Szakszeminárium I. (műszaki) | BD17: Vigh László | BE17: tatabányai alapképzés | BG17: 601 | BH17: web | BI17: https://teams.microsoft.com/meet/38080611680208?p=VVJMQKIGyGfdylap47 | BJ17: =SUM(BK17:BL17) -> 86 | BK17: =IF(BF17="","",VLOOKUP(BC17,segéd!O:P,2,FALSE)) | BL17: =IF(BG17="","",VLOOKUP(BC17,segéd!T:U,2,FALSE)) -> 86 | CW17: 16 | CX17: 8 | CY17: 13 | CZ17: 9 | DA17: 13 | DB17: 34
A18: =CONCATENATE(BF18,AY18,AZ18) -> 2062071 | B18: =CONCATENATE(BC18,IF(BH18="","",CONCATENATE(" (",BH18,")"))," ",BK18) -> Turisztikai termékek (web) 6 | C18: =CONCATENATE(BG18,AY18,AZ18) -> 2071 | D18: =CONCATENATE(BC18,IF(BH18="","",CONCATENATE(" (",BH18,")"))," ",BL18) -> Turisztikai termékek (web) | E18: =CONCATENATE(BD18,AY18,AZ18) -> Bíró Csaba2071 | F18: =CONCATENATE(BC18," (",IF(OR(BF18="",BH18="Tb.-ről web",BH18="gépterem, Tb.-ről web"),"",CONCATENATE("Bp. ",BF18)),IF(OR(BG18="",BH18="Bp.-ről web",BH18="gépterem, Bp.-ről web"),"",CONCATENATE("Tb. ",BG18)),IF(BH18="","",CONCATENATE(", ",BH18)),")") -> Turisztikai termékek (Bp. 206, web) | G18: =IF(BM18="","",CONCATENATE($AY18,$AZ18)) | H18: =IF(BN18="","",CONCATENATE($AY18,$AZ18)) | I18: =IF(BO18="","",CONCATENATE($AY18,$AZ18)) | J18: =IF(BP18="","",CONCATENATE($AY18,$AZ18)) | K18: =IF(BQ18="","",CONCATENATE($AY18,$AZ18)) | L18: =IF(BR18="","",CONCATENATE($AY18,$AZ18)) | M18: =IF(BS18="","",CONCATENATE($AY18,$AZ18)) | N18: =IF(BT18="","",CONCATENATE($AY18,$AZ18)) | ... X18: =IF(CD18="","",CONCATENATE($AY18,$AZ18)) | Y18: =CONCATENATE(BC18," (",BF18,IF(BH18="","",CONCATENATE(", ",BH18)),")") -> Turisztikai termékek (206, web) | Z18: =IF(CE18="","",CONCATENATE($AY18,$AZ18)) | AA18: =IF(CF18="","",CONCATENATE($AY18,$AZ18)) | AB18: =IF(CG18="","",CONCATENATE($AY18,$AZ18)) | AC18: =IF(CH18="","",CONCATENATE($AY18,$AZ18)) | AD18: =IF(CI18="","",CONCATENATE($AY18,$AZ18)) | AE18: =IF(CJ18="","",CONCATENATE($AY18,$AZ18)) | AF18: =IF(CK18="","",CONCATENATE($AY18,$AZ18)) | AG18: =IF(CL18="","",CONCATENATE($AY18,$AZ18)) | ... AW18: =IF(DB18="","",CONCATENATE($AY18,$AZ18)) | AX18: =CONCATENATE(BC18," (",BG18,IF(BH18="","",CONCATENATE(", ",BH18)),")") -> Turisztikai termékek (, web) | AY18: 207 | AZ18: 1 | BA18: =VLOOKUP(AY18,segéd!$F$9:$G$38,2,FALSE) -> 46060 | BB18: =VLOOKUP(AZ18,segéd!$F$1:$G$7,2,FALSE) -> 8.00-9.30 | BC18: Turisztikai termékek | BD18: Bíró Csaba | BE18: budapesti alapképzés | BF18: 206 | BH18: web | BI18: https://teams.microsoft.com/meet/3763653557961?p=ywlJTp4PDKpQTRtWUr | BJ18: =SUM(BK18:BL18) -> 6 | BK18: =IF(BF18="","",VLOOKUP(BC18,segéd!O:P,2,FALSE)) -> 6 | BL18: =IF(BG18="","",VLOOKUP(BC18,segéd!T:U,2,FALSE)) | BY18: 6
A19: =CONCATENATE(BF19,AY19,AZ19) -> 2071 | B19: =CONCATENATE(BC19,IF(BH19="","",CONCATENATE(" (",BH19,")"))," ",BK19) -> Üzleti tervezés (szv.) (web) | C19: =CONCATENATE(BG19,AY19,AZ19) -> 2142071 | D19: =CONCATENATE(BC19,IF(BH19="","",CONCATENATE(" (",BH19,")"))," ",BL19) -> Üzleti tervezés (szv.) (web) 22 | E19: =CONCATENATE(BD19,AY19,AZ19) -> Kovács Cecília2071 | F19: =CONCATENATE(BC19," (",IF(OR(BF19="",BH19="Tb.-ről web",BH19="gépterem, Tb.-ről web"),"",CONCATENATE("Bp. ",BF19)),IF(OR(BG19="",BH19="Bp.-ről web",BH19="gépterem, Bp.-ről web"),"",CONCATENATE("Tb. ",BG19)),IF(BH19="","",CONCATENATE(", ",BH19)),")") -> Üzleti tervezés (szv.) (Tb. 214, web) | G19: =IF(BM19="","",CONCATENATE($AY19,$AZ19)) | H19: =IF(BN19="","",CONCATENATE($AY19,$AZ19)) | I19: =IF(BO19="","",CONCATENATE($AY19,$AZ19)) | J19: =IF(BP19="","",CONCATENATE($AY19,$AZ19)) | K19: =IF(BQ19="","",CONCATENATE($AY19,$AZ19)) | L19: =IF(BR19="","",CONCATENATE($AY19,$AZ19)) | M19: =IF(BS19="","",CONCATENATE($AY19,$AZ19)) | N19: =IF(BT19="","",CONCATENATE($AY19,$AZ19)) | ... X19: =IF(CD19="","",CONCATENATE($AY19,$AZ19)) | Y19: =CONCATENATE(BC19," (",BF19,IF(BH19="","",CONCATENATE(", ",BH19)),")") -> Üzleti tervezés (szv.) (, web) | Z19: =IF(CE19="","",CONCATENATE($AY19,$AZ19)) | AA19: =IF(CF19="","",CONCATENATE($AY19,$AZ19)) | AB19: =IF(CG19="","",CONCATENATE($AY19,$AZ19)) | AC19: =IF(CH19="","",CONCATENATE($AY19,$AZ19)) | AD19: =IF(CI19="","",CONCATENATE($AY19,$AZ19)) | AE19: =IF(CJ19="","",CONCATENATE($AY19,$AZ19)) | AF19: =IF(CK19="","",CONCATENATE($AY19,$AZ19)) | AG19: =IF(CL19="","",CONCATENATE($AY19,$AZ19)) | ... AW19: =IF(DB19="","",CONCATENATE($AY19,$AZ19)) | AX19: =CONCATENATE(BC19," (",BG19,IF(BH19="","",CONCATENATE(", ",BH19)),")") -> Üzleti tervezés (szv.) (214, web) | AY19: 207 | AZ19: 1 | BA19: =VLOOKUP(AY19,segéd!$F$9:$G$38,2,FALSE) -> 46060 | BB19: =VLOOKUP(AZ19,segéd!$F$1:$G$7,2,FALSE) -> 8.00-9.30 | BC19: Üzleti tervezés (szv.) | BD19: Kovács Cecília | BE19: tatabányai alapképzés | BG19: 214 | BH19: web | BI19: https://teams.microsoft.com/meet/36424050497113?p=gWXi0ga726jolEY1lL | BJ19: =SUM(BK19:BL19) -> 22 | BK19: =IF(BF19="","",VLOOKUP(BC19,segéd!O:P,2,FALSE)) | BL19: =IF(BG19="","",VLOOKUP(BC19,segéd!T:U,2,FALSE)) -> 22 | CP19: 25
A20: =CONCATENATE(BF20,AY20,AZ20) -> 2142072 | B20: =CONCATENATE(BC20,IF(BH20="","",CONCATENATE(" (",BH20,")"))," ",BK20) -> Aktuális nemzetközi gazd. tr. (szv.) (Bp.-ről web) 20 | C20: =CONCATENATE(BG20,AY20,AZ20) -> 2172072 | D20: =CONCATENATE(BC20,IF(BH20="","",CONCATENATE(" (",BH20,")"))," ",BL20) -> Aktuális nemzetközi gazd. tr. (szv.) (Bp.-ről web) 18 | E20: =CONCATENATE(BD20,AY20,AZ20) -> Buda Lorina2072 | F20: =CONCATENATE(BC20," (",IF(OR(BF20="",BH20="Tb.-ről web",BH20="gépterem, Tb.-ről web"),"",CONCATENATE("Bp. ",BF20)),IF(OR(BG20="",BH20="Bp.-ről web",BH20="gépterem, Bp.-ről web"),"",CONCATENATE("Tb. ",BG20)),IF(BH20="","",CONCATENATE(", ",BH20)),")") -> Aktuális nemzetközi gazd. tr. (szv.) (Bp. 214, Bp.-ről web) | G20: =IF(BM20="","",CONCATENATE($AY20,$AZ20)) | H20: =IF(BN20="","",CONCATENATE($AY20,$AZ20)) | I20: =IF(BO20="","",CONCATENATE($AY20,$AZ20)) | J20: =IF(BP20="","",CONCATENATE($AY20,$AZ20)) | K20: =IF(BQ20="","",CONCATENATE($AY20,$AZ20)) | L20: =IF(BR20="","",CONCATENATE($AY20,$AZ20)) | M20: =IF(BS20="","",CONCATENATE($AY20,$AZ20)) | N20: =IF(BT20="","",CONCATENATE($AY20,$AZ20)) | ... X20: =IF(CD20="","",CONCATENATE($AY20,$AZ20)) -> 2072 | Y20: =CONCATENATE(BC20," (",BF20,IF(BH20="","",CONCATENATE(", ",BH20)),")") -> Aktuális nemzetközi gazd. tr. (szv.) (214, Bp.-ről web) | Z20: =IF(CE20="","",CONCATENATE($AY20,$AZ20)) | AA20: =IF(CF20="","",CONCATENATE($AY20,$AZ20)) | AB20: =IF(CG20="","",CONCATENATE($AY20,$AZ20)) | AC20: =IF(CH20="","",CONCATENATE($AY20,$AZ20)) | AD20: =IF(CI20="","",CONCATENATE($AY20,$AZ20)) | AE20: =IF(CJ20="","",CONCATENATE($AY20,$AZ20)) | AF20: =IF(CK20="","",CONCATENATE($AY20,$AZ20)) | AG20: =IF(CL20="","",CONCATENATE($AY20,$AZ20)) | ... AW20: =IF(DB20="","",CONCATENATE($AY20,$AZ20)) | AX20: =CONCATENATE(BC20," (",BG20,IF(BH20="","",CONCATENATE(", ",BH20)),")") -> Aktuális nemzetközi gazd. tr. (szv.) (217, Bp.-ről web) | AY20: 207 | AZ20: 2 | BA20: =VLOOKUP(AY20,segéd!$F$9:$G$38,2,FALSE) -> 46060 | BB20: =VLOOKUP(AZ20,segéd!$F$1:$G$7,2,FALSE) -> 9.45-11.15 | BC20: Aktuális nemzetközi gazd. tr. (szv.) | BD20: Buda Lorina | BE20: tatabányai, budapesti alapképzés | BF20: 214 | BG20: 217 | BH20: Bp.-ről web | BI20: https://teams.microsoft.com/meet/32681884326829?p=JIyWx3sXEtI5hTncQR | BJ20: =SUM(BK20:BL20) -> 38 | BK20: =IF(BF20="","",VLOOKUP(BC20,segéd!O:P,2,FALSE)) -> 20 | BL20: =IF(BG20="","",VLOOKUP(BC20,segéd!T:U,2,FALSE)) -> 18 | BZ20: 6 | CA20: 3 | CB20: 2 | CC20: 4 | CD20: 1 | CR20: 10 | CS20: 8 | CT20: 3 | CU20: 3 | CV20: 3
A21: =CONCATENATE(BF21,AY21,AZ21) -> 2072 | B21: =CONCATENATE(BC21,IF(BH21="","",CONCATENATE(" (",BH21,")"))," ",BK21) -> Az elektrotechnika alapjai (web) | C21: =CONCATENATE(BG21,AY21,AZ21) -> 62072 | D21: =CONCATENATE(BC21,IF(BH21="","",CONCATENATE(" (",BH21,")"))," ",BL21) -> Az elektrotechnika alapjai (web) 4 | E21: =CONCATENATE(BD21,AY21,AZ21) -> Varga István2072 | F21: =CONCATENATE(BC21," (",IF(OR(BF21="",BH21="Tb.-ről web",BH21="gépterem, Tb.-ről web"),"",CONCATENATE("Bp. ",BF21)),IF(OR(BG21="",BH21="Bp.-ről web",BH21="gépterem, Bp.-ről web"),"",CONCATENATE("Tb. ",BG21)),IF(BH21="","",CONCATENATE(", ",BH21)),")") -> Az elektrotechnika alapjai (Tb. 6, web) | G21: =IF(BM21="","",CONCATENATE($AY21,$AZ21)) | H21: =IF(BN21="","",CONCATENATE($AY21,$AZ21)) | I21: =IF(BO21="","",CONCATENATE($AY21,$AZ21)) | J21: =IF(BP21="","",CONCATENATE($AY21,$AZ21)) | K21: =IF(BQ21="","",CONCATENATE($AY21,$AZ21)) | L21: =IF(BR21="","",CONCATENATE($AY21,$AZ21)) | M21: =IF(BS21="","",CONCATENATE($AY21,$AZ21)) | N21: =IF(BT21="","",CONCATENATE($AY21,$AZ21)) | ... X21: =IF(CD21="","",CONCATENATE($AY21,$AZ21)) | Y21: =CONCATENATE(BC21," (",BF21,IF(BH21="","",CONCATENATE(", ",BH21)),")") -> Az elektrotechnika alapjai (, web) | Z21: =IF(CE21="","",CONCATENATE($AY21,$AZ21)) | AA21: =IF(CF21="","",CONCATENATE($AY21,$AZ21)) -> 2072 | AB21: =IF(CG21="","",CONCATENATE($AY21,$AZ21)) | AC21: =IF(CH21="","",CONCATENATE($AY21,$AZ21)) | AD21: =IF(CI21="","",CONCATENATE($AY21,$AZ21)) | AE21: =IF(CJ21="","",CONCATENATE($AY21,$AZ21)) | AF21: =IF(CK21="","",CONCATENATE($AY21,$AZ21)) | AG21: =IF(CL21="","",CONCATENATE($AY21,$AZ21)) | ... AW21: =IF(DB21="","",CONCATENATE($AY21,$AZ21)) | AX21: =CONCATENATE(BC21," (",BG21,IF(BH21="","",CONCATENATE(", ",BH21)),")") -> Az elektrotechnika alapjai (6, web) | AY21: 207 | AZ21: 2 | BA21: =VLOOKUP(AY21,segéd!$F$9:$G$38,2,FALSE) -> 46060 | BB21: =VLOOKUP(AZ21,segéd!$F$1:$G$7,2,FALSE) -> 9.45-11.15 | BC21: Az elektrotechnika alapjai | BD21: Varga István | BE21: tatabányai FOKSZ | BG21: 6 | BH21: web | BI21: https://teams.microsoft.com/meet/34716540307507?p=pqUNhuEQnhCC2rjxVw | BJ21: =SUM(BK21:BL21) -> 4 | BK21: =IF(BF21="","",VLOOKUP(BC21,segéd!O:P,2,FALSE)) | BL21: =IF(BG21="","",VLOOKUP(BC21,segéd!T:U,2,FALSE)) -> 4 | CF21: 19
A22: =CONCATENATE(BF22,AY22,AZ22) -> 2172072 | B22: =CONCATENATE(BC22,IF(BH22="","",CONCATENATE(" (",BH22,")"))," ",BK22) -> Marketing stratégia és tervezés (web) 8 | C22: =CONCATENATE(BG22,AY22,AZ22) -> 2072 | D22: =CONCATENATE(BC22,IF(BH22="","",CONCATENATE(" (",BH22,")"))," ",BL22) -> Marketing stratégia és tervezés (web) | E22: =CONCATENATE(BD22,AY22,AZ22) -> Rózsa Zoltán2072 | F22: =CONCATENATE(BC22," (",IF(OR(BF22="",BH22="Tb.-ről web",BH22="gépterem, Tb.-ről web"),"",CONCATENATE("Bp. ",BF22)),IF(OR(BG22="",BH22="Bp.-ről web",BH22="gépterem, Bp.-ről web"),"",CONCATENATE("Tb. ",BG22)),IF(BH22="","",CONCATENATE(", ",BH22)),")") -> Marketing stratégia és tervezés (Bp. 217, web) | G22: =IF(BM22="","",CONCATENATE($AY22,$AZ22)) | H22: =IF(BN22="","",CONCATENATE($AY22,$AZ22)) | I22: =IF(BO22="","",CONCATENATE($AY22,$AZ22)) | J22: =IF(BP22="","",CONCATENATE($AY22,$AZ22)) | K22: =IF(BQ22="","",CONCATENATE($AY22,$AZ22)) | L22: =IF(BR22="","",CONCATENATE($AY22,$AZ22)) -> 2072 | M22: =IF(BS22="","",CONCATENATE($AY22,$AZ22)) | N22: =IF(BT22="","",CONCATENATE($AY22,$AZ22)) | ... X22: =IF(CD22="","",CONCATENATE($AY22,$AZ22)) | Y22: =CONCATENATE(BC22," (",BF22,IF(BH22="","",CONCATENATE(", ",BH22)),")") -> Marketing stratégia és tervezés (217, web) | Z22: =IF(CE22="","",CONCATENATE($AY22,$AZ22)) | AA22: =IF(CF22="","",CONCATENATE($AY22,$AZ22)) | AB22: =IF(CG22="","",CONCATENATE($AY22,$AZ22)) | AC22: =IF(CH22="","",CONCATENATE($AY22,$AZ22)) | AD22: =IF(CI22="","",CONCATENATE($AY22,$AZ22)) | AE22: =IF(CJ22="","",CONCATENATE($AY22,$AZ22)) | AF22: =IF(CK22="","",CONCATENATE($AY22,$AZ22)) | AG22: =IF(CL22="","",CONCATENATE($AY22,$AZ22)) | ... AW22: =IF(DB22="","",CONCATENATE($AY22,$AZ22)) | AX22: =CONCATENATE(BC22," (",BG22,IF(BH22="","",CONCATENATE(", ",BH22)),")") -> Marketing stratégia és tervezés (, web) | AY22: 207 | AZ22: 2 | BA22: =VLOOKUP(AY22,segéd!$F$9:$G$38,2,FALSE) -> 46060 | BB22: =VLOOKUP(AZ22,segéd!$F$1:$G$7,2,FALSE) -> 9.45-11.15 | BC22: Marketing stratégia és tervezés | BD22: Rózsa Zoltán | BE22: budapesti mesterképzés | BF22: 217 | BH22: web | BI22: https://teams.microsoft.com/meet/35980685106029?p=dYv64NSSHwSOGW8jxz | BJ22: =SUM(BK22:BL22) -> 8 | BK22: =IF(BF22="","",VLOOKUP(BC22,segéd!O:P,2,FALSE)) -> 8 | BL22: =IF(BG22="","",VLOOKUP(BC22,segéd!T:U,2,FALSE)) | BR22: 9
A23: =CONCATENATE(BF23,AY23,AZ23) -> 2072 | B23: =CONCATENATE(BC23,IF(BH23="","",CONCATENATE(" (",BH23,")"))," ",BK23) -> Mechatronika alapjai (gépterem, web) | C23: =CONCATENATE(BG23,AY23,AZ23) -> 6042072 | D23: =CONCATENATE(BC23,IF(BH23="","",CONCATENATE(" (",BH23,")"))," ",BL23) -> Mechatronika alapjai (gépterem, web) 46 | E23: =CONCATENATE(BD23,AY23,AZ23) -> Molnár László2072 | F23: =CONCATENATE(BC23," (",IF(OR(BF23="",BH23="Tb.-ről web",BH23="gépterem, Tb.-ről web"),"",CONCATENATE("Bp. ",BF23)),IF(OR(BG23="",BH23="Bp.-ről web",BH23="gépterem, Bp.-ről web"),"",CONCATENATE("Tb. ",BG23)),IF(BH23="","",CONCATENATE(", ",BH23)),")") -> Mechatronika alapjai (Tb. 604, gépterem, web) | G23: =IF(BM23="","",CONCATENATE($AY23,$AZ23)) | H23: =IF(BN23="","",CONCATENATE($AY23,$AZ23)) | I23: =IF(BO23="","",CONCATENATE($AY23,$AZ23)) | J23: =IF(BP23="","",CONCATENATE($AY23,$AZ23)) | K23: =IF(BQ23="","",CONCATENATE($AY23,$AZ23)) | L23: =IF(BR23="","",CONCATENATE($AY23,$AZ23)) | M23: =IF(BS23="","",CONCATENATE($AY23,$AZ23)) | N23: =IF(BT23="","",CONCATENATE($AY23,$AZ23)) | ... X23: =IF(CD23="","",CONCATENATE($AY23,$AZ23)) | Y23: =CONCATENATE(BC23," (",BF23,IF(BH23="","",CONCATENATE(", ",BH23)),")") -> Mechatronika alapjai (, gépterem, web) | Z23: =IF(CE23="","",CONCATENATE($AY23,$AZ23)) | AA23: =IF(CF23="","",CONCATENATE($AY23,$AZ23)) | AB23: =IF(CG23="","",CONCATENATE($AY23,$AZ23)) | AC23: =IF(CH23="","",CONCATENATE($AY23,$AZ23)) -> 2072 | AD23: =IF(CI23="","",CONCATENATE($AY23,$AZ23)) | AE23: =IF(CJ23="","",CONCATENATE($AY23,$AZ23)) | AF23: =IF(CK23="","",CONCATENATE($AY23,$AZ23)) | AG23: =IF(CL23="","",CONCATENATE($AY23,$AZ23)) | ... AW23: =IF(DB23="","",CONCATENATE($AY23,$AZ23)) | AX23: =CONCATENATE(BC23," (",BG23,IF(BH23="","",CONCATENATE(", ",BH23)),")") -> Mechatronika alapjai (604, gépterem, web) | AY23: 207 | AZ23: 2 | BA23: =VLOOKUP(AY23,segéd!$F$9:$G$38,2,FALSE) -> 46060 | BB23: =VLOOKUP(AZ23,segéd!$F$1:$G$7,2,FALSE) -> 9.45-11.15 | BC23: Mechatronika alapjai | BD23: Molnár László | BE23: tatabányai alapképzés | BG23: 604 | BH23: gépterem, web | BI23: https://teams.microsoft.com/meet/374524903517?p=iK5tslsn2xaVxJVOHR | BJ23: =SUM(BK23:BL23) -> 46 | BK23: =IF(BF23="","",VLOOKUP(BC23,segéd!O:P,2,FALSE)) | BL23: =IF(BG23="","",VLOOKUP(BC23,segéd!T:U,2,FALSE)) -> 46 | CH23: 57
A24: =CONCATENATE(BF24,AY24,AZ24) -> 2072 | B24: =CONCATENATE(BC24,IF(BH24="","",CONCATENATE(" (",BH24,")"))," ",BK24) -> Mechatronika alapjai (dupla terem) (gépterem, web) | C24: =CONCATENATE(BG24,AY24,AZ24) -> 6032072 | D24: =CONCATENATE(BC24,IF(BH24="","",CONCATENATE(" (",BH24,")"))," ",BL24) -> Mechatronika alapjai (dupla terem) (gépterem, web) 0 | E24: =CONCATENATE(BD24,AY24,AZ24) -> Molnár László2072 | F24: =CONCATENATE(BC24," (",IF(OR(BF24="",BH24="Tb.-ről web",BH24="gépterem, Tb.-ről web"),"",CONCATENATE("Bp. ",BF24)),IF(OR(BG24="",BH24="Bp.-ről web",BH24="gépterem, Bp.-ről web"),"",CONCATENATE("Tb. ",BG24)),IF(BH24="","",CONCATENATE(", ",BH24)),")") -> Mechatronika alapjai (dupla terem) (Tb. 603, gépterem, web) | G24: =IF(BM24="","",CONCATENATE($AY24,$AZ24)) | H24: =IF(BN24="","",CONCATENATE($AY24,$AZ24)) | I24: =IF(BO24="","",CONCATENATE($AY24,$AZ24)) | J24: =IF(BP24="","",CONCATENATE($AY24,$AZ24)) | K24: =IF(BQ24="","",CONCATENATE($AY24,$AZ24)) | L24: =IF(BR24="","",CONCATENATE($AY24,$AZ24)) | M24: =IF(BS24="","",CONCATENATE($AY24,$AZ24)) | N24: =IF(BT24="","",CONCATENATE($AY24,$AZ24)) | ... X24: =IF(CD24="","",CONCATENATE($AY24,$AZ24)) | Y24: =CONCATENATE(BC24," (",BF24,IF(BH24="","",CONCATENATE(", ",BH24)),")") -> Mechatronika alapjai (dupla terem) (, gépterem, web) | Z24: =IF(CE24="","",CONCATENATE($AY24,$AZ24)) | AA24: =IF(CF24="","",CONCATENATE($AY24,$AZ24)) | AB24: =IF(CG24="","",CONCATENATE($AY24,$AZ24)) | AC24: =IF(CH24="","",CONCATENATE($AY24,$AZ24)) | AD24: =IF(CI24="","",CONCATENATE($AY24,$AZ24)) | AE24: =IF(CJ24="","",CONCATENATE($AY24,$AZ24)) | AF24: =IF(CK24="","",CONCATENATE($AY24,$AZ24)) | AG24: =IF(CL24="","",CONCATENATE($AY24,$AZ24)) | ... AW24: =IF(DB24="","",CONCATENATE($AY24,$AZ24)) | AX24: =CONCATENATE(BC24," (",BG24,IF(BH24="","",CONCATENATE(", ",BH24)),")") -> Mechatronika alapjai (dupla terem) (603, gépterem, web) | AY24: 207 | AZ24: 2 | BA24: =VLOOKUP(AY24,segéd!$F$9:$G$38,2,FALSE) -> 46060 | BB24: =VLOOKUP(AZ24,segéd!$F$1:$G$7,2,FALSE) -> 9.45-11.15 | BC24: Mechatronika alapjai (dupla terem) | BD24: Molnár László | BE24: tatabányai alapképzés | BG24: 603 | BH24: gépterem, web | BI24: https://teams.microsoft.com/meet/374524903517?p=iK5tslsn2xaVxJVOHR | BJ24: =SUM(BK24:BL24) -> 0 | BK24: =IF(BF24="","",VLOOKUP(BC24,segéd!O:P,2,FALSE)) | BL24: =IF(BG24="","",VLOOKUP(BC24,segéd!T:U,2,FALSE)) -> 0
A25: =CONCATENATE(BF25,AY25,AZ25) -> 2072 | B25: =CONCATENATE(BC25,IF(BH25="","",CONCATENATE(" (",BH25,")"))," ",BK25) -> Műszaki karriertervezés (szv.) | C25: =CONCATENATE(BG25,AY25,AZ25) -> A/Nae.2072 | D25: =CONCATENATE(BC25,IF(BH25="","",CONCATENATE(" (",BH25,")"))," ",BL25) -> Műszaki karriertervezés (szv.) 100 | E25: =CONCATENATE(BD25,AY25,AZ25) -> Laki Balázs2072 | F25: =CONCATENATE(BC25," (",IF(OR(BF25="",BH25="Tb.-ről web",BH25="gépterem, Tb.-ről web"),"",CONCATENATE("Bp. ",BF25)),IF(OR(BG25="",BH25="Bp.-ről web",BH25="gépterem, Bp.-ről web"),"",CONCATENATE("Tb. ",BG25)),IF(BH25="","",CONCATENATE(", ",BH25)),")") -> Műszaki karriertervezés (szv.) (Tb. A/Nae.) | G25: =IF(BM25="","",CONCATENATE($AY25,$AZ25)) | H25: =IF(BN25="","",CONCATENATE($AY25,$AZ25)) | I25: =IF(BO25="","",CONCATENATE($AY25,$AZ25)) | J25: =IF(BP25="","",CONCATENATE($AY25,$AZ25)) | K25: =IF(BQ25="","",CONCATENATE($AY25,$AZ25)) | L25: =IF(BR25="","",CONCATENATE($AY25,$AZ25)) | M25: =IF(BS25="","",CONCATENATE($AY25,$AZ25)) | N25: =IF(BT25="","",CONCATENATE($AY25,$AZ25)) | ... X25: =IF(CD25="","",CONCATENATE($AY25,$AZ25)) | Y25: =CONCATENATE(BC25," (",BF25,IF(BH25="","",CONCATENATE(", ",BH25)),")") -> Műszaki karriertervezés (szv.) () | Z25: =IF(CE25="","",CONCATENATE($AY25,$AZ25)) | AA25: =IF(CF25="","",CONCATENATE($AY25,$AZ25)) | AB25: =IF(CG25="","",CONCATENATE($AY25,$AZ25)) | AC25: =IF(CH25="","",CONCATENATE($AY25,$AZ25)) | AD25: =IF(CI25="","",CONCATENATE($AY25,$AZ25)) | AE25: =IF(CJ25="","",CONCATENATE($AY25,$AZ25)) | AF25: =IF(CK25="","",CONCATENATE($AY25,$AZ25)) | AG25: =IF(CL25="","",CONCATENATE($AY25,$AZ25)) | ... AW25: =IF(DB25="","",CONCATENATE($AY25,$AZ25)) | AX25: =CONCATENATE(BC25," (",BG25,IF(BH25="","",CONCATENATE(", ",BH25)),")") -> Műszaki karriertervezés (szv.) (A/Nae.) | AY25: 207 | AZ25: 2 | BA25: =VLOOKUP(AY25,segéd!$F$9:$G$38,2,FALSE) -> 46060 | BB25: =VLOOKUP(AZ25,segéd!$F$1:$G$7,2,FALSE) -> 9.45-11.15 | BC25: Műszaki karriertervezés (szv.) | BD25: Laki Balázs | BE25: tatabányai alapképzés | BG25: A/Nae. | BJ25: =SUM(BK25:BL25) -> 100 | BK25: =IF(BF25="","",VLOOKUP(BC25,segéd!O:P,2,FALSE)) | BL25: =IF(BG25="","",VLOOKUP(BC25,segéd!T:U,2,FALSE)) -> 100 | CP25: 25 | CQ25: 25
A26: =CONCATENATE(BF26,AY26,AZ26) -> 2082072 | B26: =CONCATENATE(BC26,IF(BH26="","",CONCATENATE(" (",BH26,")"))," ",BK26) -> Operációkutatás (Tb.-ről web) 23 | C26: =CONCATENATE(BG26,AY26,AZ26) -> 2152072 | D26: =CONCATENATE(BC26,IF(BH26="","",CONCATENATE(" (",BH26,")"))," ",BL26) -> Operációkutatás (Tb.-ről web) 20 | E26: =CONCATENATE(BD26,AY26,AZ26) -> Kovács Gergely2072 | F26: =CONCATENATE(BC26," (",IF(OR(BF26="",BH26="Tb.-ről web",BH26="gépterem, Tb.-ről web"),"",CONCATENATE("Bp. ",BF26)),IF(OR(BG26="",BH26="Bp.-ről web",BH26="gépterem, Bp.-ről web"),"",CONCATENATE("Tb. ",BG26)),IF(BH26="","",CONCATENATE(", ",BH26)),")") -> Operációkutatás (Tb. 215, Tb.-ről web) | G26: =IF(BM26="","",CONCATENATE($AY26,$AZ26)) | H26: =IF(BN26="","",CONCATENATE($AY26,$AZ26)) | I26: =IF(BO26="","",CONCATENATE($AY26,$AZ26)) | J26: =IF(BP26="","",CONCATENATE($AY26,$AZ26)) | K26: =IF(BQ26="","",CONCATENATE($AY26,$AZ26)) | L26: =IF(BR26="","",CONCATENATE($AY26,$AZ26)) | M26: =IF(BS26="","",CONCATENATE($AY26,$AZ26)) -> 2072 | N26: =IF(BT26="","",CONCATENATE($AY26,$AZ26)) -> 2072 | ... X26: =IF(CD26="","",CONCATENATE($AY26,$AZ26)) | Y26: =CONCATENATE(BC26," (",BF26,IF(BH26="","",CONCATENATE(", ",BH26)),")") -> Operációkutatás (208, Tb.-ről web) | Z26: =IF(CE26="","",CONCATENATE($AY26,$AZ26)) | AA26: =IF(CF26="","",CONCATENATE($AY26,$AZ26)) | AB26: =IF(CG26="","",CONCATENATE($AY26,$AZ26)) | AC26: =IF(CH26="","",CONCATENATE($AY26,$AZ26)) | AD26: =IF(CI26="","",CONCATENATE($AY26,$AZ26)) | AE26: =IF(CJ26="","",CONCATENATE($AY26,$AZ26)) -> 2072 | AF26: =IF(CK26="","",CONCATENATE($AY26,$AZ26)) -> 2072 | AG26: =IF(CL26="","",CONCATENATE($AY26,$AZ26)) -> 2072 | ... AW26: =IF(DB26="","",CONCATENATE($AY26,$AZ26)) | AX26: =CONCATENATE(BC26," (",BG26,IF(BH26="","",CONCATENATE(", ",BH26)),")") -> Operációkutatás (215, Tb.-ről web) | AY26: 207 | AZ26: 2 | BA26: =VLOOKUP(AY26,segéd!$F$9:$G$38,2,FALSE) -> 46060 | BB26: =VLOOKUP(AZ26,segéd!$F$1:$G$7,2,FALSE) -> 9.45-11.15 | BC26: Operációkutatás | BD26: Kovács Gergely | BE26: tatabányai, budapesti alapképzés | BF26: 208 | BG26: 215 | BH26: Tb.-ről web | BI26: https://teams.microsoft.com/meet/32595983126048?p=bUUeQfvzUd5Vs4OWYy | BJ26: =SUM(BK26:BL26) -> 43 | BK26: =IF(BF26="","",VLOOKUP(BC26,segéd!O:P,2,FALSE)) -> 23 | BL26: =IF(BG26="","",VLOOKUP(BC26,segéd!T:U,2,FALSE)) -> 20 | BS26: 6 | BT26: 6 | BU26: 9 | CJ26: 3 | CK26: 7 | CL26: 10
A27: =CONCATENATE(BF27,AY27,AZ27) -> 2022072 | B27: =CONCATENATE(BC27,IF(BH27="","",CONCATENATE(" (",BH27,")"))," ",BK27) -> Pénzügyi menedzsment (Bp.-ről web) 7 | C27: =CONCATENATE(BG27,AY27,AZ27) -> 4012072 | D27: =CONCATENATE(BC27,IF(BH27="","",CONCATENATE(" (",BH27,")"))," ",BL27) -> Pénzügyi menedzsment (Bp.-ről web) 3 | E27: =CONCATENATE(BD27,AY27,AZ27) -> Antalík Imrich2072 | F27: =CONCATENATE(BC27," (",IF(OR(BF27="",BH27="Tb.-ről web",BH27="gépterem, Tb.-ről web"),"",CONCATENATE("Bp. ",BF27)),IF(OR(BG27="",BH27="Bp.-ről web",BH27="gépterem, Bp.-ről web"),"",CONCATENATE("Tb. ",BG27)),IF(BH27="","",CONCATENATE(", ",BH27)),")") -> Pénzügyi menedzsment (Bp. 202, Bp.-ről web) | G27: =IF(BM27="","",CONCATENATE($AY27,$AZ27)) | H27: =IF(BN27="","",CONCATENATE($AY27,$AZ27)) | I27: =IF(BO27="","",CONCATENATE($AY27,$AZ27)) | J27: =IF(BP27="","",CONCATENATE($AY27,$AZ27)) -> 2072 | K27: =IF(BQ27="","",CONCATENATE($AY27,$AZ27)) -> 2072 | L27: =IF(BR27="","",CONCATENATE($AY27,$AZ27)) | M27: =IF(BS27="","",CONCATENATE($AY27,$AZ27)) | N27: =IF(BT27="","",CONCATENATE($AY27,$AZ27)) | ... X27: =IF(CD27="","",CONCATENATE($AY27,$AZ27)) | Y27: =CONCATENATE(BC27," (",BF27,IF(BH27="","",CONCATENATE(", ",BH27)),")") -> Pénzügyi menedzsment (202, Bp.-ről web) | Z27: =IF(CE27="","",CONCATENATE($AY27,$AZ27)) | AA27: =IF(CF27="","",CONCATENATE($AY27,$AZ27)) | AB27: =IF(CG27="","",CONCATENATE($AY27,$AZ27)) | AC27: =IF(CH27="","",CONCATENATE($AY27,$AZ27)) | AD27: =IF(CI27="","",CONCATENATE($AY27,$AZ27)) -> 2072 | AE27: =IF(CJ27="","",CONCATENATE($AY27,$AZ27)) | AF27: =IF(CK27="","",CONCATENATE($AY27,$AZ27)) | AG27: =IF(CL27="","",CONCATENATE($AY27,$AZ27)) | ... AW27: =IF(DB27="","",CONCATENATE($AY27,$AZ27)) | AX27: =CONCATENATE(BC27," (",BG27,IF(BH27="","",CONCATENATE(", ",BH27)),")") -> Pénzügyi menedzsment (401, Bp.-ről web) | AY27: 207 | AZ27: 2 | BA27: =VLOOKUP(AY27,segéd!$F$9:$G$38,2,FALSE) -> 46060 | BB27: =VLOOKUP(AZ27,segéd!$F$1:$G$7,2,FALSE) -> 9.45-11.15 | BC27: Pénzügyi menedzsment | BD27: Antalík Imrich | BE27: tatabányai, budapesti mesterképzés | BF27: 202 | BG27: 401 | BH27: Bp.-ről web | BI27: https://teams.microsoft.com/meet/35735168884791?p=qAdUpGL5ujvEAR5RH5 | BJ27: =SUM(BK27:BL27) -> 10 | BK27: =IF(BF27="","",VLOOKUP(BC27,segéd!O:P,2,FALSE)) -> 7 | BL27: =IF(BG27="","",VLOOKUP(BC27,segéd!T:U,2,FALSE)) -> 3 | BP27: 4 | BQ27: 5 | CI27: 4
A28: =CONCATENATE(BF28,AY28,AZ28) -> 2052072 | B28: =CONCATENATE(BC28,IF(BH28="","",CONCATENATE(" (",BH28,")"))," ",BK28) -> Prezentációs és karrt. tech. (Tb.-ről web) 19 | C28: =CONCATENATE(BG28,AY28,AZ28) -> 2122072 | D28: =CONCATENATE(BC28,IF(BH28="","",CONCATENATE(" (",BH28,")"))," ",BL28) -> Prezentációs és karrt. tech. (Tb.-ről web) 32 | E28: =CONCATENATE(BD28,AY28,AZ28) -> Gyalogos Norbert2072 | F28: =CONCATENATE(BC28," (",IF(OR(BF28="",BH28="Tb.-ről web",BH28="gépterem, Tb.-ről web"),"",CONCATENATE("Bp. ",BF28)),IF(OR(BG28="",BH28="Bp.-ről web",BH28="gépterem, Bp.-ről web"),"",CONCATENATE("Tb. ",BG28)),IF(BH28="","",CONCATENATE(", ",BH28)),")") -> Prezentációs és karrt. tech. (Tb. 212, Tb.-ről web) | G28: =IF(BM28="","",CONCATENATE($AY28,$AZ28)) | H28: =IF(BN28="","",CONCATENATE($AY28,$AZ28)) | I28: =IF(BO28="","",CONCATENATE($AY28,$AZ28)) -> 2072 | J28: =IF(BP28="","",CONCATENATE($AY28,$AZ28)) | K28: =IF(BQ28="","",CONCATENATE($AY28,$AZ28)) | L28: =IF(BR28="","",CONCATENATE($AY28,$AZ28)) | M28: =IF(BS28="","",CONCATENATE($AY28,$AZ28)) | N28: =IF(BT28="","",CONCATENATE($AY28,$AZ28)) | ... X28: =IF(CD28="","",CONCATENATE($AY28,$AZ28)) -> 2072 | Y28: =CONCATENATE(BC28," (",BF28,IF(BH28="","",CONCATENATE(", ",BH28)),")") -> Prezentációs és karrt. tech. (205, Tb.-ről web) | Z28: =IF(CE28="","",CONCATENATE($AY28,$AZ28)) | AA28: =IF(CF28="","",CONCATENATE($AY28,$AZ28)) | AB28: =IF(CG28="","",CONCATENATE($AY28,$AZ28)) | AC28: =IF(CH28="","",CONCATENATE($AY28,$AZ28)) | AD28: =IF(CI28="","",CONCATENATE($AY28,$AZ28)) | AE28: =IF(CJ28="","",CONCATENATE($AY28,$AZ28)) | AF28: =IF(CK28="","",CONCATENATE($AY28,$AZ28)) | AG28: =IF(CL28="","",CONCATENATE($AY28,$AZ28)) | ... AW28: =IF(DB28="","",CONCATENATE($AY28,$AZ28)) | AX28: =CONCATENATE(BC28," (",BG28,IF(BH28="","",CONCATENATE(", ",BH28)),")") -> Prezentációs és karrt. tech. (212, Tb.-ről web) | AY28: 207 | AZ28: 2 | BA28: =VLOOKUP(AY28,segéd!$F$9:$G$38,2,FALSE) -> 46060 | BB28: =VLOOKUP(AZ28,segéd!$F$1:$G$7,2,FALSE) -> 9.45-11.15 | BC28: Prezentációs és karrt. tech. | BD28: Gyalogos Norbert | BE28: tatabányai, budapesti alapképzés, FOKSZ | BF28: 205 | BG28: 212 | BH28: Tb.-ről web | BI28: https://teams.microsoft.com/meet/34578620820158?p=esNH2NCiUY43c4O9Sx | BJ28: =SUM(BK28:BL28) -> 51 | BK28: =IF(BF28="","",VLOOKUP(BC28,segéd!O:P,2,FALSE)) -> 19 | BL28: =IF(BG28="","",VLOOKUP(BC28,segéd!T:U,2,FALSE)) -> 32 | BO28: 13 | BZ28: 6 | CA28: 4 | CB28: 3 | CC28: 4 | CD28: 2 | CR28: 11 | CS28: 9 | CT28: 3 | CU28: 3 | CV28: 4
A29: =CONCATENATE(BF29,AY29,AZ29) -> 2072 | B29: =CONCATENATE(BC29,IF(BH29="","",CONCATENATE(" (",BH29,")"))," ",BK29) -> Statisztika I. (web) | C29: =CONCATENATE(BG29,AY29,AZ29) -> 5012072 | D29: =CONCATENATE(BC29,IF(BH29="","",CONCATENATE(" (",BH29,")"))," ",BL29) -> Statisztika I. (web) 119 | E29: =CONCATENATE(BD29,AY29,AZ29) -> Brunner Zsuzsanna2072 | F29: =CONCATENATE(BC29," (",IF(OR(BF29="",BH29="Tb.-ről web",BH29="gépterem, Tb.-ről web"),"",CONCATENATE("Bp. ",BF29)),IF(OR(BG29="",BH29="Bp.-ről web",BH29="gépterem, Bp.-ről web"),"",CONCATENATE("Tb. ",BG29)),IF(BH29="","",CONCATENATE(", ",BH29)),")") -> Statisztika I. (Tb. 501, web) | G29: =IF(BM29="","",CONCATENATE($AY29,$AZ29)) | H29: =IF(BN29="","",CONCATENATE($AY29,$AZ29)) | I29: =IF(BO29="","",CONCATENATE($AY29,$AZ29)) | J29: =IF(BP29="","",CONCATENATE($AY29,$AZ29)) | K29: =IF(BQ29="","",CONCATENATE($AY29,$AZ29)) | L29: =IF(BR29="","",CONCATENATE($AY29,$AZ29)) | M29: =IF(BS29="","",CONCATENATE($AY29,$AZ29)) | N29: =IF(BT29="","",CONCATENATE($AY29,$AZ29)) | ... X29: =IF(CD29="","",CONCATENATE($AY29,$AZ29)) | Y29: =CONCATENATE(BC29," (",BF29,IF(BH29="","",CONCATENATE(", ",BH29)),")") -> Statisztika I. (, web) | Z29: =IF(CE29="","",CONCATENATE($AY29,$AZ29)) -> 2072 | AA29: =IF(CF29="","",CONCATENATE($AY29,$AZ29)) | AB29: =IF(CG29="","",CONCATENATE($AY29,$AZ29)) -> 2072 | AC29: =IF(CH29="","",CONCATENATE($AY29,$AZ29)) | AD29: =IF(CI29="","",CONCATENATE($AY29,$AZ29)) | AE29: =IF(CJ29="","",CONCATENATE($AY29,$AZ29)) | AF29: =IF(CK29="","",CONCATENATE($AY29,$AZ29)) | AG29: =IF(CL29="","",CONCATENATE($AY29,$AZ29)) | ... AW29: =IF(DB29="","",CONCATENATE($AY29,$AZ29)) | AX29: =CONCATENATE(BC29," (",BG29,IF(BH29="","",CONCATENATE(", ",BH29)),")") -> Statisztika I. (501, web) | AY29: 207 | AZ29: 2 | BA29: =VLOOKUP(AY29,segéd!$F$9:$G$38,2,FALSE) -> 46060 | BB29: =VLOOKUP(AZ29,segéd!$F$1:$G$7,2,FALSE) -> 9.45-11.15 | BC29: Statisztika I. | BD29: Brunner Zsuzsanna | BE29: tatabányai alapképzés | BG29: 501 | BH29: web | BI29: https://teams.microsoft.com/meet/34773906729544?p=wIJRc8806Wvzn2sGJd | BJ29: =SUM(BK29:BL29) -> 119 | BK29: =IF(BF29="","",VLOOKUP(BC29,segéd!O:P,2,FALSE)) | BL29: =IF(BG29="","",VLOOKUP(BC29,segéd!T:U,2,FALSE)) -> 119 | CE29: 74 | CG29: 59 | CQ29: 25
A30: =CONCATENATE(BF30,AY30,AZ30) -> 2012072 | B30: =CONCATENATE(BC30,IF(BH30="","",CONCATENATE(" (",BH30,")"))," ",BK30) -> Statisztika I. (web) 59 | C30: =CONCATENATE(BG30,AY30,AZ30) -> 2072 | D30: =CONCATENATE(BC30,IF(BH30="","",CONCATENATE(" (",BH30,")"))," ",BL30) -> Statisztika I. (web) | E30: =CONCATENATE(BD30,AY30,AZ30) -> Piroska László2072 | F30: =CONCATENATE(BC30," (",IF(OR(BF30="",BH30="Tb.-ről web",BH30="gépterem, Tb.-ről web"),"",CONCATENATE("Bp. ",BF30)),IF(OR(BG30="",BH30="Bp.-ről web",BH30="gépterem, Bp.-ről web"),"",CONCATENATE("Tb. ",BG30)),IF(BH30="","",CONCATENATE(", ",BH30)),")") -> Statisztika I. (Bp. 201, web) | G30: =IF(BM30="","",CONCATENATE($AY30,$AZ30)) -> 2072 | H30: =IF(BN30="","",CONCATENATE($AY30,$AZ30)) -> 2072 | I30: =IF(BO30="","",CONCATENATE($AY30,$AZ30)) | J30: =IF(BP30="","",CONCATENATE($AY30,$AZ30)) | K30: =IF(BQ30="","",CONCATENATE($AY30,$AZ30)) | L30: =IF(BR30="","",CONCATENATE($AY30,$AZ30)) | M30: =IF(BS30="","",CONCATENATE($AY30,$AZ30)) | N30: =IF(BT30="","",CONCATENATE($AY30,$AZ30)) | ... X30: =IF(CD30="","",CONCATENATE($AY30,$AZ30)) | Y30: =CONCATENATE(BC30," (",BF30,IF(BH30="","",CONCATENATE(", ",BH30)),")") -> Statisztika I. (201, web) | Z30: =IF(CE30="","",CONCATENATE($AY30,$AZ30)) | AA30: =IF(CF30="","",CONCATENATE($AY30,$AZ30)) | AB30: =IF(CG30="","",CONCATENATE($AY30,$AZ30)) | AC30: =IF(CH30="","",CONCATENATE($AY30,$AZ30)) | AD30: =IF(CI30="","",CONCATENATE($AY30,$AZ30)) | AE30: =IF(CJ30="","",CONCATENATE($AY30,$AZ30)) | AF30: =IF(CK30="","",CONCATENATE($AY30,$AZ30)) | AG30: =IF(CL30="","",CONCATENATE($AY30,$AZ30)) | ... AW30: =IF(DB30="","",CONCATENATE($AY30,$AZ30)) | AX30: =CONCATENATE(BC30," (",BG30,IF(BH30="","",CONCATENATE(", ",BH30)),")") -> Statisztika I. (, web) | AY30: 207 | AZ30: 2 | BA30: =VLOOKUP(AY30,segéd!$F$9:$G$38,2,FALSE) -> 46060 | BB30: =VLOOKUP(AZ30,segéd!$F$1:$G$7,2,FALSE) -> 9.45-11.15 | BC30: Statisztika I. | BD30: Piroska László | BE30: budapesti alapképzés | BF30: 201 | BH30: web | BI30: https://teams.microsoft.com/meet/31019455347525?p=ZN7eAlVKUufj7zDUqb | BJ30: =SUM(BK30:BL30) -> 59 | BK30: =IF(BF30="","",VLOOKUP(BC30,segéd!O:P,2,FALSE)) -> 59 | BL30: =IF(BG30="","",VLOOKUP(BC30,segéd!T:U,2,FALSE)) | BM30: 62 | BN30: 14
A31: =CONCATENATE(BF31,AY31,AZ31) -> 2072 | B31: =CONCATENATE(BC31,IF(BH31="","",CONCATENATE(" (",BH31,")"))," ",BK31) -> Szakszeminárium I. (műszaki) (web) | C31: =CONCATENATE(BG31,AY31,AZ31) -> 6012072 | D31: =CONCATENATE(BC31,IF(BH31="","",CONCATENATE(" (",BH31,")"))," ",BL31) -> Szakszeminárium I. (műszaki) (web) 86 | E31: =CONCATENATE(BD31,AY31,AZ31) -> Vigh László2072 | F31: =CONCATENATE(BC31," (",IF(OR(BF31="",BH31="Tb.-ről web",BH31="gépterem, Tb.-ről web"),"",CONCATENATE("Bp. ",BF31)),IF(OR(BG31="",BH31="Bp.-ről web",BH31="gépterem, Bp.-ről web"),"",CONCATENATE("Tb. ",BG31)),IF(BH31="","",CONCATENATE(", ",BH31)),")") -> Szakszeminárium I. (műszaki) (Tb. 601, web) | G31: =IF(BM31="","",CONCATENATE($AY31,$AZ31)) | H31: =IF(BN31="","",CONCATENATE($AY31,$AZ31)) | I31: =IF(BO31="","",CONCATENATE($AY31,$AZ31)) | J31: =IF(BP31="","",CONCATENATE($AY31,$AZ31)) | K31: =IF(BQ31="","",CONCATENATE($AY31,$AZ31)) | L31: =IF(BR31="","",CONCATENATE($AY31,$AZ31)) | M31: =IF(BS31="","",CONCATENATE($AY31,$AZ31)) | N31: =IF(BT31="","",CONCATENATE($AY31,$AZ31)) | ... X31: =IF(CD31="","",CONCATENATE($AY31,$AZ31)) | Y31: =CONCATENATE(BC31," (",BF31,IF(BH31="","",CONCATENATE(", ",BH31)),")") -> Szakszeminárium I. (műszaki) (, web) | Z31: =IF(CE31="","",CONCATENATE($AY31,$AZ31)) | AA31: =IF(CF31="","",CONCATENATE($AY31,$AZ31)) | AB31: =IF(CG31="","",CONCATENATE($AY31,$AZ31)) | AC31: =IF(CH31="","",CONCATENATE($AY31,$AZ31)) | AD31: =IF(CI31="","",CONCATENATE($AY31,$AZ31)) | AE31: =IF(CJ31="","",CONCATENATE($AY31,$AZ31)) | AF31: =IF(CK31="","",CONCATENATE($AY31,$AZ31)) | AG31: =IF(CL31="","",CONCATENATE($AY31,$AZ31)) | ... AW31: =IF(DB31="","",CONCATENATE($AY31,$AZ31)) -> 2072 | AX31: =CONCATENATE(BC31," (",BG31,IF(BH31="","",CONCATENATE(", ",BH31)),")") -> Szakszeminárium I. (műszaki) (601, web) | AY31: 207 | AZ31: 2 | BA31: =VLOOKUP(AY31,segéd!$F$9:$G$38,2,FALSE) -> 46060 | BB31: =VLOOKUP(AZ31,segéd!$F$1:$G$7,2,FALSE) -> 9.45-11.15 | BC31: Szakszeminárium I. (műszaki) | BD31: Vigh László | BE31: tatabányai alapképzés | BG31: 601 | BH31: web | BI31: https://teams.microsoft.com/meet/38080611680208?p=VVJMQKIGyGfdylap47 | BJ31: =SUM(BK31:BL31) -> 86 | BK31: =IF(BF31="","",VLOOKUP(BC31,segéd!O:P,2,FALSE)) | BL31: =IF(BG31="","",VLOOKUP(BC31,segéd!T:U,2,FALSE)) -> 86 | CW31: 16 | CX31: 8 | CY31: 13 | CZ31: 9 | DA31: 13 | DB31: 34
A32: =CONCATENATE(BF32,AY32,AZ32) -> 2062072 | B32: =CONCATENATE(BC32,IF(BH32="","",CONCATENATE(" (",BH32,")"))," ",BK32) -> Turisztikai termékek (web) 6 | C32: =CONCATENATE(BG32,AY32,AZ32) -> 2072 | D32: =CONCATENATE(BC32,IF(BH32="","",CONCATENATE(" (",BH32,")"))," ",BL32) -> Turisztikai termékek (web) | E32: =CONCATENATE(BD32,AY32,AZ32) -> Bíró Csaba2072 | F32: =CONCATENATE(BC32," (",IF(OR(BF32="",BH32="Tb.-ről web",BH32="gépterem, Tb.-ről web"),"",CONCATENATE("Bp. ",BF32)),IF(OR(BG32="",BH32="Bp.-ről web",BH32="gépterem, Bp.-ről web"),"",CONCATENATE("Tb. ",BG32)),IF(BH32="","",CONCATENATE(", ",BH32)),")") -> Turisztikai termékek (Bp. 206, web) | G32: =IF(BM32="","",CONCATENATE($AY32,$AZ32)) | H32: =IF(BN32="","",CONCATENATE($AY32,$AZ32)) | I32: =IF(BO32="","",CONCATENATE($AY32,$AZ32)) | J32: =IF(BP32="","",CONCATENATE($AY32,$AZ32)) | K32: =IF(BQ32="","",CONCATENATE($AY32,$AZ32)) | L32: =IF(BR32="","",CONCATENATE($AY32,$AZ32)) | M32: =IF(BS32="","",CONCATENATE($AY32,$AZ32)) | N32: =IF(BT32="","",CONCATENATE($AY32,$AZ32)) | ... X32: =IF(CD32="","",CONCATENATE($AY32,$AZ32)) | Y32: =CONCATENATE(BC32," (",BF32,IF(BH32="","",CONCATENATE(", ",BH32)),")") -> Turisztikai termékek (206, web) | Z32: =IF(CE32="","",CONCATENATE($AY32,$AZ32)) | AA32: =IF(CF32="","",CONCATENATE($AY32,$AZ32)) | AB32: =IF(CG32="","",CONCATENATE($AY32,$AZ32)) | AC32: =IF(CH32="","",CONCATENATE($AY32,$AZ32)) | AD32: =IF(CI32="","",CONCATENATE($AY32,$AZ32)) | AE32: =IF(CJ32="","",CONCATENATE($AY32,$AZ32)) | AF32: =IF(CK32="","",CONCATENATE($AY32,$AZ32)) | AG32: =IF(CL32="","",CONCATENATE($AY32,$AZ32)) | ... AW32: =IF(DB32="","",CONCATENATE($AY32,$AZ32)) | AX32: =CONCATENATE(BC32," (",BG32,IF(BH32="","",CONCATENATE(", ",BH32)),")") -> Turisztikai termékek (, web) | AY32: 207 | AZ32: 2 | BA32: =VLOOKUP(AY32,segéd!$F$9:$G$38,2,FALSE) -> 46060 | BB32: =VLOOKUP(AZ32,segéd!$F$1:$G$7,2,FALSE) -> 9.45-11.15 | BC32: Turisztikai termékek | BD32: Bíró Csaba | BE32: budapesti alapképzés | BF32: 206 | BH32: web | BI32: https://teams.microsoft.com/meet/3763653557961?p=ywlJTp4PDKpQTRtWUr | BJ32: =SUM(BK32:BL32) -> 6 | BK32: =IF(BF32="","",VLOOKUP(BC32,segéd!O:P,2,FALSE)) -> 6 | BL32: =IF(BG32="","",VLOOKUP(BC32,segéd!T:U,2,FALSE)) | BY32: 6
A33: =CONCATENATE(BF33,AY33,AZ33) -> 2072 | B33: =CONCATENATE(BC33,IF(BH33="","",CONCATENATE(" (",BH33,")"))," ",BK33) -> Üzleti tervezés (szv.) (web) | C33: =CONCATENATE(BG33,AY33,AZ33) -> 2142072 | D33: =CONCATENATE(BC33,IF(BH33="","",CONCATENATE(" (",BH33,")"))," ",BL33) -> Üzleti tervezés (szv.) (web) 22 | E33: =CONCATENATE(BD33,AY33,AZ33) -> Kovács Cecília2072 | F33: =CONCATENATE(BC33," (",IF(OR(BF33="",BH33="Tb.-ről web",BH33="gépterem, Tb.-ről web"),"",CONCATENATE("Bp. ",BF33)),IF(OR(BG33="",BH33="Bp.-ről web",BH33="gépterem, Bp.-ről web"),"",CONCATENATE("Tb. ",BG33)),IF(BH33="","",CONCATENATE(", ",BH33)),")") -> Üzleti tervezés (szv.) (Tb. 214, web) | G33: =IF(BM33="","",CONCATENATE($AY33,$AZ33)) | H33: =IF(BN33="","",CONCATENATE($AY33,$AZ33)) | I33: =IF(BO33="","",CONCATENATE($AY33,$AZ33)) | J33: =IF(BP33="","",CONCATENATE($AY33,$AZ33)) | K33: =IF(BQ33="","",CONCATENATE($AY33,$AZ33)) | L33: =IF(BR33="","",CONCATENATE($AY33,$AZ33)) | M33: =IF(BS33="","",CONCATENATE($AY33,$AZ33)) | N33: =IF(BT33="","",CONCATENATE($AY33,$AZ33)) | ... X33: =IF(CD33="","",CONCATENATE($AY33,$AZ33)) | Y33: =CONCATENATE(BC33," (",BF33,IF(BH33="","",CONCATENATE(", ",BH33)),")") -> Üzleti tervezés (szv.) (, web) | Z33: =IF(CE33="","",CONCATENATE($AY33,$AZ33)) | AA33: =IF(CF33="","",CONCATENATE($AY33,$AZ33)) | AB33: =IF(CG33="","",CONCATENATE($AY33,$AZ33)) | AC33: =IF(CH33="","",CONCATENATE($AY33,$AZ33)) | AD33: =IF(CI33="","",CONCATENATE($AY33,$AZ33)) | AE33: =IF(CJ33="","",CONCATENATE($AY33,$AZ33)) | AF33: =IF(CK33="","",CONCATENATE($AY33,$AZ33)) | AG33: =IF(CL33="","",CONCATENATE($AY33,$AZ33)) | ... AW33: =IF(DB33="","",CONCATENATE($AY33,$AZ33)) | AX33: =CONCATENATE(BC33," (",BG33,IF(BH33="","",CONCATENATE(", ",BH33)),")") -> Üzleti tervezés (szv.) (214, web) | AY33: 207 | AZ33: 2 | BA33: =VLOOKUP(AY33,segéd!$F$9:$G$38,2,FALSE) -> 46060 | BB33: =VLOOKUP(AZ33,segéd!$F$1:$G$7,2,FALSE) -> 9.45-11.15 | BC33: Üzleti tervezés (szv.) | BD33: Kovács Cecília | BE33: tatabányai alapképzés | BG33: 214 | BH33: web | BI33: https://teams.microsoft.com/meet/36424050497113?p=gWXi0ga726jolEY1lL | BJ33: =SUM(BK33:BL33) -> 22 | BK33: =IF(BF33="","",VLOOKUP(BC33,segéd!O:P,2,FALSE)) | BL33: =IF(BG33="","",VLOOKUP(BC33,segéd!T:U,2,FALSE)) -> 22 | CP33: 25
A34: =CONCATENATE(BF34,AY34,AZ34) -> 2073 | B34: =CONCATENATE(BC34,IF(BH34="","",CONCATENATE(" (",BH34,")"))," ",BK34) -> A CAD alapjai (gépterem, web) | C34: =CONCATENATE(BG34,AY34,AZ34) -> 6032073 | D34: =CONCATENATE(BC34,IF(BH34="","",CONCATENATE(" (",BH34,")"))," ",BL34) -> A CAD alapjai (gépterem, web) 9 | E34: =CONCATENATE(BD34,AY34,AZ34) -> Szentgyörgyiné Gyöngyösi Éva2073 | F34: =CONCATENATE(BC34," (",IF(OR(BF34="",BH34="Tb.-ről web",BH34="gépterem, Tb.-ről web"),"",CONCATENATE("Bp. ",BF34)),IF(OR(BG34="",BH34="Bp.-ről web",BH34="gépterem, Bp.-ről web"),"",CONCATENATE("Tb. ",BG34)),IF(BH34="","",CONCATENATE(", ",BH34)),")") -> A CAD alapjai (Tb. 603, gépterem, web) | G34: =IF(BM34="","",CONCATENATE($AY34,$AZ34)) | H34: =IF(BN34="","",CONCATENATE($AY34,$AZ34)) | I34: =IF(BO34="","",CONCATENATE($AY34,$AZ34)) | J34: =IF(BP34="","",CONCATENATE($AY34,$AZ34)) | K34: =IF(BQ34="","",CONCATENATE($AY34,$AZ34)) | L34: =IF(BR34="","",CONCATENATE($AY34,$AZ34)) | M34: =IF(BS34="","",CONCATENATE($AY34,$AZ34)) | N34: =IF(BT34="","",CONCATENATE($AY34,$AZ34)) | ... X34: =IF(CD34="","",CONCATENATE($AY34,$AZ34)) | Y34: =CONCATENATE(BC34," (",BF34,IF(BH34="","",CONCATENATE(", ",BH34)),")") -> A CAD alapjai (, gépterem, web) | Z34: =IF(CE34="","",CONCATENATE($AY34,$AZ34)) | AA34: =IF(CF34="","",CONCATENATE($AY34,$AZ34)) -> 2073 | AB34: =IF(CG34="","",CONCATENATE($AY34,$AZ34)) | AC34: =IF(CH34="","",CONCATENATE($AY34,$AZ34)) | AD34: =IF(CI34="","",CONCATENATE($AY34,$AZ34)) | AE34: =IF(CJ34="","",CONCATENATE($AY34,$AZ34)) | AF34: =IF(CK34="","",CONCATENATE($AY34,$AZ34)) | AG34: =IF(CL34="","",CONCATENATE($AY34,$AZ34)) | ... AW34: =IF(DB34="","",CONCATENATE($AY34,$AZ34)) | AX34: =CONCATENATE(BC34," (",BG34,IF(BH34="","",CONCATENATE(", ",BH34)),")") -> A CAD alapjai (603, gépterem, web) | AY34: 207 | AZ34: 3 | BA34: =VLOOKUP(AY34,segéd!$F$9:$G$38,2,FALSE) -> 46060 | BB34: =VLOOKUP(AZ34,segéd!$F$1:$G$7,2,FALSE) -> 11.30-13.00 | BC34: A CAD alapjai | BD34: Szentgyörgyiné Gyöngyösi Éva | BE34: tatabányai FOKSZ | BG34: 603 | BH34: gépterem, web | BI34: https://teams.microsoft.com/meet/31606823993885?p=W0sQ1K6767JWqLYN9h | BJ34: =SUM(BK34:BL34) -> 9 | BK34: =IF(BF34="","",VLOOKUP(BC34,segéd!O:P,2,FALSE)) | BL34: =IF(BG34="","",VLOOKUP(BC34,segéd!T:U,2,FALSE)) -> 9 | CF34: 19
A35: =CONCATENATE(BF35,AY35,AZ35) -> 2073 | B35: =CONCATENATE(BC35,IF(BH35="","",CONCATENATE(" (",BH35,")"))," ",BK35) -> Alkalmazott informatika (gépterem, web) | C35: =CONCATENATE(BG35,AY35,AZ35) -> 6042073 | D35: =CONCATENATE(BC35,IF(BH35="","",CONCATENATE(" (",BH35,")"))," ",BL35) -> Alkalmazott informatika (gépterem, web) 24 | E35: =CONCATENATE(BD35,AY35,AZ35) -> Nagyné Csóti Beáta2073 | F35: =CONCATENATE(BC35," (",IF(OR(BF35="",BH35="Tb.-ről web",BH35="gépterem, Tb.-ről web"),"",CONCATENATE("Bp. ",BF35)),IF(OR(BG35="",BH35="Bp.-ről web",BH35="gépterem, Bp.-ről web"),"",CONCATENATE("Tb. ",BG35)),IF(BH35="","",CONCATENATE(", ",BH35)),")") -> Alkalmazott informatika (Tb. 604, gépterem, web) | G35: =IF(BM35="","",CONCATENATE($AY35,$AZ35)) | H35: =IF(BN35="","",CONCATENATE($AY35,$AZ35)) | I35: =IF(BO35="","",CONCATENATE($AY35,$AZ35)) | J35: =IF(BP35="","",CONCATENATE($AY35,$AZ35)) | K35: =IF(BQ35="","",CONCATENATE($AY35,$AZ35)) | L35: =IF(BR35="","",CONCATENATE($AY35,$AZ35)) | M35: =IF(BS35="","",CONCATENATE($AY35,$AZ35)) | N35: =IF(BT35="","",CONCATENATE($AY35,$AZ35)) | ... X35: =IF(CD35="","",CONCATENATE($AY35,$AZ35)) | Y35: =CONCATENATE(BC35," (",BF35,IF(BH35="","",CONCATENATE(", ",BH35)),")") -> Alkalmazott informatika (, gépterem, web) | Z35: =IF(CE35="","",CONCATENATE($AY35,$AZ35)) | AA35: =IF(CF35="","",CONCATENATE($AY35,$AZ35)) | AB35: =IF(CG35="","",CONCATENATE($AY35,$AZ35)) | AC35: =IF(CH35="","",CONCATENATE($AY35,$AZ35)) | AD35: =IF(CI35="","",CONCATENATE($AY35,$AZ35)) | AE35: =IF(CJ35="","",CONCATENATE($AY35,$AZ35)) -> 2073 | AF35: =IF(CK35="","",CONCATENATE($AY35,$AZ35)) -> 2073 | AG35: =IF(CL35="","",CONCATENATE($AY35,$AZ35)) -> 2073 | ... AW35: =IF(DB35="","",CONCATENATE($AY35,$AZ35)) | AX35: =CONCATENATE(BC35," (",BG35,IF(BH35="","",CONCATENATE(", ",BH35)),")") -> Alkalmazott informatika (604, gépterem, web) | AY35: 207 | AZ35: 3 | BA35: =VLOOKUP(AY35,segéd!$F$9:$G$38,2,FALSE) -> 46060 | BB35: =VLOOKUP(AZ35,segéd!$F$1:$G$7,2,FALSE) -> 11.30-13.00 | BC35: Alkalmazott informatika | BD35: Nagyné Csóti Beáta | BE35: tatabányai alapképzés | BG35: 604 | BH35: gépterem, web | BI35: https://teams.microsoft.com/meet/38906710929912?p=zq7BZ1Xz4veFmCKQfC | BJ35: =SUM(BK35:BL35) -> 24 | BK35: =IF(BF35="","",VLOOKUP(BC35,segéd!O:P,2,FALSE)) | BL35: =IF(BG35="","",VLOOKUP(BC35,segéd!T:U,2,FALSE)) -> 24 | CJ35: 3 | CK35: 7 | CL35: 10 | CM35: 3 | CN35: 2 | CO35: 4
A36: =CONCATENATE(BF36,AY36,AZ36) -> 2073 | B36: =CONCATENATE(BC36,IF(BH36="","",CONCATENATE(" (",BH36,")"))," ",BK36) -> Emberi erőforrás menedzsment (web) | C36: =CONCATENATE(BG36,AY36,AZ36) -> 4012073 | D36: =CONCATENATE(BC36,IF(BH36="","",CONCATENATE(" (",BH36,")"))," ",BL36) -> Emberi erőforrás menedzsment (web) 5 | E36: =CONCATENATE(BD36,AY36,AZ36) -> Gyalogos Norbert2073 | F36: =CONCATENATE(BC36," (",IF(OR(BF36="",BH36="Tb.-ről web",BH36="gépterem, Tb.-ről web"),"",CONCATENATE("Bp. ",BF36)),IF(OR(BG36="",BH36="Bp.-ről web",BH36="gépterem, Bp.-ről web"),"",CONCATENATE("Tb. ",BG36)),IF(BH36="","",CONCATENATE(", ",BH36)),")") -> Emberi erőforrás menedzsment (Tb. 401, web) | G36: =IF(BM36="","",CONCATENATE($AY36,$AZ36)) | H36: =IF(BN36="","",CONCATENATE($AY36,$AZ36)) | I36: =IF(BO36="","",CONCATENATE($AY36,$AZ36)) | J36: =IF(BP36="","",CONCATENATE($AY36,$AZ36)) | K36: =IF(BQ36="","",CONCATENATE($AY36,$AZ36)) | L36: =IF(BR36="","",CONCATENATE($AY36,$AZ36)) | M36: =IF(BS36="","",CONCATENATE($AY36,$AZ36)) | N36: =IF(BT36="","",CONCATENATE($AY36,$AZ36)) | ... X36: =IF(CD36="","",CONCATENATE($AY36,$AZ36)) | Y36: =CONCATENATE(BC36," (",BF36,IF(BH36="","",CONCATENATE(", ",BH36)),")") -> Emberi erőforrás menedzsment (, web) | Z36: =IF(CE36="","",CONCATENATE($AY36,$AZ36)) | AA36: =IF(CF36="","",CONCATENATE($AY36,$AZ36)) | AB36: =IF(CG36="","",CONCATENATE($AY36,$AZ36)) | AC36: =IF(CH36="","",CONCATENATE($AY36,$AZ36)) | AD36: =IF(CI36="","",CONCATENATE($AY36,$AZ36)) -> 2073 | AE36: =IF(CJ36="","",CONCATENATE($AY36,$AZ36)) | AF36: =IF(CK36="","",CONCATENATE($AY36,$AZ36)) | AG36: =IF(CL36="","",CONCATENATE($AY36,$AZ36)) | ... AW36: =IF(DB36="","",CONCATENATE($AY36,$AZ36)) | AX36: =CONCATENATE(BC36," (",BG36,IF(BH36="","",CONCATENATE(", ",BH36)),")") -> Emberi erőforrás menedzsment (401, web) | AY36: 207 | AZ36: 3 | BA36: =VLOOKUP(AY36,segéd!$F$9:$G$38,2,FALSE) -> 46060 | BB36: =VLOOKUP(AZ36,segéd!$F$1:$G$7,2,FALSE) -> 11.30-13.00 | BC36: Emberi erőforrás menedzsment | BD36: Gyalogos Norbert | BE36: tatabányai mesterképzés | BG36: 401 | BH36: web | BI36: https://teams.microsoft.com/meet/37217266966001?p=3SogP0kI1oRJt1y1Yy | BJ36: =SUM(BK36:BL36) -> 5 | BK36: =IF(BF36="","",VLOOKUP(BC36,segéd!O:P,2,FALSE)) | BL36: =IF(BG36="","",VLOOKUP(BC36,segéd!T:U,2,FALSE)) -> 5 | CI36: 5
A37: =CONCATENATE(BF37,AY37,AZ37) -> 2073 | B37: =CONCATENATE(BC37,IF(BH37="","",CONCATENATE(" (",BH37,")"))," ",BK37) -> Épf., bizt. rendszerek irányítása (web) | C37: =CONCATENATE(BG37,AY37,AZ37) -> 2162073 | D37: =CONCATENATE(BC37,IF(BH37="","",CONCATENATE(" (",BH37,")"))," ",BL37) -> Épf., bizt. rendszerek irányítása (web) 8 | E37: =CONCATENATE(BD37,AY37,AZ37) -> Zalahegyi Zoltán2073 | F37: =CONCATENATE(BC37," (",IF(OR(BF37="",BH37="Tb.-ről web",BH37="gépterem, Tb.-ről web"),"",CONCATENATE("Bp. ",BF37)),IF(OR(BG37="",BH37="Bp.-ről web",BH37="gépterem, Bp.-ről web"),"",CONCATENATE("Tb. ",BG37)),IF(BH37="","",CONCATENATE(", ",BH37)),")") -> Épf., bizt. rendszerek irányítása (Tb. 216, web) | G37: =IF(BM37="","",CONCATENATE($AY37,$AZ37)) | H37: =IF(BN37="","",CONCATENATE($AY37,$AZ37)) | I37: =IF(BO37="","",CONCATENATE($AY37,$AZ37)) | J37: =IF(BP37="","",CONCATENATE($AY37,$AZ37)) | K37: =IF(BQ37="","",CONCATENATE($AY37,$AZ37)) | L37: =IF(BR37="","",CONCATENATE($AY37,$AZ37)) | M37: =IF(BS37="","",CONCATENATE($AY37,$AZ37)) | N37: =IF(BT37="","",CONCATENATE($AY37,$AZ37)) | ... X37: =IF(CD37="","",CONCATENATE($AY37,$AZ37)) | Y37: =CONCATENATE(BC37," (",BF37,IF(BH37="","",CONCATENATE(", ",BH37)),")") -> Épf., bizt. rendszerek irányítása (, web) | Z37: =IF(CE37="","",CONCATENATE($AY37,$AZ37)) | AA37: =IF(CF37="","",CONCATENATE($AY37,$AZ37)) | AB37: =IF(CG37="","",CONCATENATE($AY37,$AZ37)) | AC37: =IF(CH37="","",CONCATENATE($AY37,$AZ37)) | AD37: =IF(CI37="","",CONCATENATE($AY37,$AZ37)) | AE37: =IF(CJ37="","",CONCATENATE($AY37,$AZ37)) | AF37: =IF(CK37="","",CONCATENATE($AY37,$AZ37)) | AG37: =IF(CL37="","",CONCATENATE($AY37,$AZ37)) | ... AW37: =IF(DB37="","",CONCATENATE($AY37,$AZ37)) | AX37: =CONCATENATE(BC37," (",BG37,IF(BH37="","",CONCATENATE(", ",BH37)),")") -> Épf., bizt. rendszerek irányítása (216, web) | AY37: 207 | AZ37: 3 | BA37: =VLOOKUP(AY37,segéd!$F$9:$G$38,2,FALSE) -> 46060 | BB37: =VLOOKUP(AZ37,segéd!$F$1:$G$7,2,FALSE) -> 11.30-13.00 | BC37: Épf., bizt. rendszerek irányítása | BD37: Zalahegyi Zoltán | BE37: tatabányai alapképzés | BG37: 216 | BH37: web | BI37: https://teams.microsoft.com/meet/3697701145847?p=pMffDb9HpyhyvTGsEm | BJ37: =SUM(BK37:BL37) -> 8 | BK37: =IF(BF37="","",VLOOKUP(BC37,segéd!O:P,2,FALSE)) | BL37: =IF(BG37="","",VLOOKUP(BC37,segéd!T:U,2,FALSE)) -> 8 | CX37: 8
A38: =CONCATENATE(BF38,AY38,AZ38) -> 2172073 | B38: =CONCATENATE(BC38,IF(BH38="","",CONCATENATE(" (",BH38,")"))," ",BK38) -> Fogyasztói magatartásvizsgálat (web) 11 | C38: =CONCATENATE(BG38,AY38,AZ38) -> 2073 | D38: =CONCATENATE(BC38,IF(BH38="","",CONCATENATE(" (",BH38,")"))," ",BL38) -> Fogyasztói magatartásvizsgálat (web) | E38: =CONCATENATE(BD38,AY38,AZ38) -> Rózsa Zoltán2073 | F38: =CONCATENATE(BC38," (",IF(OR(BF38="",BH38="Tb.-ről web",BH38="gépterem, Tb.-ről web"),"",CONCATENATE("Bp. ",BF38)),IF(OR(BG38="",BH38="Bp.-ről web",BH38="gépterem, Bp.-ről web"),"",CONCATENATE("Tb. ",BG38)),IF(BH38="","",CONCATENATE(", ",BH38)),")") -> Fogyasztói magatartásvizsgálat (Bp. 217, web) | G38: =IF(BM38="","",CONCATENATE($AY38,$AZ38)) | H38: =IF(BN38="","",CONCATENATE($AY38,$AZ38)) | I38: =IF(BO38="","",CONCATENATE($AY38,$AZ38)) | J38: =IF(BP38="","",CONCATENATE($AY38,$AZ38)) | K38: =IF(BQ38="","",CONCATENATE($AY38,$AZ38)) | L38: =IF(BR38="","",CONCATENATE($AY38,$AZ38)) -> 2073 | M38: =IF(BS38="","",CONCATENATE($AY38,$AZ38)) | N38: =IF(BT38="","",CONCATENATE($AY38,$AZ38)) | ... X38: =IF(CD38="","",CONCATENATE($AY38,$AZ38)) | Y38: =CONCATENATE(BC38," (",BF38,IF(BH38="","",CONCATENATE(", ",BH38)),")") -> Fogyasztói magatartásvizsgálat (217, web) | Z38: =IF(CE38="","",CONCATENATE($AY38,$AZ38)) | AA38: =IF(CF38="","",CONCATENATE($AY38,$AZ38)) | AB38: =IF(CG38="","",CONCATENATE($AY38,$AZ38)) | AC38: =IF(CH38="","",CONCATENATE($AY38,$AZ38)) | AD38: =IF(CI38="","",CONCATENATE($AY38,$AZ38)) | AE38: =IF(CJ38="","",CONCATENATE($AY38,$AZ38)) | AF38: =IF(CK38="","",CONCATENATE($AY38,$AZ38)) | AG38: =IF(CL38="","",CONCATENATE($AY38,$AZ38)) | ... AW38: =IF(DB38="","",CONCATENATE($AY38,$AZ38)) | AX38: =CONCATENATE(BC38," (",BG38,IF(BH38="","",CONCATENATE(", ",BH38)),")") -> Fogyasztói magatartásvizsgálat (, web) | AY38: 207 | AZ38: 3 | BA38: =VLOOKUP(AY38,segéd!$F$9:$G$38,2,FALSE) -> 46060 | BB38: =VLOOKUP(AZ38,segéd!$F$1:$G$7,2,FALSE) -> 11.30-13.00 | BC38: Fogyasztói magatartásvizsgálat | BD38: Rózsa Zoltán | BE38: budapesti mesterképzés | BF38: 217 | BH38: web | BI38: https://teams.microsoft.com/meet/32253674590569?p=5IofeULpzbiaZwWwgD | BJ38: =SUM(BK38:BL38) -> 11 | BK38: =IF(BF38="","",VLOOKUP(BC38,segéd!O:P,2,FALSE)) -> 11 | BL38: =IF(BG38="","",VLOOKUP(BC38,segéd!T:U,2,FALSE)) | BR38: 11
A39: =CONCATENATE(BF39,AY39,AZ39) -> 2073 | B39: =CONCATENATE(BC39,IF(BH39="","",CONCATENATE(" (",BH39,")"))," ",BK39) -> Folyamatok fejlesztése - Lean (web) | C39: =CONCATENATE(BG39,AY39,AZ39) -> 2172073 | D39: =CONCATENATE(BC39,IF(BH39="","",CONCATENATE(" (",BH39,")"))," ",BL39) -> Folyamatok fejlesztése - Lean (web) 17 | E39: =CONCATENATE(BD39,AY39,AZ39) -> Böröczki Ágoston2073 | F39: =CONCATENATE(BC39," (",IF(OR(BF39="",BH39="Tb.-ről web",BH39="gépterem, Tb.-ről web"),"",CONCATENATE("Bp. ",BF39)),IF(OR(BG39="",BH39="Bp.-ről web",BH39="gépterem, Bp.-ről web"),"",CONCATENATE("Tb. ",BG39)),IF(BH39="","",CONCATENATE(", ",BH39)),")") -> Folyamatok fejlesztése - Lean (Tb. 217, web) | G39: =IF(BM39="","",CONCATENATE($AY39,$AZ39)) | H39: =IF(BN39="","",CONCATENATE($AY39,$AZ39)) | I39: =IF(BO39="","",CONCATENATE($AY39,$AZ39)) | J39: =IF(BP39="","",CONCATENATE($AY39,$AZ39)) | K39: =IF(BQ39="","",CONCATENATE($AY39,$AZ39)) | L39: =IF(BR39="","",CONCATENATE($AY39,$AZ39)) | M39: =IF(BS39="","",CONCATENATE($AY39,$AZ39)) | N39: =IF(BT39="","",CONCATENATE($AY39,$AZ39)) | ... X39: =IF(CD39="","",CONCATENATE($AY39,$AZ39)) | Y39: =CONCATENATE(BC39," (",BF39,IF(BH39="","",CONCATENATE(", ",BH39)),")") -> Folyamatok fejlesztése - Lean (, web) | Z39: =IF(CE39="","",CONCATENATE($AY39,$AZ39)) | AA39: =IF(CF39="","",CONCATENATE($AY39,$AZ39)) | AB39: =IF(CG39="","",CONCATENATE($AY39,$AZ39)) | AC39: =IF(CH39="","",CONCATENATE($AY39,$AZ39)) | AD39: =IF(CI39="","",CONCATENATE($AY39,$AZ39)) | AE39: =IF(CJ39="","",CONCATENATE($AY39,$AZ39)) | AF39: =IF(CK39="","",CONCATENATE($AY39,$AZ39)) | AG39: =IF(CL39="","",CONCATENATE($AY39,$AZ39)) | ... AW39: =IF(DB39="","",CONCATENATE($AY39,$AZ39)) | AX39: =CONCATENATE(BC39," (",BG39,IF(BH39="","",CONCATENATE(", ",BH39)),")") -> Folyamatok fejlesztése - Lean (217, web) | AY39: 207 | AZ39: 3 | BA39: =VLOOKUP(AY39,segéd!$F$9:$G$38,2,FALSE) -> 46060 | BB39: =VLOOKUP(AZ39,segéd!$F$1:$G$7,2,FALSE) -> 11.30-13.00 | BC39: Folyamatok fejlesztése - Lean | BD39: Böröczki Ágoston | BE39: tatabányai alapképzés | BG39: 217 | BH39: web | BI39: https://teams.microsoft.com/meet/34600097241474?p=WiRtezbeKKVV4ZDA2c | BJ39: =SUM(BK39:BL39) -> 17 | BK39: =IF(BF39="","",VLOOKUP(BC39,segéd!O:P,2,FALSE)) | BL39: =IF(BG39="","",VLOOKUP(BC39,segéd!T:U,2,FALSE)) -> 17 | CW39: 16
A40: =CONCATENATE(BF40,AY40,AZ40) -> 2073 | B40: =CONCATENATE(BC40,IF(BH40="","",CONCATENATE(" (",BH40,")"))," ",BK40) -> Gazdasági matematika II. (web) | C40: =CONCATENATE(BG40,AY40,AZ40) -> 2152073 | D40: =CONCATENATE(BC40,IF(BH40="","",CONCATENATE(" (",BH40,")"))," ",BL40) -> Gazdasági matematika II. (web) 63 | E40: =CONCATENATE(BD40,AY40,AZ40) -> Kovács Gergely2073 | F40: =CONCATENATE(BC40," (",IF(OR(BF40="",BH40="Tb.-ről web",BH40="gépterem, Tb.-ről web"),"",CONCATENATE("Bp. ",BF40)),IF(OR(BG40="",BH40="Bp.-ről web",BH40="gépterem, Bp.-ről web"),"",CONCATENATE("Tb. ",BG40)),IF(BH40="","",CONCATENATE(", ",BH40)),")") -> Gazdasági matematika II. (Tb. 215, web) | G40: =IF(BM40="","",CONCATENATE($AY40,$AZ40)) | H40: =IF(BN40="","",CONCATENATE($AY40,$AZ40)) | I40: =IF(BO40="","",CONCATENATE($AY40,$AZ40)) | J40: =IF(BP40="","",CONCATENATE($AY40,$AZ40)) | K40: =IF(BQ40="","",CONCATENATE($AY40,$AZ40)) | L40: =IF(BR40="","",CONCATENATE($AY40,$AZ40)) | M40: =IF(BS40="","",CONCATENATE($AY40,$AZ40)) | N40: =IF(BT40="","",CONCATENATE($AY40,$AZ40)) | ... X40: =IF(CD40="","",CONCATENATE($AY40,$AZ40)) | Y40: =CONCATENATE(BC40," (",BF40,IF(BH40="","",CONCATENATE(", ",BH40)),")") -> Gazdasági matematika II. (, web) | Z40: =IF(CE40="","",CONCATENATE($AY40,$AZ40)) -> 2073 | AA40: =IF(CF40="","",CONCATENATE($AY40,$AZ40)) | AB40: =IF(CG40="","",CONCATENATE($AY40,$AZ40)) | AC40: =IF(CH40="","",CONCATENATE($AY40,$AZ40)) | AD40: =IF(CI40="","",CONCATENATE($AY40,$AZ40)) | AE40: =IF(CJ40="","",CONCATENATE($AY40,$AZ40)) | AF40: =IF(CK40="","",CONCATENATE($AY40,$AZ40)) | AG40: =IF(CL40="","",CONCATENATE($AY40,$AZ40)) | ... AW40: =IF(DB40="","",CONCATENATE($AY40,$AZ40)) | AX40: =CONCATENATE(BC40," (",BG40,IF(BH40="","",CONCATENATE(", ",BH40)),")") -> Gazdasági matematika II. (215, web) | AY40: 207 | AZ40: 3 | BA40: =VLOOKUP(AY40,segéd!$F$9:$G$38,2,FALSE) -> 46060 | BB40: =VLOOKUP(AZ40,segéd!$F$1:$G$7,2,FALSE) -> 11.30-13.00 | BC40: Gazdasági matematika II. | BD40: Kovács Gergely | BE40: tatabányai alapképzés | BG40: 215 | BH40: web | BI40: https://teams.microsoft.com/meet/33402982476083?p=JHbpDbpuWSZ46L2ump | BJ40: =SUM(BK40:BL40) -> 63 | BK40: =IF(BF40="","",VLOOKUP(BC40,segéd!O:P,2,FALSE)) | BL40: =IF(BG40="","",VLOOKUP(BC40,segéd!T:U,2,FALSE)) -> 63 | CE40: 74
A41: =CONCATENATE(BF41,AY41,AZ41) -> 2073 | B41: =CONCATENATE(BC41,IF(BH41="","",CONCATENATE(" (",BH41,")"))," ",BK41) -> Karbantartás elmélet (web) | C41: =CONCATENATE(BG41,AY41,AZ41) -> 4042073 | D41: =CONCATENATE(BC41,IF(BH41="","",CONCATENATE(" (",BH41,")"))," ",BL41) -> Karbantartás elmélet (web) 7 | E41: =CONCATENATE(BD41,AY41,AZ41) -> Lukács András2073 | F41: =CONCATENATE(BC41," (",IF(OR(BF41="",BH41="Tb.-ről web",BH41="gépterem, Tb.-ről web"),"",CONCATENATE("Bp. ",BF41)),IF(OR(BG41="",BH41="Bp.-ről web",BH41="gépterem, Bp.-ről web"),"",CONCATENATE("Tb. ",BG41)),IF(BH41="","",CONCATENATE(", ",BH41)),")") -> Karbantartás elmélet (Tb. 404, web) | G41: =IF(BM41="","",CONCATENATE($AY41,$AZ41)) | H41: =IF(BN41="","",CONCATENATE($AY41,$AZ41)) | I41: =IF(BO41="","",CONCATENATE($AY41,$AZ41)) | J41: =IF(BP41="","",CONCATENATE($AY41,$AZ41)) | K41: =IF(BQ41="","",CONCATENATE($AY41,$AZ41)) | L41: =IF(BR41="","",CONCATENATE($AY41,$AZ41)) | M41: =IF(BS41="","",CONCATENATE($AY41,$AZ41)) | N41: =IF(BT41="","",CONCATENATE($AY41,$AZ41)) | ... X41: =IF(CD41="","",CONCATENATE($AY41,$AZ41)) | Y41: =CONCATENATE(BC41," (",BF41,IF(BH41="","",CONCATENATE(", ",BH41)),")") -> Karbantartás elmélet (, web) | Z41: =IF(CE41="","",CONCATENATE($AY41,$AZ41)) | AA41: =IF(CF41="","",CONCATENATE($AY41,$AZ41)) | AB41: =IF(CG41="","",CONCATENATE($AY41,$AZ41)) | AC41: =IF(CH41="","",CONCATENATE($AY41,$AZ41)) | AD41: =IF(CI41="","",CONCATENATE($AY41,$AZ41)) | AE41: =IF(CJ41="","",CONCATENATE($AY41,$AZ41)) | AF41: =IF(CK41="","",CONCATENATE($AY41,$AZ41)) | AG41: =IF(CL41="","",CONCATENATE($AY41,$AZ41)) | ... AW41: =IF(DB41="","",CONCATENATE($AY41,$AZ41)) | AX41: =CONCATENATE(BC41," (",BG41,IF(BH41="","",CONCATENATE(", ",BH41)),")") -> Karbantartás elmélet (404, web) | AY41: 207 | AZ41: 3 | BA41: =VLOOKUP(AY41,segéd!$F$9:$G$38,2,FALSE) -> 46060 | BB41: =VLOOKUP(AZ41,segéd!$F$1:$G$7,2,FALSE) -> 11.30-13.00 | BC41: Karbantartás elmélet | BD41: Lukács András | BE41: tatabányai alapképzés | BG41: 404 | BH41: web | BI41: https://teams.microsoft.com/meet/36920841117071?p=YZDgb8fCGnFWyZydwd | BJ41: =SUM(BK41:BL41) -> 7 | BK41: =IF(BF41="","",VLOOKUP(BC41,segéd!O:P,2,FALSE)) | BL41: =IF(BG41="","",VLOOKUP(BC41,segéd!T:U,2,FALSE)) -> 7 | CZ41: 9
A42: =CONCATENATE(BF42,AY42,AZ42) -> 2073 | B42: =CONCATENATE(BC42,IF(BH42="","",CONCATENATE(" (",BH42,")"))," ",BK42) -> Lézeres anyagmegmunkálás (web) | C42: =CONCATENATE(BG42,AY42,AZ42) -> 32073 | D42: =CONCATENATE(BC42,IF(BH42="","",CONCATENATE(" (",BH42,")"))," ",BL42) -> Lézeres anyagmegmunkálás (web) 9 | E42: =CONCATENATE(BD42,AY42,AZ42) -> Palotai Péter2073 | F42: =CONCATENATE(BC42," (",IF(OR(BF42="",BH42="Tb.-ről web",BH42="gépterem, Tb.-ről web"),"",CONCATENATE("Bp. ",BF42)),IF(OR(BG42="",BH42="Bp.-ről web",BH42="gépterem, Bp.-ről web"),"",CONCATENATE("Tb. ",BG42)),IF(BH42="","",CONCATENATE(", ",BH42)),")") -> Lézeres anyagmegmunkálás (Tb. 3, web) | G42: =IF(BM42="","",CONCATENATE($AY42,$AZ42)) | H42: =IF(BN42="","",CONCATENATE($AY42,$AZ42)) | I42: =IF(BO42="","",CONCATENATE($AY42,$AZ42)) | J42: =IF(BP42="","",CONCATENATE($AY42,$AZ42)) | K42: =IF(BQ42="","",CONCATENATE($AY42,$AZ42)) | L42: =IF(BR42="","",CONCATENATE($AY42,$AZ42)) | M42: =IF(BS42="","",CONCATENATE($AY42,$AZ42)) | N42: =IF(BT42="","",CONCATENATE($AY42,$AZ42)) | ... X42: =IF(CD42="","",CONCATENATE($AY42,$AZ42)) | Y42: =CONCATENATE(BC42," (",BF42,IF(BH42="","",CONCATENATE(", ",BH42)),")") -> Lézeres anyagmegmunkálás (, web) | Z42: =IF(CE42="","",CONCATENATE($AY42,$AZ42)) | AA42: =IF(CF42="","",CONCATENATE($AY42,$AZ42)) | AB42: =IF(CG42="","",CONCATENATE($AY42,$AZ42)) | AC42: =IF(CH42="","",CONCATENATE($AY42,$AZ42)) | AD42: =IF(CI42="","",CONCATENATE($AY42,$AZ42)) | AE42: =IF(CJ42="","",CONCATENATE($AY42,$AZ42)) | AF42: =IF(CK42="","",CONCATENATE($AY42,$AZ42)) | AG42: =IF(CL42="","",CONCATENATE($AY42,$AZ42)) | ... AW42: =IF(DB42="","",CONCATENATE($AY42,$AZ42)) | AX42: =CONCATENATE(BC42," (",BG42,IF(BH42="","",CONCATENATE(", ",BH42)),")") -> Lézeres anyagmegmunkálás (3, web) | AY42: 207 | AZ42: 3 | BA42: =VLOOKUP(AY42,segéd!$F$9:$G$38,2,FALSE) -> 46060 | BB42: =VLOOKUP(AZ42,segéd!$F$1:$G$7,2,FALSE) -> 11.30-13.00 | BC42: Lézeres anyagmegmunkálás | BD42: Palotai Péter | BE42: tatabányai alapképzés | BG42: 3 | BH42: web | BI42: https://teams.microsoft.com/meet/32273709733484?p=5XasxAzKUKRa0lYQ0Q | BJ42: =SUM(BK42:BL42) -> 9 | BK42: =IF(BF42="","",VLOOKUP(BC42,segéd!O:P,2,FALSE)) | BL42: =IF(BG42="","",VLOOKUP(BC42,segéd!T:U,2,FALSE)) -> 9 | DA42: 13
A43: =CONCATENATE(BF43,AY43,AZ43) -> 2073 | B43: =CONCATENATE(BC43,IF(BH43="","",CONCATENATE(" (",BH43,")"))," ",BK43) -> Matematika II. (web) | C43: =CONCATENATE(BG43,AY43,AZ43) -> 5012073 | D43: =CONCATENATE(BC43,IF(BH43="","",CONCATENATE(" (",BH43,")"))," ",BL43) -> Matematika II. (web) 111 | E43: =CONCATENATE(BD43,AY43,AZ43) -> Brunner Zsuzsanna2073 | F43: =CONCATENATE(BC43," (",IF(OR(BF43="",BH43="Tb.-ről web",BH43="gépterem, Tb.-ről web"),"",CONCATENATE("Bp. ",BF43)),IF(OR(BG43="",BH43="Bp.-ről web",BH43="gépterem, Bp.-ről web"),"",CONCATENATE("Tb. ",BG43)),IF(BH43="","",CONCATENATE(", ",BH43)),")") -> Matematika II. (Tb. 501, web) | G43: =IF(BM43="","",CONCATENATE($AY43,$AZ43)) | H43: =IF(BN43="","",CONCATENATE($AY43,$AZ43)) | I43: =IF(BO43="","",CONCATENATE($AY43,$AZ43)) | J43: =IF(BP43="","",CONCATENATE($AY43,$AZ43)) | K43: =IF(BQ43="","",CONCATENATE($AY43,$AZ43)) | L43: =IF(BR43="","",CONCATENATE($AY43,$AZ43)) | M43: =IF(BS43="","",CONCATENATE($AY43,$AZ43)) | N43: =IF(BT43="","",CONCATENATE($AY43,$AZ43)) | ... X43: =IF(CD43="","",CONCATENATE($AY43,$AZ43)) | Y43: =CONCATENATE(BC43," (",BF43,IF(BH43="","",CONCATENATE(", ",BH43)),")") -> Matematika II. (, web) | Z43: =IF(CE43="","",CONCATENATE($AY43,$AZ43)) | AA43: =IF(CF43="","",CONCATENATE($AY43,$AZ43)) | AB43: =IF(CG43="","",CONCATENATE($AY43,$AZ43)) -> 2073 | AC43: =IF(CH43="","",CONCATENATE($AY43,$AZ43)) -> 2073 | AD43: =IF(CI43="","",CONCATENATE($AY43,$AZ43)) | AE43: =IF(CJ43="","",CONCATENATE($AY43,$AZ43)) | AF43: =IF(CK43="","",CONCATENATE($AY43,$AZ43)) | AG43: =IF(CL43="","",CONCATENATE($AY43,$AZ43)) | ... AW43: =IF(DB43="","",CONCATENATE($AY43,$AZ43)) | AX43: =CONCATENATE(BC43," (",BG43,IF(BH43="","",CONCATENATE(", ",BH43)),")") -> Matematika II. (501, web) | AY43: 207 | AZ43: 3 | BA43: =VLOOKUP(AY43,segéd!$F$9:$G$38,2,FALSE) -> 46060 | BB43: =VLOOKUP(AZ43,segéd!$F$1:$G$7,2,FALSE) -> 11.30-13.00 | BC43: Matematika II. | BD43: Brunner Zsuzsanna | BE43: tatabányai alapképzés | BG43: 501 | BH43: web | BI43: https://teams.microsoft.com/meet/32860300949563?p=eiPD11QF0JyXpobfRm | BJ43: =SUM(BK43:BL43) -> 111 | BK43: =IF(BF43="","",VLOOKUP(BC43,segéd!O:P,2,FALSE)) | BL43: =IF(BG43="","",VLOOKUP(BC43,segéd!T:U,2,FALSE)) -> 111 | CG43: 59 | CH43: 57
A44: =CONCATENATE(BF44,AY44,AZ44) -> 2073 | B44: =CONCATENATE(BC44,IF(BH44="","",CONCATENATE(" (",BH44,")"))," ",BK44) -> Minőségmenedzsment II. (web) | C44: =CONCATENATE(BG44,AY44,AZ44) -> 4032073 | D44: =CONCATENATE(BC44,IF(BH44="","",CONCATENATE(" (",BH44,")"))," ",BL44) -> Minőségmenedzsment II. (web) 10 | E44: =CONCATENATE(BD44,AY44,AZ44) -> Szamosi Barna2073 | F44: =CONCATENATE(BC44," (",IF(OR(BF44="",BH44="Tb.-ről web",BH44="gépterem, Tb.-ről web"),"",CONCATENATE("Bp. ",BF44)),IF(OR(BG44="",BH44="Bp.-ről web",BH44="gépterem, Bp.-ről web"),"",CONCATENATE("Tb. ",BG44)),IF(BH44="","",CONCATENATE(", ",BH44)),")") -> Minőségmenedzsment II. (Tb. 403, web) | G44: =IF(BM44="","",CONCATENATE($AY44,$AZ44)) | H44: =IF(BN44="","",CONCATENATE($AY44,$AZ44)) | I44: =IF(BO44="","",CONCATENATE($AY44,$AZ44)) | J44: =IF(BP44="","",CONCATENATE($AY44,$AZ44)) | K44: =IF(BQ44="","",CONCATENATE($AY44,$AZ44)) | L44: =IF(BR44="","",CONCATENATE($AY44,$AZ44)) | M44: =IF(BS44="","",CONCATENATE($AY44,$AZ44)) | N44: =IF(BT44="","",CONCATENATE($AY44,$AZ44)) | ... X44: =IF(CD44="","",CONCATENATE($AY44,$AZ44)) | Y44: =CONCATENATE(BC44," (",BF44,IF(BH44="","",CONCATENATE(", ",BH44)),")") -> Minőségmenedzsment II. (, web) | Z44: =IF(CE44="","",CONCATENATE($AY44,$AZ44)) | AA44: =IF(CF44="","",CONCATENATE($AY44,$AZ44)) | AB44: =IF(CG44="","",CONCATENATE($AY44,$AZ44)) | AC44: =IF(CH44="","",CONCATENATE($AY44,$AZ44)) | AD44: =IF(CI44="","",CONCATENATE($AY44,$AZ44)) | AE44: =IF(CJ44="","",CONCATENATE($AY44,$AZ44)) | AF44: =IF(CK44="","",CONCATENATE($AY44,$AZ44)) | AG44: =IF(CL44="","",CONCATENATE($AY44,$AZ44)) | ... AW44: =IF(DB44="","",CONCATENATE($AY44,$AZ44)) | AX44: =CONCATENATE(BC44," (",BG44,IF(BH44="","",CONCATENATE(", ",BH44)),")") -> Minőségmenedzsment II. (403, web) | AY44: 207 | AZ44: 3 | BA44: =VLOOKUP(AY44,segéd!$F$9:$G$38,2,FALSE) -> 46060 | BB44: =VLOOKUP(AZ44,segéd!$F$1:$G$7,2,FALSE) -> 11.30-13.00 | BC44: Minőségmenedzsment II. | BD44: Szamosi Barna | BE44: tatabányai alapképzés | BG44: 403 | BH44: web | BI44: https://teams.microsoft.com/meet/35154914824051?p=7ASnLiPTw1Ml4TEwag | BJ44: =SUM(BK44:BL44) -> 10 | BK44: =IF(BF44="","",VLOOKUP(BC44,segéd!O:P,2,FALSE)) | BL44: =IF(BG44="","",VLOOKUP(BC44,segéd!T:U,2,FALSE)) -> 10 | CY44: 13
A45: =CONCATENATE(BF45,AY45,AZ45) -> 2073 | B45: =CONCATENATE(BC45,IF(BH45="","",CONCATENATE(" (",BH45,")"))," ",BK45) -> Mobil robotika és robot biztonságt. (web) | C45: =CONCATENATE(BG45,AY45,AZ45) -> 2142073 | D45: =CONCATENATE(BC45,IF(BH45="","",CONCATENATE(" (",BH45,")"))," ",BL45) -> Mobil robotika és robot biztonságt. (web) 34 | E45: =CONCATENATE(BD45,AY45,AZ45) -> Szilágyi Zoltán2073 | F45: =CONCATENATE(BC45," (",IF(OR(BF45="",BH45="Tb.-ről web",BH45="gépterem, Tb.-ről web"),"",CONCATENATE("Bp. ",BF45)),IF(OR(BG45="",BH45="Bp.-ről web",BH45="gépterem, Bp.-ről web"),"",CONCATENATE("Tb. ",BG45)),IF(BH45="","",CONCATENATE(", ",BH45)),")") -> Mobil robotika és robot biztonságt. (Tb. 214, web) | G45: =IF(BM45="","",CONCATENATE($AY45,$AZ45)) | H45: =IF(BN45="","",CONCATENATE($AY45,$AZ45)) | I45: =IF(BO45="","",CONCATENATE($AY45,$AZ45)) | J45: =IF(BP45="","",CONCATENATE($AY45,$AZ45)) | K45: =IF(BQ45="","",CONCATENATE($AY45,$AZ45)) | L45: =IF(BR45="","",CONCATENATE($AY45,$AZ45)) | M45: =IF(BS45="","",CONCATENATE($AY45,$AZ45)) | N45: =IF(BT45="","",CONCATENATE($AY45,$AZ45)) | ... X45: =IF(CD45="","",CONCATENATE($AY45,$AZ45)) | Y45: =CONCATENATE(BC45," (",BF45,IF(BH45="","",CONCATENATE(", ",BH45)),")") -> Mobil robotika és robot biztonságt. (, web) | Z45: =IF(CE45="","",CONCATENATE($AY45,$AZ45)) | AA45: =IF(CF45="","",CONCATENATE($AY45,$AZ45)) | AB45: =IF(CG45="","",CONCATENATE($AY45,$AZ45)) | AC45: =IF(CH45="","",CONCATENATE($AY45,$AZ45)) | AD45: =IF(CI45="","",CONCATENATE($AY45,$AZ45)) | AE45: =IF(CJ45="","",CONCATENATE($AY45,$AZ45)) | AF45: =IF(CK45="","",CONCATENATE($AY45,$AZ45)) | AG45: =IF(CL45="","",CONCATENATE($AY45,$AZ45)) | ... AW45: =IF(DB45="","",CONCATENATE($AY45,$AZ45)) -> 2073 | AX45: =CONCATENATE(BC45," (",BG45,IF(BH45="","",CONCATENATE(", ",BH45)),")") -> Mobil robotika és robot biztonságt. (214, web) | AY45: 207 | AZ45: 3 | BA45: =VLOOKUP(AY45,segéd!$F$9:$G$38,2,FALSE) -> 46060 | BB45: =VLOOKUP(AZ45,segéd!$F$1:$G$7,2,FALSE) -> 11.30-13.00 | BC45: Mobil robotika és robot biztonságt. | BD45: Szilágyi Zoltán | BE45: tatabányai alapképzés | BG45: 214 | BH45: web | BI45: https://teams.microsoft.com/meet/37637284337466?p=iFkERXjpd070jeJ786 | BJ45: =SUM(BK45:BL45) -> 34 | BK45: =IF(BF45="","",VLOOKUP(BC45,segéd!O:P,2,FALSE)) | BL45: =IF(BG45="","",VLOOKUP(BC45,segéd!T:U,2,FALSE)) -> 34 | DB45: 34
A46: =CONCATENATE(BF46,AY46,AZ46) -> 2052073 | B46: =CONCATENATE(BC46,IF(BH46="","",CONCATENATE(" (",BH46,")"))," ",BK46) -> Szakszeminárium I. (gazdász) (Tb.-ről web) 35 | C46: =CONCATENATE(BG46,AY46,AZ46) -> 2122073 | D46: =CONCATENATE(BC46,IF(BH46="","",CONCATENATE(" (",BH46,")"))," ",BL46) -> Szakszeminárium I. (gazdász) (Tb.-ről web) 55 | E46: =CONCATENATE(BD46,AY46,AZ46) -> Vigh László2073 | F46: =CONCATENATE(BC46," (",IF(OR(BF46="",BH46="Tb.-ről web",BH46="gépterem, Tb.-ről web"),"",CONCATENATE("Bp. ",BF46)),IF(OR(BG46="",BH46="Bp.-ről web",BH46="gépterem, Bp.-ről web"),"",CONCATENATE("Tb. ",BG46)),IF(BH46="","",CONCATENATE(", ",BH46)),")") -> Szakszeminárium I. (gazdász) (Tb. 212, Tb.-ről web) | G46: =IF(BM46="","",CONCATENATE($AY46,$AZ46)) | H46: =IF(BN46="","",CONCATENATE($AY46,$AZ46)) | I46: =IF(BO46="","",CONCATENATE($AY46,$AZ46)) | J46: =IF(BP46="","",CONCATENATE($AY46,$AZ46)) | K46: =IF(BQ46="","",CONCATENATE($AY46,$AZ46)) | L46: =IF(BR46="","",CONCATENATE($AY46,$AZ46)) | M46: =IF(BS46="","",CONCATENATE($AY46,$AZ46)) | N46: =IF(BT46="","",CONCATENATE($AY46,$AZ46)) | ... X46: =IF(CD46="","",CONCATENATE($AY46,$AZ46)) -> 2073 | Y46: =CONCATENATE(BC46," (",BF46,IF(BH46="","",CONCATENATE(", ",BH46)),")") -> Szakszeminárium I. (gazdász) (205, Tb.-ről web) | Z46: =IF(CE46="","",CONCATENATE($AY46,$AZ46)) | AA46: =IF(CF46="","",CONCATENATE($AY46,$AZ46)) | AB46: =IF(CG46="","",CONCATENATE($AY46,$AZ46)) | AC46: =IF(CH46="","",CONCATENATE($AY46,$AZ46)) | AD46: =IF(CI46="","",CONCATENATE($AY46,$AZ46)) | AE46: =IF(CJ46="","",CONCATENATE($AY46,$AZ46)) | AF46: =IF(CK46="","",CONCATENATE($AY46,$AZ46)) | AG46: =IF(CL46="","",CONCATENATE($AY46,$AZ46)) | ... AW46: =IF(DB46="","",CONCATENATE($AY46,$AZ46)) | AX46: =CONCATENATE(BC46," (",BG46,IF(BH46="","",CONCATENATE(", ",BH46)),")") -> Szakszeminárium I. (gazdász) (212, Tb.-ről web) | AY46: 207 | AZ46: 3 | BA46: =VLOOKUP(AY46,segéd!$F$9:$G$38,2,FALSE) -> 46060 | BB46: =VLOOKUP(AZ46,segéd!$F$1:$G$7,2,FALSE) -> 11.30-13.00 | BC46: Szakszeminárium I. (gazdász) | BD46: Vigh László | BE46: tatabányai, budapesti alapképzés | BF46: 205 | BG46: 212 | BH46: Tb.-ről web | BI46: https://teams.microsoft.com/meet/31747677367690?p=KlyoAKPrGhvygHerG1 | BJ46: =SUM(BK46:BL46) -> 90 | BK46: =IF(BF46="","",VLOOKUP(BC46,segéd!O:P,2,FALSE)) -> 35 | BL46: =IF(BG46="","",VLOOKUP(BC46,segéd!T:U,2,FALSE)) -> 55 | BZ46: 12 | CA46: 7 | CB46: 5 | CC46: 8 | CD46: 3 | CR46: 21 | CS46: 17 | CT46: 6 | CU46: 6 | CV46: 7
A47: =CONCATENATE(BF47,AY47,AZ47) -> 2073 | B47: =CONCATENATE(BC47,IF(BH47="","",CONCATENATE(" (",BH47,")"))," ",BK47) -> Szám. seg. mérés (NI-Labv.) (web) | C47: =CONCATENATE(BG47,AY47,AZ47) -> 6012073 | D47: =CONCATENATE(BC47,IF(BH47="","",CONCATENATE(" (",BH47,")"))," ",BL47) -> Szám. seg. mérés (NI-Labv.) (web) 113 | E47: =CONCATENATE(BD47,AY47,AZ47) -> Vavra Gábor2073 | F47: =CONCATENATE(BC47," (",IF(OR(BF47="",BH47="Tb.-ről web",BH47="gépterem, Tb.-ről web"),"",CONCATENATE("Bp. ",BF47)),IF(OR(BG47="",BH47="Bp.-ről web",BH47="gépterem, Bp.-ről web"),"",CONCATENATE("Tb. ",BG47)),IF(BH47="","",CONCATENATE(", ",BH47)),")") -> Szám. seg. mérés (NI-Labv.) (Tb. 601, web) | G47: =IF(BM47="","",CONCATENATE($AY47,$AZ47)) | H47: =IF(BN47="","",CONCATENATE($AY47,$AZ47)) | I47: =IF(BO47="","",CONCATENATE($AY47,$AZ47)) | J47: =IF(BP47="","",CONCATENATE($AY47,$AZ47)) | K47: =IF(BQ47="","",CONCATENATE($AY47,$AZ47)) | L47: =IF(BR47="","",CONCATENATE($AY47,$AZ47)) | M47: =IF(BS47="","",CONCATENATE($AY47,$AZ47)) | N47: =IF(BT47="","",CONCATENATE($AY47,$AZ47)) | ... X47: =IF(CD47="","",CONCATENATE($AY47,$AZ47)) | Y47: =CONCATENATE(BC47," (",BF47,IF(BH47="","",CONCATENATE(", ",BH47)),")") -> Szám. seg. mérés (NI-Labv.) (, web) | Z47: =IF(CE47="","",CONCATENATE($AY47,$AZ47)) | AA47: =IF(CF47="","",CONCATENATE($AY47,$AZ47)) | AB47: =IF(CG47="","",CONCATENATE($AY47,$AZ47)) | AC47: =IF(CH47="","",CONCATENATE($AY47,$AZ47)) | AD47: =IF(CI47="","",CONCATENATE($AY47,$AZ47)) | AE47: =IF(CJ47="","",CONCATENATE($AY47,$AZ47)) | AF47: =IF(CK47="","",CONCATENATE($AY47,$AZ47)) | AG47: =IF(CL47="","",CONCATENATE($AY47,$AZ47)) | ... AW47: =IF(DB47="","",CONCATENATE($AY47,$AZ47)) | AX47: =CONCATENATE(BC47," (",BG47,IF(BH47="","",CONCATENATE(", ",BH47)),")") -> Szám. seg. mérés (NI-Labv.) (601, web) | AY47: 207 | AZ47: 3 | BA47: =VLOOKUP(AY47,segéd!$F$9:$G$38,2,FALSE) -> 46060 | BB47: =VLOOKUP(AZ47,segéd!$F$1:$G$7,2,FALSE) -> 11.30-13.00 | BC47: Szám. seg. mérés (NI-Labv.) | BD47: Vavra Gábor | BE47: tatabányai alapképzés | BG47: 601 | BH47: web | BI47: https://teams.microsoft.com/meet/34354016403002?p=aelpJLZSxPDW4AxeUq | BJ47: =SUM(BK47:BL47) -> 113 | BK47: =IF(BF47="","",VLOOKUP(BC47,segéd!O:P,2,FALSE)) | BL47: =IF(BG47="","",VLOOKUP(BC47,segéd!T:U,2,FALSE)) -> 113 | CP47: 52 | CQ47: 59
A48: =CONCATENATE(BF48,AY48,AZ48) -> 2022073 | B48: =CONCATENATE(BC48,IF(BH48="","",CONCATENATE(" (",BH48,")"))," ",BK48) -> Turizmus társ. és gazd. alapjai (web) 8 | C48: =CONCATENATE(BG48,AY48,AZ48) -> 2073 | D48: =CONCATENATE(BC48,IF(BH48="","",CONCATENATE(" (",BH48,")"))," ",BL48) -> Turizmus társ. és gazd. alapjai (web) | E48: =CONCATENATE(BD48,AY48,AZ48) -> Bíró Csaba2073 | F48: =CONCATENATE(BC48," (",IF(OR(BF48="",BH48="Tb.-ről web",BH48="gépterem, Tb.-ről web"),"",CONCATENATE("Bp. ",BF48)),IF(OR(BG48="",BH48="Bp.-ről web",BH48="gépterem, Bp.-ről web"),"",CONCATENATE("Tb. ",BG48)),IF(BH48="","",CONCATENATE(", ",BH48)),")") -> Turizmus társ. és gazd. alapjai (Bp. 202, web) | G48: =IF(BM48="","",CONCATENATE($AY48,$AZ48)) | H48: =IF(BN48="","",CONCATENATE($AY48,$AZ48)) -> 2073 | I48: =IF(BO48="","",CONCATENATE($AY48,$AZ48)) | J48: =IF(BP48="","",CONCATENATE($AY48,$AZ48)) | K48: =IF(BQ48="","",CONCATENATE($AY48,$AZ48)) | L48: =IF(BR48="","",CONCATENATE($AY48,$AZ48)) | M48: =IF(BS48="","",CONCATENATE($AY48,$AZ48)) | N48: =IF(BT48="","",CONCATENATE($AY48,$AZ48)) | ... X48: =IF(CD48="","",CONCATENATE($AY48,$AZ48)) | Y48: =CONCATENATE(BC48," (",BF48,IF(BH48="","",CONCATENATE(", ",BH48)),")") -> Turizmus társ. és gazd. alapjai (202, web) | Z48: =IF(CE48="","",CONCATENATE($AY48,$AZ48)) | AA48: =IF(CF48="","",CONCATENATE($AY48,$AZ48)) | AB48: =IF(CG48="","",CONCATENATE($AY48,$AZ48)) | AC48: =IF(CH48="","",CONCATENATE($AY48,$AZ48)) | AD48: =IF(CI48="","",CONCATENATE($AY48,$AZ48)) | AE48: =IF(CJ48="","",CONCATENATE($AY48,$AZ48)) | AF48: =IF(CK48="","",CONCATENATE($AY48,$AZ48)) | AG48: =IF(CL48="","",CONCATENATE($AY48,$AZ48)) | ... AW48: =IF(DB48="","",CONCATENATE($AY48,$AZ48)) | AX48: =CONCATENATE(BC48," (",BG48,IF(BH48="","",CONCATENATE(", ",BH48)),")") -> Turizmus társ. és gazd. alapjai (, web) | AY48: 207 | AZ48: 3 | BA48: =VLOOKUP(AY48,segéd!$F$9:$G$38,2,FALSE) -> 46060 | BB48: =VLOOKUP(AZ48,segéd!$F$1:$G$7,2,FALSE) -> 11.30-13.00 | BC48: Turizmus társ. és gazd. alapjai | BD48: Bíró Csaba | BE48: budapesti alapképzés | BF48: 202 | BH48: web | BI48: https://teams.microsoft.com/meet/36727977848802?p=5CcCGHl7lB6fnWSEGb | BJ48: =SUM(BK48:BL48) -> 8 | BK48: =IF(BF48="","",VLOOKUP(BC48,segéd!O:P,2,FALSE)) -> 8 | BL48: =IF(BG48="","",VLOOKUP(BC48,segéd!T:U,2,FALSE)) | BN48: 14
A49: =CONCATENATE(BF49,AY49,AZ49) -> 2062073 | B49: =CONCATENATE(BC49,IF(BH49="","",CONCATENATE(" (",BH49,")"))," ",BK49) -> Utazás- és rendezvényszervezés (web) 11 | C49: =CONCATENATE(BG49,AY49,AZ49) -> 2073 | D49: =CONCATENATE(BC49,IF(BH49="","",CONCATENATE(" (",BH49,")"))," ",BL49) -> Utazás- és rendezvényszervezés (web) | E49: =CONCATENATE(BD49,AY49,AZ49) -> Gondos Borbála2073 | F49: =CONCATENATE(BC49," (",IF(OR(BF49="",BH49="Tb.-ről web",BH49="gépterem, Tb.-ről web"),"",CONCATENATE("Bp. ",BF49)),IF(OR(BG49="",BH49="Bp.-ről web",BH49="gépterem, Bp.-ről web"),"",CONCATENATE("Tb. ",BG49)),IF(BH49="","",CONCATENATE(", ",BH49)),")") -> Utazás- és rendezvényszervezés (Bp. 206, web) | G49: =IF(BM49="","",CONCATENATE($AY49,$AZ49)) | H49: =IF(BN49="","",CONCATENATE($AY49,$AZ49)) | I49: =IF(BO49="","",CONCATENATE($AY49,$AZ49)) | J49: =IF(BP49="","",CONCATENATE($AY49,$AZ49)) | K49: =IF(BQ49="","",CONCATENATE($AY49,$AZ49)) | L49: =IF(BR49="","",CONCATENATE($AY49,$AZ49)) | M49: =IF(BS49="","",CONCATENATE($AY49,$AZ49)) | N49: =IF(BT49="","",CONCATENATE($AY49,$AZ49)) | ... X49: =IF(CD49="","",CONCATENATE($AY49,$AZ49)) | Y49: =CONCATENATE(BC49," (",BF49,IF(BH49="","",CONCATENATE(", ",BH49)),")") -> Utazás- és rendezvényszervezés (206, web) | Z49: =IF(CE49="","",CONCATENATE($AY49,$AZ49)) | AA49: =IF(CF49="","",CONCATENATE($AY49,$AZ49)) | AB49: =IF(CG49="","",CONCATENATE($AY49,$AZ49)) | AC49: =IF(CH49="","",CONCATENATE($AY49,$AZ49)) | AD49: =IF(CI49="","",CONCATENATE($AY49,$AZ49)) | AE49: =IF(CJ49="","",CONCATENATE($AY49,$AZ49)) | AF49: =IF(CK49="","",CONCATENATE($AY49,$AZ49)) | AG49: =IF(CL49="","",CONCATENATE($AY49,$AZ49)) | ... AW49: =IF(DB49="","",CONCATENATE($AY49,$AZ49)) | AX49: =CONCATENATE(BC49," (",BG49,IF(BH49="","",CONCATENATE(", ",BH49)),")") -> Utazás- és rendezvényszervezés (, web) | AY49: 207 | AZ49: 3 | BA49: =VLOOKUP(AY49,segéd!$F$9:$G$38,2,FALSE) -> 46060 | BB49: =VLOOKUP(AZ49,segéd!$F$1:$G$7,2,FALSE) -> 11.30-13.00 | BC49: Utazás- és rendezvényszervezés | BD49: Gondos Borbála | BE49: budapesti alapképzés | BF49: 206 | BH49: web | BI49: https://teams.microsoft.com/meet/38430023310960?p=L7qCtnV0FA7Kob2GRJ | BJ49: =SUM(BK49:BL49) -> 11 | BK49: =IF(BF49="","",VLOOKUP(BC49,segéd!O:P,2,FALSE)) -> 11 | BL49: =IF(BG49="","",VLOOKUP(BC49,segéd!T:U,2,FALSE)) | BY49: 6
A50: =CONCATENATE(BF50,AY50,AZ50) -> 2012073 | B50: =CONCATENATE(BC50,IF(BH50="","",CONCATENATE(" (",BH50,")"))," ",BK50) -> Üzleti és szakmai kommunikáció (web) 54 | C50: =CONCATENATE(BG50,AY50,AZ50) -> 2073 | D50: =CONCATENATE(BC50,IF(BH50="","",CONCATENATE(" (",BH50,")"))," ",BL50) -> Üzleti és szakmai kommunikáció (web) | E50: =CONCATENATE(BD50,AY50,AZ50) -> Peres Anna2073 | F50: =CONCATENATE(BC50," (",IF(OR(BF50="",BH50="Tb.-ről web",BH50="gépterem, Tb.-ről web"),"",CONCATENATE("Bp. ",BF50)),IF(OR(BG50="",BH50="Bp.-ről web",BH50="gépterem, Bp.-ről web"),"",CONCATENATE("Tb. ",BG50)),IF(BH50="","",CONCATENATE(", ",BH50)),")") -> Üzleti és szakmai kommunikáció (Bp. 201, web) | G50: =IF(BM50="","",CONCATENATE($AY50,$AZ50)) -> 2073 | H50: =IF(BN50="","",CONCATENATE($AY50,$AZ50)) | I50: =IF(BO50="","",CONCATENATE($AY50,$AZ50)) -> 2073 | J50: =IF(BP50="","",CONCATENATE($AY50,$AZ50)) | K50: =IF(BQ50="","",CONCATENATE($AY50,$AZ50)) | L50: =IF(BR50="","",CONCATENATE($AY50,$AZ50)) | M50: =IF(BS50="","",CONCATENATE($AY50,$AZ50)) | N50: =IF(BT50="","",CONCATENATE($AY50,$AZ50)) | ... X50: =IF(CD50="","",CONCATENATE($AY50,$AZ50)) | Y50: =CONCATENATE(BC50," (",BF50,IF(BH50="","",CONCATENATE(", ",BH50)),")") -> Üzleti és szakmai kommunikáció (201, web) | Z50: =IF(CE50="","",CONCATENATE($AY50,$AZ50)) | AA50: =IF(CF50="","",CONCATENATE($AY50,$AZ50)) | AB50: =IF(CG50="","",CONCATENATE($AY50,$AZ50)) | AC50: =IF(CH50="","",CONCATENATE($AY50,$AZ50)) | AD50: =IF(CI50="","",CONCATENATE($AY50,$AZ50)) | AE50: =IF(CJ50="","",CONCATENATE($AY50,$AZ50)) | AF50: =IF(CK50="","",CONCATENATE($AY50,$AZ50)) | AG50: =IF(CL50="","",CONCATENATE($AY50,$AZ50)) | ... AW50: =IF(DB50="","",CONCATENATE($AY50,$AZ50)) | AX50: =CONCATENATE(BC50," (",BG50,IF(BH50="","",CONCATENATE(", ",BH50)),")") -> Üzleti és szakmai kommunikáció (, web) | AY50: 207 | AZ50: 3 | BA50: =VLOOKUP(AY50,segéd!$F$9:$G$38,2,FALSE) -> 46060 | BB50: =VLOOKUP(AZ50,segéd!$F$1:$G$7,2,FALSE) -> 11.30-13.00 | BC50: Üzleti és szakmai kommunikáció | BD50: Peres Anna | BE50: budapesti alapképzés, FOKSZ | BF50: 201 | BH50: web | BI50: https://teams.microsoft.com/meet/39997748350815?p=MiRsWzDTE3qCopN4iP | BJ50: =SUM(BK50:BL50) -> 54 | BK50: =IF(BF50="","",VLOOKUP(BC50,segéd!O:P,2,FALSE)) -> 54 | BL50: =IF(BG50="","",VLOOKUP(BC50,segéd!T:U,2,FALSE)) | BM50: 62 | BO50: 13
A51: =CONCATENATE(BF51,AY51,AZ51) -> 2082073 | B51: =CONCATENATE(BC51,IF(BH51="","",CONCATENATE(" (",BH51,")"))," ",BK51) -> Vállalati pénzügy (web) 38 | C51: =CONCATENATE(BG51,AY51,AZ51) -> 2073 | D51: =CONCATENATE(BC51,IF(BH51="","",CONCATENATE(" (",BH51,")"))," ",BL51) -> Vállalati pénzügy (web) | E51: =CONCATENATE(BD51,AY51,AZ51) -> Antalík Imrich2073 | F51: =CONCATENATE(BC51," (",IF(OR(BF51="",BH51="Tb.-ről web",BH51="gépterem, Tb.-ről web"),"",CONCATENATE("Bp. ",BF51)),IF(OR(BG51="",BH51="Bp.-ről web",BH51="gépterem, Bp.-ről web"),"",CONCATENATE("Tb. ",BG51)),IF(BH51="","",CONCATENATE(", ",BH51)),")") -> Vállalati pénzügy (Bp. 208, web) | G51: =IF(BM51="","",CONCATENATE($AY51,$AZ51)) | H51: =IF(BN51="","",CONCATENATE($AY51,$AZ51)) | I51: =IF(BO51="","",CONCATENATE($AY51,$AZ51)) | J51: =IF(BP51="","",CONCATENATE($AY51,$AZ51)) | K51: =IF(BQ51="","",CONCATENATE($AY51,$AZ51)) | L51: =IF(BR51="","",CONCATENATE($AY51,$AZ51)) | M51: =IF(BS51="","",CONCATENATE($AY51,$AZ51)) -> 2073 | N51: =IF(BT51="","",CONCATENATE($AY51,$AZ51)) -> 2073 | ... X51: =IF(CD51="","",CONCATENATE($AY51,$AZ51)) | Y51: =CONCATENATE(BC51," (",BF51,IF(BH51="","",CONCATENATE(", ",BH51)),")") -> Vállalati pénzügy (208, web) | Z51: =IF(CE51="","",CONCATENATE($AY51,$AZ51)) | AA51: =IF(CF51="","",CONCATENATE($AY51,$AZ51)) | AB51: =IF(CG51="","",CONCATENATE($AY51,$AZ51)) | AC51: =IF(CH51="","",CONCATENATE($AY51,$AZ51)) | AD51: =IF(CI51="","",CONCATENATE($AY51,$AZ51)) | AE51: =IF(CJ51="","",CONCATENATE($AY51,$AZ51)) | AF51: =IF(CK51="","",CONCATENATE($AY51,$AZ51)) | AG51: =IF(CL51="","",CONCATENATE($AY51,$AZ51)) | ... AW51: =IF(DB51="","",CONCATENATE($AY51,$AZ51)) | AX51: =CONCATENATE(BC51," (",BG51,IF(BH51="","",CONCATENATE(", ",BH51)),")") -> Vállalati pénzügy (, web) | AY51: 207 | AZ51: 3 | BA51: =VLOOKUP(AY51,segéd!$F$9:$G$38,2,FALSE) -> 46060 | BB51: =VLOOKUP(AZ51,segéd!$F$1:$G$7,2,FALSE) -> 11.30-13.00 | BC51: Vállalati pénzügy | BD51: Antalík Imrich | BE51: budapesti alapképzés | BF51: 208 | BH51: web | BI51: https://teams.microsoft.com/meet/31519305977799?p=daYSISzYX0JMJ8CHM5 | BJ51: =SUM(BK51:BL51) -> 38 | BK51: =IF(BF51="","",VLOOKUP(BC51,segéd!O:P,2,FALSE)) -> 38 | BL51: =IF(BG51="","",VLOOKUP(BC51,segéd!T:U,2,FALSE)) | BS51: 6 | BT51: 6 | BU51: 9 | BV51: 6 | BW51: 13 | BX51: 2
A52: =CONCATENATE(BF52,AY52,AZ52) -> 2074 | B52: =CONCATENATE(BC52,IF(BH52="","",CONCATENATE(" (",BH52,")"))," ",BK52) -> A CAD alapjai (gépterem, web) | C52: =CONCATENATE(BG52,AY52,AZ52) -> 6032074 | D52: =CONCATENATE(BC52,IF(BH52="","",CONCATENATE(" (",BH52,")"))," ",BL52) -> A CAD alapjai (gépterem, web) 9 | E52: =CONCATENATE(BD52,AY52,AZ52) -> Szentgyörgyiné Gyöngyösi Éva2074 | F52: =CONCATENATE(BC52," (",IF(OR(BF52="",BH52="Tb.-ről web",BH52="gépterem, Tb.-ről web"),"",CONCATENATE("Bp. ",BF52)),IF(OR(BG52="",BH52="Bp.-ről web",BH52="gépterem, Bp.-ről web"),"",CONCATENATE("Tb. ",BG52)),IF(BH52="","",CONCATENATE(", ",BH52)),")") -> A CAD alapjai (Tb. 603, gépterem, web) | G52: =IF(BM52="","",CONCATENATE($AY52,$AZ52)) | H52: =IF(BN52="","",CONCATENATE($AY52,$AZ52)) | I52: =IF(BO52="","",CONCATENATE($AY52,$AZ52)) | J52: =IF(BP52="","",CONCATENATE($AY52,$AZ52)) | K52: =IF(BQ52="","",CONCATENATE($AY52,$AZ52)) | L52: =IF(BR52="","",CONCATENATE($AY52,$AZ52)) | M52: =IF(BS52="","",CONCATENATE($AY52,$AZ52)) | N52: =IF(BT52="","",CONCATENATE($AY52,$AZ52)) | ... X52: =IF(CD52="","",CONCATENATE($AY52,$AZ52)) | Y52: =CONCATENATE(BC52," (",BF52,IF(BH52="","",CONCATENATE(", ",BH52)),")") -> A CAD alapjai (, gépterem, web) | Z52: =IF(CE52="","",CONCATENATE($AY52,$AZ52)) | AA52: =IF(CF52="","",CONCATENATE($AY52,$AZ52)) -> 2074 | AB52: =IF(CG52="","",CONCATENATE($AY52,$AZ52)) | AC52: =IF(CH52="","",CONCATENATE($AY52,$AZ52)) | AD52: =IF(CI52="","",CONCATENATE($AY52,$AZ52)) | AE52: =IF(CJ52="","",CONCATENATE($AY52,$AZ52)) | AF52: =IF(CK52="","",CONCATENATE($AY52,$AZ52)) | AG52: =IF(CL52="","",CONCATENATE($AY52,$AZ52)) | ... AW52: =IF(DB52="","",CONCATENATE($AY52,$AZ52)) | AX52: =CONCATENATE(BC52," (",BG52,IF(BH52="","",CONCATENATE(", ",BH52)),")") -> A CAD alapjai (603, gépterem, web) | AY52: 207 | AZ52: 4 | BA52: =VLOOKUP(AY52,segéd!$F$9:$G$38,2,FALSE) -> 46060 | BB52: =VLOOKUP(AZ52,segéd!$F$1:$G$7,2,FALSE) -> 13.30-15.00 | BC52: A CAD alapjai | BD52: Szentgyörgyiné Gyöngyösi Éva | BE52: tatabányai FOKSZ | BG52: 603 | BH52: gépterem, web | BI52: https://teams.microsoft.com/meet/31606823993885?p=W0sQ1K6767JWqLYN9h | BJ52: =SUM(BK52:BL52) -> 9 | BK52: =IF(BF52="","",VLOOKUP(BC52,segéd!O:P,2,FALSE)) | BL52: =IF(BG52="","",VLOOKUP(BC52,segéd!T:U,2,FALSE)) -> 9 | CF52: 19
A53: =CONCATENATE(BF53,AY53,AZ53) -> 2074 | B53: =CONCATENATE(BC53,IF(BH53="","",CONCATENATE(" (",BH53,")"))," ",BK53) -> Alkalmazott informatika (gépterem, web) | C53: =CONCATENATE(BG53,AY53,AZ53) -> 6042074 | D53: =CONCATENATE(BC53,IF(BH53="","",CONCATENATE(" (",BH53,")"))," ",BL53) -> Alkalmazott informatika (gépterem, web) 24 | E53: =CONCATENATE(BD53,AY53,AZ53) -> Nagyné Csóti Beáta2074 | F53: =CONCATENATE(BC53," (",IF(OR(BF53="",BH53="Tb.-ről web",BH53="gépterem, Tb.-ről web"),"",CONCATENATE("Bp. ",BF53)),IF(OR(BG53="",BH53="Bp.-ről web",BH53="gépterem, Bp.-ről web"),"",CONCATENATE("Tb. ",BG53)),IF(BH53="","",CONCATENATE(", ",BH53)),")") -> Alkalmazott informatika (Tb. 604, gépterem, web) | G53: =IF(BM53="","",CONCATENATE($AY53,$AZ53)) | H53: =IF(BN53="","",CONCATENATE($AY53,$AZ53)) | I53: =IF(BO53="","",CONCATENATE($AY53,$AZ53)) | J53: =IF(BP53="","",CONCATENATE($AY53,$AZ53)) | K53: =IF(BQ53="","",CONCATENATE($AY53,$AZ53)) | L53: =IF(BR53="","",CONCATENATE($AY53,$AZ53)) | M53: =IF(BS53="","",CONCATENATE($AY53,$AZ53)) | N53: =IF(BT53="","",CONCATENATE($AY53,$AZ53)) | ... X53: =IF(CD53="","",CONCATENATE($AY53,$AZ53)) | Y53: =CONCATENATE(BC53," (",BF53,IF(BH53="","",CONCATENATE(", ",BH53)),")") -> Alkalmazott informatika (, gépterem, web) | Z53: =IF(CE53="","",CONCATENATE($AY53,$AZ53)) | AA53: =IF(CF53="","",CONCATENATE($AY53,$AZ53)) | AB53: =IF(CG53="","",CONCATENATE($AY53,$AZ53)) | AC53: =IF(CH53="","",CONCATENATE($AY53,$AZ53)) | AD53: =IF(CI53="","",CONCATENATE($AY53,$AZ53)) | AE53: =IF(CJ53="","",CONCATENATE($AY53,$AZ53)) -> 2074 | AF53: =IF(CK53="","",CONCATENATE($AY53,$AZ53)) -> 2074 | AG53: =IF(CL53="","",CONCATENATE($AY53,$AZ53)) -> 2074 | ... AW53: =IF(DB53="","",CONCATENATE($AY53,$AZ53)) | AX53: =CONCATENATE(BC53," (",BG53,IF(BH53="","",CONCATENATE(", ",BH53)),")") -> Alkalmazott informatika (604, gépterem, web) | AY53: 207 | AZ53: 4 | BA53: =VLOOKUP(AY53,segéd!$F$9:$G$38,2,FALSE) -> 46060 | BB53: =VLOOKUP(AZ53,segéd!$F$1:$G$7,2,FALSE) -> 13.30-15.00 | BC53: Alkalmazott informatika | BD53: Nagyné Csóti Beáta | BE53: tatabányai alapképzés | BG53: 604 | BH53: gépterem, web | BI53: https://teams.microsoft.com/meet/38906710929912?p=zq7BZ1Xz4veFmCKQfC | BJ53: =SUM(BK53:BL53) -> 24 | BK53: =IF(BF53="","",VLOOKUP(BC53,segéd!O:P,2,FALSE)) | BL53: =IF(BG53="","",VLOOKUP(BC53,segéd!T:U,2,FALSE)) -> 24 | CJ53: 3 | CK53: 7 | CL53: 10 | CM53: 3 | CN53: 2 | CO53: 4
A54: =CONCATENATE(BF54,AY54,AZ54) -> 2074 | B54: =CONCATENATE(BC54,IF(BH54="","",CONCATENATE(" (",BH54,")"))," ",BK54) -> Emberi erőforrás menedzsment (web) | C54: =CONCATENATE(BG54,AY54,AZ54) -> 4012074 | D54: =CONCATENATE(BC54,IF(BH54="","",CONCATENATE(" (",BH54,")"))," ",BL54) -> Emberi erőforrás menedzsment (web) 5 | E54: =CONCATENATE(BD54,AY54,AZ54) -> Gyalogos Norbert2074 | F54: =CONCATENATE(BC54," (",IF(OR(BF54="",BH54="Tb.-ről web",BH54="gépterem, Tb.-ről web"),"",CONCATENATE("Bp. ",BF54)),IF(OR(BG54="",BH54="Bp.-ről web",BH54="gépterem, Bp.-ről web"),"",CONCATENATE("Tb. ",BG54)),IF(BH54="","",CONCATENATE(", ",BH54)),")") -> Emberi erőforrás menedzsment (Tb. 401, web) | G54: =IF(BM54="","",CONCATENATE($AY54,$AZ54)) | H54: =IF(BN54="","",CONCATENATE($AY54,$AZ54)) | I54: =IF(BO54="","",CONCATENATE($AY54,$AZ54)) | J54: =IF(BP54="","",CONCATENATE($AY54,$AZ54)) | K54: =IF(BQ54="","",CONCATENATE($AY54,$AZ54)) | L54: =IF(BR54="","",CONCATENATE($AY54,$AZ54)) | M54: =IF(BS54="","",CONCATENATE($AY54,$AZ54)) | N54: =IF(BT54="","",CONCATENATE($AY54,$AZ54)) | ... X54: =IF(CD54="","",CONCATENATE($AY54,$AZ54)) | Y54: =CONCATENATE(BC54," (",BF54,IF(BH54="","",CONCATENATE(", ",BH54)),")") -> Emberi erőforrás menedzsment (, web) | Z54: =IF(CE54="","",CONCATENATE($AY54,$AZ54)) | AA54: =IF(CF54="","",CONCATENATE($AY54,$AZ54)) | AB54: =IF(CG54="","",CONCATENATE($AY54,$AZ54)) | AC54: =IF(CH54="","",CONCATENATE($AY54,$AZ54)) | AD54: =IF(CI54="","",CONCATENATE($AY54,$AZ54)) -> 2074 | AE54: =IF(CJ54="","",CONCATENATE($AY54,$AZ54)) | AF54: =IF(CK54="","",CONCATENATE($AY54,$AZ54)) | AG54: =IF(CL54="","",CONCATENATE($AY54,$AZ54)) | ... AW54: =IF(DB54="","",CONCATENATE($AY54,$AZ54)) | AX54: =CONCATENATE(BC54," (",BG54,IF(BH54="","",CONCATENATE(", ",BH54)),")") -> Emberi erőforrás menedzsment (401, web) | AY54: 207 | AZ54: 4 | BA54: =VLOOKUP(AY54,segéd!$F$9:$G$38,2,FALSE) -> 46060 | BB54: =VLOOKUP(AZ54,segéd!$F$1:$G$7,2,FALSE) -> 13.30-15.00 | BC54: Emberi erőforrás menedzsment | BD54: Gyalogos Norbert | BE54: tatabányai mesterképzés | BG54: 401 | BH54: web | BI54: https://teams.microsoft.com/meet/37217266966001?p=3SogP0kI1oRJt1y1Yy | BJ54: =SUM(BK54:BL54) -> 5 | BK54: =IF(BF54="","",VLOOKUP(BC54,segéd!O:P,2,FALSE)) | BL54: =IF(BG54="","",VLOOKUP(BC54,segéd!T:U,2,FALSE)) -> 5 | CI54: 5
