Workbook
Name Oktató: [1]segéd!$A$1:$A$57
Name Oktató: segéd!$A$1:$A$70
Name oktatók: segéd!$A$1:$A$70
Name tbterem: [1]segéd!$D$1:$D$21
Name tbterem: segéd!$D$1:$D$22
Name Terem: [1]segéd!$C$1:$C$12
Name Terem: segéd!$C$1:$C$12

Sheet segéd
A1: Antalík Imrich | C1: 201 | D1: 1 | F1: 1 | G1: 8.00-9.30 | I1: február 6-7. | J1: 206 | K1: 207 | N1: BB-0-A201LE0 | O1: Gazdasági matematika II. | P1: =VLOOKUP(N1,kurzusok!E:G,3,FALSE) -> 66 | S1: TB-0-A201LE0 | T1: Gazdasági matematika II. | U1: =VLOOKUP(S1,kurzusok!E:G,3,FALSE) -> 63
A2: Árendás Bence | C2: 202 | D2: 2 | F2: 2 | G2: 9.45-11.15 | I2: február 13-14. | J2: 213 | K2: 214 | N2: BB-0-A201LS1 | O2: Gazdasági matematika II. | P2: =VLOOKUP(N2,kurzusok!E:G,3,FALSE) -> 67 | S2: TB-0-A201LS1 | T2: Gazdasági matematika II. | U2: =VLOOKUP(S2,kurzusok!E:G,3,FALSE) -> 63
A3: Balog Mónika | C3: 205 | D3: 3 | F3: 3 | G3: 11.30-13.00 | I3: február 20-21. | J3: 220 | K3: 221 | N3: BB-0-A209LE0 | O3: Statisztika I. | P3: =VLOOKUP(N3,kurzusok!E:G,3,FALSE) -> 59 | S3: TB-0-A209LE0 | T3: Statisztika I. | U3: =VLOOKUP(S3,kurzusok!E:G,3,FALSE) -> 119
A4: Barna Zsolt | C4: 206 | D4: 6 | F4: 4 | G4: 13.30-15.00 | I4: február 27-28. | J4: 227 | K4: 228 | N4: BB-0-A209LS1 | O4: Statisztika I. | P4: =VLOOKUP(N4,kurzusok!E:G,3,FALSE) -> 59 | S4: TB-0-A209LS1 | T4: Statisztika I. | U4: =VLOOKUP(S4,kurzusok!E:G,3,FALSE) -> 119
A5: Barócsi Zoltán | C5: 207 | D5: 212 | F5: 5 | G5: 15.15-16.45 | I5: március 6-7. | J5: 306 | K5: 307 | N5: BB-0-A206LE0 | O5: Közgazdaságtan II. | P5: =VLOOKUP(N5,kurzusok!E:G,3,FALSE) -> 60 | S5: TB-0-A206LE0 | T5: Közgazdaságtan II. | U5: =VLOOKUP(S5,kurzusok!E:G,3,FALSE) -> 95
A6: Belyó Pál | C6: 208 | D6: 213 | F6: 6 | G6: 17.00-18.30 | I6: március 13-14. | J6: 313 | K6: 314 | N6: BB-0-A206LS1 | O6: Közgazdaságtan II. | P6: =VLOOKUP(N6,kurzusok!E:G,3,FALSE) -> 60 | S6: TB-0-A206LS1 | T6: Közgazdaságtan II. | U6: =VLOOKUP(S6,kurzusok!E:G,3,FALSE) -> 95
A7: Bíró Csaba | C7: 209 | D7: 214 | F7: 7 | G7: 18.45-20.15 | I7: március 20-21. | J7: 320 | K7: 321 | N7: BB-0-A208LE0 | O7: Pénzügy | P7: =VLOOKUP(N7,kurzusok!E:G,3,FALSE) -> 45 | S7: TB-0-A208LE0 | T7: Pénzügy | U7: =VLOOKUP(S7,kurzusok!E:G,3,FALSE) -> 42
A8: Borbás Lajos | C8: 210 | D8: 215 | I8: március 27-28. | J8: 327 | K8: 328 | N8: BB-0-A207LE0 | O8: Marketing | P8: =VLOOKUP(N8,kurzusok!E:G,3,FALSE) -> 7 | S8: TB-0-A109LE0 | T8: Üzleti és szakmai kommunikáció | U8: =VLOOKUP(S8,kurzusok!E:G,3,FALSE)+U10+U12 -> 91
A9: Böröczki Ágoston | C9: 214 | D9: 216 | F9: 206 | G9: 46059 | I9: április 3-4. | J9: 403 | K9: 404 | N9: BB-0-A207LS1 | O9: Marketing | P9: =VLOOKUP(N9,kurzusok!E:G,3,FALSE) -> 7 | S9: TB-0-A109LS1 | T9: Üzleti és szakmai kommunikáció | U9: =VLOOKUP(S9,kurzusok!E:G,3,FALSE) -> 53
A10: Brunner Zsuzsanna | C10: 215 | D10: 217 | F10: 207 | G10: 46060 | I10: április 10-11. | J10: 410 | K10: 411 | N10: BB-0-A210LE0 | O10: Vezetés, szervezés | P10: =VLOOKUP(N10,kurzusok!E:G,3,FALSE) -> 52 | S10: TB-3-M502LE0 | T10: Üzleti és szakmai kommunikáció | U10: =VLOOKUP(S10,kurzusok!E:G,3,FALSE) -> 30
A11: Buda Lorina | C11: 217 | D11: 401 | F11: 213 | G11: 46066 | I11: április 17-18. | J11: 417 | K11: 418 | N11: BB-0-A210LS1 | O11: Vezetés, szervezés | P11: =VLOOKUP(N11,kurzusok!E:G,3,FALSE) -> 52 | S11: TB-3-M502LS1 | T11: Üzleti és szakmai kommunikáció | U11: =VLOOKUP(S11,kurzusok!E:G,3,FALSE) -> 30
A12: Cservenyi Dóra | C12: 4 | D12: 402 | F12: 214 | G12: 46067 | I12: április 24-25. | J12: 424 | K12: 425 | N12: BB-0-C304LE0 | O12: Turizmus társ. és gazd. alapjai | P12: =VLOOKUP(N12,kurzusok!E:G,3,FALSE) -> 8 | S12: TF-0-A103LE0 | T12: Üzleti és szakmai kommunikáció | U12: =VLOOKUP(S12,kurzusok!E:G,3,FALSE) -> 8
A13: Deés Szilvia | D13: 403 | F13: 220 | G13: 46073 | I13: május 1-2. | J13: 501 | K13: 502 | N13: BB-0-C304LS1 | O13: Turizmus társ. és gazd. alapjai | P13: =VLOOKUP(N13,kurzusok!E:G,3,FALSE) -> 8 | S13: TF-0-A103LS1 | T13: Üzleti és szakmai kommunikáció | U13: =VLOOKUP(S13,kurzusok!E:G,3,FALSE) -> 8
A14: Dobos Ádám | D14: 404 | F14: 221 | G14: 46074 | I14: május 8-9. | J14: 508 | K14: 509 | N14: BB-1-A202LS1 | O14: Angol gazdasági szaknyelv II., 1. csop. | P14: =VLOOKUP(N14,kurzusok!E:G,3,FALSE) -> 21 | S14: TB-0-A210LE0 | T14: Vezetés, szervezés | U14: =VLOOKUP(S14,kurzusok!E:G,3,FALSE) -> 155
A15: Dzur Annamária | D15: 408 | F15: 227 | G15: 46080 | I15: május 15-16. | J15: 515 | K15: 516 | N15: BB-1-A202LS2 | O15: Angol gazdasági szaknyelv II., 2. csop. | P15: =VLOOKUP(N15,kurzusok!E:G,3,FALSE) -> 20 | S15: TB-0-A210LS1 | T15: Vezetés, szervezés | U15: =VLOOKUP(S15,kurzusok!E:G,3,FALSE) -> 155
A16: Duchai Márta | D16: 501 | F16: 228 | G16: 46081 | N16: BB-1-A202LS3 | O16: Angol gazdasági szaknyelv II., 3. csop. | P16: =VLOOKUP(N16,kurzusok!E:G,3,FALSE) -> #N/A | S16: TB-1-A202LS1 | T16: Angol gazdasági szaknyelv II., 1. csop. | U16: =VLOOKUP(S16,kurzusok!E:G,3,FALSE) -> 17
A17: Duga Zsófia | D17: 601 | F17: 306 | G17: 46087 | N17: BB-1-A103LS1 | O17: Angol gazdasági szaknyelv I. | P17: =VLOOKUP(N17,kurzusok!E:G,3,FALSE) -> 8 | S17: TB-1-A202LS2 | T17: Angol gazdasági szaknyelv II., 2. csop. | U17: =VLOOKUP(S17,kurzusok!E:G,3,FALSE) -> 18
A18: Ferencz-Antal Klára | D18: 603 | F18: 307 | G18: 46088 | N18: BB-4-C105LS1 angol | O18: Gazdasági szaknyelv-előkészítő | P18: =VLOOKUP(N18,kurzusok!E:G,3,FALSE) -> 3 | S18: TB-1-A203LS1 | T18: Német gazdasági szaknyelv II. | U18: =VLOOKUP(S18,kurzusok!E:G,3,FALSE) -> 4
A19: Gaál Béla | D19: 604 | F19: 313 | G19: 46094 | N19: BB-0-A108LE0 | O19: Közgazdaságtan I. | P19: =VLOOKUP(N19,kurzusok!E:G,3,FALSE) -> 13 | S19: TB-1-A103LS1 | T19: Angol gazdasági szaknyelv I. | U19: =VLOOKUP(S19,kurzusok!E:G,3,FALSE) -> 7
A20: Gellért Judit | D20: 605 | F20: 314 | G20: 46095 | N20: BB-0-A108LS1 | O20: Közgazdaságtan I. | P20: =VLOOKUP(N20,kurzusok!E:G,3,FALSE) -> 13 | S20: TB-0-A108LE0 | T20: Közgazdaságtan I. | U20: =VLOOKUP(S20,kurzusok!E:G,3,FALSE) -> 41
A21: Gondos Borbála | D21: A/Nae. | F21: 320 | G21: 46101 | N21: BB-0-A401LS1 | O21: Alkalmazott informatika | P21: =VLOOKUP(N21,kurzusok!E:G,3,FALSE) -> 44 | S21: TB-0-A108LS1 | T21: Közgazdaságtan I. | U21: =VLOOKUP(S21,kurzusok!E:G,3,FALSE) -> 41
A22: Gyalogos Norbert | D22: Passzív | F22: 321 | G22: 46102 | N22: BB-0-C422LE0 | O22: Vállalati pénzügy | P22: =VLOOKUP(N22,kurzusok!E:G,3,FALSE) -> 38 | S22: TB-0-A401LS1 | T22: Alkalmazott informatika | U22: =VLOOKUP(S22,kurzusok!E:G,3,FALSE) -> 24
A23: Havasi Zoltán | F23: 327 | G23: 46108 | N23: BB-0-C422LS1 | O23: Vállalati pénzügy | P23: =VLOOKUP(N23,kurzusok!E:G,3,FALSE) -> 38 | S23: TB-0-C422LE0 | T23: Vállalati pénzügy | U23: =VLOOKUP(S23,kurzusok!E:G,3,FALSE) -> 35
A24: Janóczki Mihály | F24: 328 | G24: 46109 | N24: BB-0-C402LS1 | O24: Emberi erőforrás gazd. és men. | P24: =VLOOKUP(N24,kurzusok!E:G,3,FALSE) -> 40 | S24: TB-0-C422LS1 | T24: Vállalati pénzügy | U24: =VLOOKUP(S24,kurzusok!E:G,3,FALSE) -> 35
A25: Juhász Krisztina | F25: 403 | G25: 46115 | N25: BB-5-C415LE0 | O25: Számvitel II. | P25: =VLOOKUP(N25,kurzusok!E:G,3,FALSE) -> 23 | S25: TB-0-C402LS1 | T25: Emberi erőforrás gazd. és men. | U25: =VLOOKUP(S25,kurzusok!E:G,3,FALSE) -> 30
A26: Kasza József | F26: 404 | G26: 46116 | N26: BB-5-C415LS1 | O26: Számvitel II. | P26: =VLOOKUP(N26,kurzusok!E:G,3,FALSE) -> 23 | S26: TB-5-C415LE0 | T26: Számvitel II. | U26: =VLOOKUP(S26,kurzusok!E:G,3,FALSE) -> 20
A27: Kárpáti-Daróczi Judit | F27: 410 | G27: 46122 | N27: BB-0-C408LE0 | O27: Kontrolling | P27: =VLOOKUP(N27,kurzusok!E:G,3,FALSE) -> 24 | S27: TB-5-C415LS1 | T27: Számvitel II. | U27: =VLOOKUP(S27,kurzusok!E:G,3,FALSE) -> 20
A28: Korcz Miklós Máté | F28: 411 | G28: 46123 | N28: BB-0-C408LS1 | O28: Kontrolling | P28: =VLOOKUP(N28,kurzusok!E:G,3,FALSE) -> 24 | S28: TB-0-C408LE0 | T28: Kontrolling | U28: =VLOOKUP(S28,kurzusok!E:G,3,FALSE) -> 24
A29: Kovács Cecília | F29: 417 | G29: 46129 | N29: BB-0-C414LS1 | O29: Operációkutatás | P29: =VLOOKUP(N29,kurzusok!E:G,3,FALSE) -> 23 | S29: TB-0-C408LS1 | T29: Kontrolling | U29: =VLOOKUP(S29,kurzusok!E:G,3,FALSE) -> 24
A30: Kovács Gergely | F30: 418 | G30: 46130 | N30: BB-3-C406LE0 | O30: KKV-k versenyképessége | P30: =VLOOKUP(N30,kurzusok!E:G,3,FALSE) -> 6 | S30: TB-0-C414LS1 | T30: Operációkutatás | U30: =VLOOKUP(S30,kurzusok!E:G,3,FALSE) -> 20
A31: Köbli Ádám | F31: 424 | G31: 46136 | N31: BB-3-C406LS1 | O31: KKV-k versenyképessége | P31: =VLOOKUP(N31,kurzusok!E:G,3,FALSE) -> 6 | S31: TB-3-C406LE0 | T31: KKV-k versenyképessége | U31: =VLOOKUP(S31,kurzusok!E:G,3,FALSE) -> 9
A32: Krupánszki Kornél | F32: 425 | G32: 46137 | N32: BB-3-C441LE0 | O32: Vezetői számvitel és inf. rend. | P32: =VLOOKUP(N32,kurzusok!E:G,3,FALSE) -> 8 | S32: TB-3-C406LS1 | T32: KKV-k versenyképessége | U32: =VLOOKUP(S32,kurzusok!E:G,3,FALSE) -> 9
A33: Krupánszkyné Léhárt Marianna | F33: 501 | G33: 46143 | N33: BB-3-C441LS1 | O33: Vezetői számvitel és inf. rend. | P33: =VLOOKUP(N33,kurzusok!E:G,3,FALSE) -> 8 | S33: TB-3-C441LE0 | T33: Vezetői számvitel és inf. rend. | U33: =VLOOKUP(S33,kurzusok!E:G,3,FALSE) -> 9
A34: Labossa Ildikó | F34: 502 | G34: 46144 | N34: BB-3-C439LE0 | O34: Nemzetközi vállalatok működése | P34: =VLOOKUP(N34,kurzusok!E:G,3,FALSE) -> 9 | S34: TB-3-C441LS1 | T34: Vezetői számvitel és inf. rend. | U34: =VLOOKUP(S34,kurzusok!E:G,3,FALSE) -> 9
... A38: Lukács András | F38: 516 | G38: 46158 | N38: BB-0-C417LE0 | O38: Termékfejlesztés, termékpolitika | P38: =VLOOKUP(N38,kurzusok!E:G,3,FALSE) -> 20 | S38: TB-0-C404LS1 | T38: Fogy. és szer. vás. magatartás | U38: =VLOOKUP(S38,kurzusok!E:G,3,FALSE) -> 13
A39: Mészáros Sándor | N39: BB-0-C417LS1 | O39: Termékfejlesztés, termékpolitika | P39: =VLOOKUP(N39,kurzusok!E:G,3,FALSE) -> 20 | S39: TB-0-C417LE0 | T39: Termékfejlesztés, termékpolitika | U39: =VLOOKUP(S39,kurzusok!E:G,3,FALSE) -> 16
A40: Miklós Ilona | N40: BB-3-C440LE0 | O40: Marketingpszichológia | P40: =VLOOKUP(N40,kurzusok!E:G,3,FALSE) -> 16 | S40: TB-0-C417LS1 | T40: Termékfejlesztés, termékpolitika | U40: =VLOOKUP(S40,kurzusok!E:G,3,FALSE) -> 16
A41: Molnár László | N41: BB-3-C440LS1 | O41: Marketingpszichológia | P41: =VLOOKUP(N41,kurzusok!E:G,3,FALSE) -> 16 | S41: TB-3-C440LE0 | T41: Marketingpszichológia | U41: =VLOOKUP(S41,kurzusok!E:G,3,FALSE) -> 3
A42: Molnárné Dőry Zsófia | N42: BB-3-C438LE0 | O42: Ellátáslánc menedzsment alapjai | P42: =VLOOKUP(N42,kurzusok!E:G,3,FALSE) -> 7 | S42: TB-3-C440LS1 | T42: Marketingpszichológia | U42: =VLOOKUP(S42,kurzusok!E:G,3,FALSE) -> 3
A43: Nagy Judit | N43: BB-3-C438LS1 | O43: Ellátáslánc menedzsment alapjai | P43: =VLOOKUP(N43,kurzusok!E:G,3,FALSE) -> 7 | S43: TB-3-C438LE0 | T43: Ellátáslánc menedzsment alapjai | U43: =VLOOKUP(S43,kurzusok!E:G,3,FALSE) -> 3
...

Sheet kurzusok
A1: Tárgykód | B1: Tárgynév | C1: Félév | D1: Oktatók | E1: Kurzuskód | F1: Kurzustípus | G1: Létszám | H1: Maximális létszám
A2: MDU-0-1485T | B2: A kultúra és a média európai dimenziói | C2: 2025/26/2 | D2: Zongor Attila | E2: BMDU-0-1485LE0 | F2: Elmélet | G2: 9 | H2: 30
A3: MDU-0-1480T | B3: A nyereséges művészet | C3: 2025/26/2 | D3: Buzás Kálmán | E3: BMDU-0-1480LE0 | F3: Elmélet | G3: 9 | H3: 30
A4: MDG-0-009T | B4: Adatvédelem, auditálás, validálás | C4: 2025/26/2 | D4: Hegedűs Gézáné Dr. Komlóssy Éva | E4: BMDG-0-009TLE0 | F4: Elmélet | G4: 10 | H4: 50
A5: B-4-C652T | B5: Agroturizmus | C5: 2025/26/2 | D5: Pavletits Péter | E5: BB-4-C652NE0 | F5: Elmélet | G5: 0 | H5: 50
A6: B-4-C539T | B6: Aktuális nemzetközi gazdasági trendek | C6: 2025/26/2 | D6: Buda Lorina | E6: BB-4-C539NE0 | F6: Elmélet | G6: 46 | H6: 46
A7: B-4-C539T | B7: Aktuális nemzetközi gazdasági trendek | C7: 2025/26/2 | D7: Buda Lorina | E7: TB-4-C539NE0 | F7: Elmélet | G7: 0 | H7: 40
A8: B-4-C539T | B8: Aktuális nemzetközi gazdasági trendek | C8: 2025/26/2 | D8: Buda Lorina | E8: TB-4-C539LS1 | F8: Gyakorlat | G8: 18 | H8: 100
A9: B-4-C539T | B9: Aktuális nemzetközi gazdasági trendek | C9: 2025/26/2 | D9: Buda Lorina | E9: BB-4-C539LS1 | F9: Gyakorlat | G9: 20 | H9: 100
A10: B-0-A401T | B10: Alkalmazott informatika | C10: 2025/26/2 | D10: Dobos Ádám | E10: BB-0-A401NS1 | F10: Gyakorlat | G10: 28 | H10: 28
A11: B-0-A401T | B11: Alkalmazott informatika | C11: 2025/26/2 | D11: Dobos Ádám | E11: BB-0-A401NS2 | F11: Gyakorlat | G11: 21 | H11: 28
A12: K-B-0-A401T | B12: Alkalmazott informatika | C12: 2025/26/2 | D12: Magyar Tímea | E12: BK-B-0-A401NS1 | F12: Gyakorlat | G12: 19 | H12: 20
A13: B-0-A401T | B13: Alkalmazott informatika | C13: 2025/26/2 | D13: Brunner Zsuzsanna | E13: TB-0-A401NS1 | F13: Gyakorlat | G13: 21 | H13: 25
... A20: B-0-M201T | B20: Alkalmazott mechanika | C20: 2025/26/2 | D20: Szentgyörgyiné Gyöngyösi Éva | E20: TB-0-M201LS1 | F20: Gyakorlat | G20: 85 | H20: 200
A21: SZ-B-8-A402T | B21: Általános angol nyelv II. | C21: 2025/26/2 | E21: SZ-B-8-A402TS01 | F21: Gyakorlat | G21: 38 | H21: 40
A22: B-0-A101T | B22: Általános és gazdasági jog | C22: 2025/26/2 | D22: Dr. Zalahegyi Zoltán | E22: BB-0-A101T(vk) | F22: Vizsgakurzus | G22: 5 | H22: 100
A23: B-0-A101T | B23: Általános és gazdasági jog | C23: 2025/26/2 | D23: Dr. Zalahegyi Zoltán | E23: TB-0-A101T(vk) | F23: Vizsgakurzus | G23: 7 | H23: 100
A24: K-B-4-C109T | B24: Általános nyelv- előkészítő-I | C24: 2025/26/2 | D24: Ferencz-Antal Klára | E24: BK-B-4-C109NS1 | F24: Szeminárium | G24: 8 | H24: 40
A25: B-4-C102T | B25: Általános nyelv II. | C25: 2025/26/2 | D25: Aliné Dr. Peres Anna | E25: BB-4-C102NS1 német | F25: Gyakorlat | G25: 1 | H25: 20
A26: B-4-C102T | B26: Általános nyelv II. | C26: 2025/26/2 | D26: Dr. Keszthelyi Csaba László | E26: TB-4-C102NS1 olasz | F26: Gyakorlat | G26: 3 | H26: 10
A27: B-4-C201T | B27: Általános nyelv III. | C27: 2025/26/2 | D27: Dr. Keszthelyi Csaba László | E27: BB-4-C201NS1 olasz | F27: Gyakorlat | G27: 1 | H27: 1
A28: B-0-M301T | B28: Analóg és digitális elektronika | C28: 2025/26/2 | D28: Szilágyi Zoltán Győző | E28: TB-0-M301TL(vk) | F28: Vizsgakurzus | G28: 4 | H28: 100
A29: B-1-A103T | B29: Angol gazdasági szaknyelv I. | C29: 2025/26/2 | D29: Balog Mónika | E29: TB-1-A103LS1 | F29: Gyakorlat | G29: 7 | H29: 100
A30: B-1-A103T | B30: Angol gazdasági szaknyelv I. | C30: 2025/26/2 | D30: Balog Mónika | E30: BB-1-A103LS1 | F30: Gyakorlat | G30: 8 | H30: 100
A31: B-1-A202T | B31: Angol gazdasági szaknyelv II. | C31: 2025/26/2 | D31: Gellért Judit Márta | E31: BB-1-A202NS1 | F31: Gyakorlat | G31: 23 | H31: 23
A32: B-1-A202T | B32: Angol gazdasági szaknyelv II. | C32: 2025/26/2 | D32: Ferencz-Antal Klára | E32: BB-1-A202NS2 | F32: Gyakorlat | G32: 22 | H32: 22
A33: B-1-A202T | B33: Angol gazdasági szaknyelv II. | C33: 2025/26/2 | D33: Gellért Judit Márta | E33: BB-1-A202NS3 | F33: Gyakorlat | G33: 24 | H33: 24
... A37: B-1-A202T | B37: Angol gazdasági szaknyelv II. | C37: 2025/26/2 | D37: Balog Mónika | E37: TB-1-A202NS2 | F37: Gyakorlat | G37: 20 | H37: 20
A38: B-1-A202T | B38: Angol gazdasági szaknyelv II. | C38: 2025/26/2 | E38: TB-1-A202LS0 | F38: Gyakorlat | G38: 0 | H38: 100
A39: B-1-A202T | B39: Angol gazdasági szaknyelv II. | C39: 2025/26/2 | D39: Nagy Mónika | E39: TB-1-A202LS1 | F39: Gyakorlat | G39: 17 | H39: 100
A40: B-1-A202T | B40: Angol gazdasági szaknyelv II. | C40: 2025/26/2 | D40: Szabó Zsófia | E40: TB-1-A202LS2 | F40: Gyakorlat | G40: 18 | H40: 100
A41: B-1-A202T | B41: Angol gazdasági szaknyelv II. | C41: 2025/26/2 | E41: BB-1-A202LS0 | F41: Gyakorlat | G41: 0 | H41: 100
A42: B-1-A202T | B42: Angol gazdasági szaknyelv II. | C42: 2025/26/2 | D42: Ferencz-Antal Klára | E42: BB-1-A202LS1 | F42: Gyakorlat | G42: 21 | H42: 100
A43: B-1-A202T | B43: Angol gazdasági szaknyelv II. | C43: 2025/26/2 | D43: Ferencz-Antal Klára | E43: BB-1-A202LS2 | F43: Gyakorlat | G43: 20 | H43: 100
A44: SZ-B-1-A202T | B44: Angol gazdasági szaknyelv II. | C44: 2025/26/2 | D44: Márton Mária | E44: SZ-B-1-A202LS1 | F44: Gyakorlat | G44: 26 | H44: 30
A45: K-B-1-A202T | B45: Angol gazdasági szaknyelv II. | C45: 2025/26/2 | D45: Balog Mónika | E45: BK-B-1-A202NS1 | F45: Gyakorlat | G45: 24 | H45: 40
A46: B-8-A111T | B46: Angol nyelvi szintfelmérő | C46: 2025/26/2 | D46: Ferencz-Antal Klára | E46: BB-8-A111LS1 | F46: Gyakorlat | G46: 15 | H46: 220
A47: B-8-A111T | B47: Angol nyelvi szintfelmérő | C47: 2025/26/2 | D47: Ferencz-Antal Klára | E47: BB-8-A111NS1 | F47: Gyakorlat | G47: 4 | H47: 220
A48: B-8-A111T | B48: Angol nyelvi szintfelmérő | C48: 2025/26/2 | D48: Balog Mónika | E48: TB-8-A111LS1 | F48: Gyakorlat | G48: 17 | H48: 200
A49: B-8-A111T | B49: Angol nyelvi szintfelmérő | C49: 2025/26/2 | D49: Balog Mónika | E49: TB-8-A111NS1 | F49: Gyakorlat | G49: 1 | H49: 100
...

Sheet Bp. terem
A1: 207 | D1: szombat
B2: 207 | C2: 214 | D2: 221 | E2: 228 | F2: 307 | G2: 314 | H2: 321 | I2: 328 | J2: 404 | K2: 411 | L2: 418 | M2: 425 | N2: 502 | O2: 509 | P2: 516
A3: sáv | B3: február 7. | C3: február 14. | D3: február 21. | E3: február 28. | F3: március 7. | G3: március 14. | H3: március 21. | I3: március 28. | J3: április 4. | K3: április 11. | L3: április 18. | M3: április 25. | N3: május 2. | O3: május 9. | P3: május 16.
A4: 8.00 - 9.30 | B4: =IFERROR(VLOOKUP(CONCATENATE($A$1,B$2,$Q4),Alap!$A:$B,2,FALSE),"") | C4: =IFERROR(VLOOKUP(CONCATENATE($A$1,C$2,$Q4),Alap!$A:$B,2,FALSE),"") -> Nemzetk. ellátásilánc men. (gépterem, Tb.-ről web) 7 | D4: =IFERROR(VLOOKUP(CONCATENATE($A$1,D$2,$Q4),Alap!$A:$B,2,FALSE),"") -> Ellátáslánc menedzsment alapjai (otthonról web) 7 | E4: =IFERROR(VLOOKUP(CONCATENATE($A$1,E$2,$Q4),Alap!$A:$B,2,FALSE),"") -> Kvantitatív módszerek, ökonometria (gépterem, Bp.-ről web) 13 | F4: =IFERROR(VLOOKUP(CONCATENATE($A$1,F$2,$Q4),Alap!$A:$B,2,FALSE),"") | G4: =IFERROR(VLOOKUP(CONCATENATE($A$1,G$2,$Q4),Alap!$A:$B,2,FALSE),"") -> Logisztikai folyamatok és techn. (gépterem) 14 | H4: =IFERROR(VLOOKUP(CONCATENATE($A$1,H$2,$Q4),Alap!$A:$B,2,FALSE),"") -> Logisztikai folyamatok és techn. (gépterem) 14 | I4: =IFERROR(VLOOKUP(CONCATENATE($A$1,I$2,$Q4),Alap!$A:$B,2,FALSE),"") -> Logisztikai folyamatok és techn. (gépterem) 14 | ... P4: =IFERROR(VLOOKUP(CONCATENATE($A$1,P$2,$Q4),Alap!$A:$B,2,FALSE),"") -> Kvantitatív módszerek, ökonometria (gépterem, Bp.-ről web) 13 | Q4: 1
A5: 9.45 - 11.15 | B5: =IFERROR(VLOOKUP(CONCATENATE($A$1,B$2,$Q5),Alap!$A:$B,2,FALSE),"") | C5: =IFERROR(VLOOKUP(CONCATENATE($A$1,C$2,$Q5),Alap!$A:$B,2,FALSE),"") -> Nemzetk. ellátásilánc men. (gépterem, Tb.-ről web) 7 | D5: =IFERROR(VLOOKUP(CONCATENATE($A$1,D$2,$Q5),Alap!$A:$B,2,FALSE),"") -> Ellátáslánc menedzsment alapjai (otthonról web) 7 | E5: =IFERROR(VLOOKUP(CONCATENATE($A$1,E$2,$Q5),Alap!$A:$B,2,FALSE),"") -> Kvantitatív módszerek, ökonometria (gépterem, Bp.-ről web) 13 | F5: =IFERROR(VLOOKUP(CONCATENATE($A$1,F$2,$Q5),Alap!$A:$B,2,FALSE),"") | G5: =IFERROR(VLOOKUP(CONCATENATE($A$1,G$2,$Q5),Alap!$A:$B,2,FALSE),"") -> Logisztikai folyamatok és techn. (gépterem) 14 | H5: =IFERROR(VLOOKUP(CONCATENATE($A$1,H$2,$Q5),Alap!$A:$B,2,FALSE),"") -> Logisztikai folyamatok és techn. (gépterem) 14 | I5: =IFERROR(VLOOKUP(CONCATENATE($A$1,I$2,$Q5),Alap!$A:$B,2,FALSE),"") -> Alkalmazott informatika (gépterem, web) 44 | ... P5: =IFERROR(VLOOKUP(CONCATENATE($A$1,P$2,$Q5),Alap!$A:$B,2,FALSE),"") -> Kvantitatív módszerek, ökonometria (gépterem, Bp.-ről web) 13 | Q5: 2
A6: 11.30 - 13.00 | B6: =IFERROR(VLOOKUP(CONCATENATE($A$1,B$2,$Q6),Alap!$A:$B,2,FALSE),"") | C6: =IFERROR(VLOOKUP(CONCATENATE($A$1,C$2,$Q6),Alap!$A:$B,2,FALSE),"") -> Vállalatirányítási inf. rendszerek (gépterem, Tb.-ről web) 9 | D6: =IFERROR(VLOOKUP(CONCATENATE($A$1,D$2,$Q6),Alap!$A:$B,2,FALSE),"") -> Projektmunka nemz. vállalatoknál (gépterem, Tb.-ről web) 7 | E6: =IFERROR(VLOOKUP(CONCATENATE($A$1,E$2,$Q6),Alap!$A:$B,2,FALSE),"") -> Szállítási log. az ellátási láncban (web) 8 | F6: =IFERROR(VLOOKUP(CONCATENATE($A$1,F$2,$Q6),Alap!$A:$B,2,FALSE),"") -> Alkalmazott informatika (gépterem, web) 44 | G6: =IFERROR(VLOOKUP(CONCATENATE($A$1,G$2,$Q6),Alap!$A:$B,2,FALSE),"") -> Projektmunka nemz. vállalatoknál (gépterem, Bp.-ről web) 7 | H6: =IFERROR(VLOOKUP(CONCATENATE($A$1,H$2,$Q6),Alap!$A:$B,2,FALSE),"") -> Logisztikai folyamatok és techn. (gépterem) 14 | I6: =IFERROR(VLOOKUP(CONCATENATE($A$1,I$2,$Q6),Alap!$A:$B,2,FALSE),"") -> Alkalmazott informatika (gépterem, web) 44 | ... P6: =IFERROR(VLOOKUP(CONCATENATE($A$1,P$2,$Q6),Alap!$A:$B,2,FALSE),"") -> Ellátásilánc-men. felj. és kontr. (gépterem) 7 | Q6: 3
A7: 13.30 - 15.00 | B7: =IFERROR(VLOOKUP(CONCATENATE($A$1,B$2,$Q7),Alap!$A:$B,2,FALSE),"") | C7: =IFERROR(VLOOKUP(CONCATENATE($A$1,C$2,$Q7),Alap!$A:$B,2,FALSE),"") -> Logisztikai folyamatok és techn. (gépterem) 14 | D7: =IFERROR(VLOOKUP(CONCATENATE($A$1,D$2,$Q7),Alap!$A:$B,2,FALSE),"") -> Projektmunka nemz. vállalatoknál (gépterem, Tb.-ről web) 7 | E7: =IFERROR(VLOOKUP(CONCATENATE($A$1,E$2,$Q7),Alap!$A:$B,2,FALSE),"") -> Vállalatirányítási inf. rendszerek (gépterem, Tb.-ről web) 9 | F7: =IFERROR(VLOOKUP(CONCATENATE($A$1,F$2,$Q7),Alap!$A:$B,2,FALSE),"") -> Alkalmazott informatika (gépterem, web) 44 | G7: =IFERROR(VLOOKUP(CONCATENATE($A$1,G$2,$Q7),Alap!$A:$B,2,FALSE),"") -> Projektmunka nemz. vállalatoknál (gépterem, Bp.-ről web) 7 | H7: =IFERROR(VLOOKUP(CONCATENATE($A$1,H$2,$Q7),Alap!$A:$B,2,FALSE),"") -> Kvantitatív módszerek, ökonometria (gépterem, Bp.-ről web) 13 | I7: =IFERROR(VLOOKUP(CONCATENATE($A$1,I$2,$Q7),Alap!$A:$B,2,FALSE),"") | ... P7: =IFERROR(VLOOKUP(CONCATENATE($A$1,P$2,$Q7),Alap!$A:$B,2,FALSE),"") -> Ellátásilánc-men. felj. és kontr. (gépterem) 7 | Q7: 4
A8: 15.15 - 16.45 | B8: =IFERROR(VLOOKUP(CONCATENATE($A$1,B$2,$Q8),Alap!$A:$B,2,FALSE),"") | C8: =IFERROR(VLOOKUP(CONCATENATE($A$1,C$2,$Q8),Alap!$A:$B,2,FALSE),"") -> Logisztikai folyamatok és techn. (gépterem) 14 | D8: =IFERROR(VLOOKUP(CONCATENATE($A$1,D$2,$Q8),Alap!$A:$B,2,FALSE),"") -> Vállalatirányítási inf. rendszerek (gépterem, Tb.-ről web) 9 | E8: =IFERROR(VLOOKUP(CONCATENATE($A$1,E$2,$Q8),Alap!$A:$B,2,FALSE),"") -> Vállalatirányítási inf. rendszerek (gépterem, Tb.-ről web) 9 | F8: =IFERROR(VLOOKUP(CONCATENATE($A$1,F$2,$Q8),Alap!$A:$B,2,FALSE),"") | G8: =IFERROR(VLOOKUP(CONCATENATE($A$1,G$2,$Q8),Alap!$A:$B,2,FALSE),"") | H8: =IFERROR(VLOOKUP(CONCATENATE($A$1,H$2,$Q8),Alap!$A:$B,2,FALSE),"") -> Kvantitatív módszerek, ökonometria (gépterem, Bp.-ről web) 13 | I8: =IFERROR(VLOOKUP(CONCATENATE($A$1,I$2,$Q8),Alap!$A:$B,2,FALSE),"") | ... P8: =IFERROR(VLOOKUP(CONCATENATE($A$1,P$2,$Q8),Alap!$A:$B,2,FALSE),"") | Q8: 5
A9: 17.00 - 18.30 | B9: =IFERROR(VLOOKUP(CONCATENATE($A$1,B$2,$Q9),Alap!$A:$B,2,FALSE),"") | C9: =IFERROR(VLOOKUP(CONCATENATE($A$1,C$2,$Q9),Alap!$A:$B,2,FALSE),"") | D9: =IFERROR(VLOOKUP(CONCATENATE($A$1,D$2,$Q9),Alap!$A:$B,2,FALSE),"") | E9: =IFERROR(VLOOKUP(CONCATENATE($A$1,E$2,$Q9),Alap!$A:$B,2,FALSE),"") | F9: =IFERROR(VLOOKUP(CONCATENATE($A$1,F$2,$Q9),Alap!$A:$B,2,FALSE),"") | G9: =IFERROR(VLOOKUP(CONCATENATE($A$1,G$2,$Q9),Alap!$A:$B,2,FALSE),"") | H9: =IFERROR(VLOOKUP(CONCATENATE($A$1,H$2,$Q9),Alap!$A:$B,2,FALSE),"") | I9: =IFERROR(VLOOKUP(CONCATENATE($A$1,I$2,$Q9),Alap!$A:$B,2,FALSE),"") | ... P9: =IFERROR(VLOOKUP(CONCATENATE($A$1,P$2,$Q9),Alap!$A:$B,2,FALSE),"") | Q9: 6
B10: =B2-1 -> 206 | C10: =C2-1 -> 213 | D10: =D2-1 -> 220 | E10: =E2-1 -> 227 | F10: =F2-1 -> 306 | G10: =G2-1 -> 313 | H10: =H2-1 -> 320 | I10: =I2-1 -> 327 | ... P10: =P2-1 -> 515
A11: péntek
A12: sáv | B12: február 6. | C12: február 13. | D12: február 20. | E12: február 27. | F12: március 6. | G12: március 13. | H12: március 20. | I12: március 27. | J12: április 3. | K12: április 10. | L12: április 17. | M12: április 24. | N12: május 1. | O12: május 8. | P12: május 15.
A13: 13.30 - 15.00 | B13: =IFERROR(VLOOKUP(CONCATENATE($A$1,B$10,$Q13),Alap!$A:$B,2,FALSE),"") | C13: =IFERROR(VLOOKUP(CONCATENATE($A$1,C$10,$Q13),Alap!$A:$B,2,FALSE),"") | D13: =IFERROR(VLOOKUP(CONCATENATE($A$1,D$10,$Q13),Alap!$A:$B,2,FALSE),"") | E13: =IFERROR(VLOOKUP(CONCATENATE($A$1,E$10,$Q13),Alap!$A:$B,2,FALSE),"") | F13: =IFERROR(VLOOKUP(CONCATENATE($A$1,F$10,$Q13),Alap!$A:$B,2,FALSE),"") | G13: =IFERROR(VLOOKUP(CONCATENATE($A$1,G$10,$Q13),Alap!$A:$B,2,FALSE),"") | H13: =IFERROR(VLOOKUP(CONCATENATE($A$1,H$10,$Q13),Alap!$A:$B,2,FALSE),"") | I13: =IFERROR(VLOOKUP(CONCATENATE($A$1,I$10,$Q13),Alap!$A:$B,2,FALSE),"") | ... P13: =IFERROR(VLOOKUP(CONCATENATE($A$1,P$10,$Q13),Alap!$A:$B,2,FALSE),"") | Q13: 4
A14: 15.15 - 16.45 | B14: =IFERROR(VLOOKUP(CONCATENATE($A$1,B$10,$Q14),Alap!$A:$B,2,FALSE),"") | C14: =IFERROR(VLOOKUP(CONCATENATE($A$1,C$10,$Q14),Alap!$A:$B,2,FALSE),"") | D14: =IFERROR(VLOOKUP(CONCATENATE($A$1,D$10,$Q14),Alap!$A:$B,2,FALSE),"") | E14: =IFERROR(VLOOKUP(CONCATENATE($A$1,E$10,$Q14),Alap!$A:$B,2,FALSE),"") | F14: =IFERROR(VLOOKUP(CONCATENATE($A$1,F$10,$Q14),Alap!$A:$B,2,FALSE),"") | G14: =IFERROR(VLOOKUP(CONCATENATE($A$1,G$10,$Q14),Alap!$A:$B,2,FALSE),"") | H14: =IFERROR(VLOOKUP(CONCATENATE($A$1,H$10,$Q14),Alap!$A:$B,2,FALSE),"") | I14: =IFERROR(VLOOKUP(CONCATENATE($A$1,I$10,$Q14),Alap!$A:$B,2,FALSE),"") | ... P14: =IFERROR(VLOOKUP(CONCATENATE($A$1,P$10,$Q14),Alap!$A:$B,2,FALSE),"") | Q14: 5
A15: 17.00 - 18.30 | B15: =IFERROR(VLOOKUP(CONCATENATE($A$1,B$10,$Q15),Alap!$A:$B,2,FALSE),"") | C15: =IFERROR(VLOOKUP(CONCATENATE($A$1,C$10,$Q15),Alap!$A:$B,2,FALSE),"") | D15: =IFERROR(VLOOKUP(CONCATENATE($A$1,D$10,$Q15),Alap!$A:$B,2,FALSE),"") | E15: =IFERROR(VLOOKUP(CONCATENATE($A$1,E$10,$Q15),Alap!$A:$B,2,FALSE),"") | F15: =IFERROR(VLOOKUP(CONCATENATE($A$1,F$10,$Q15),Alap!$A:$B,2,FALSE),"") | G15: =IFERROR(VLOOKUP(CONCATENATE($A$1,G$10,$Q15),Alap!$A:$B,2,FALSE),"") | H15: =IFERROR(VLOOKUP(CONCATENATE($A$1,H$10,$Q15),Alap!$A:$B,2,FALSE),"") | I15: =IFERROR(VLOOKUP(CONCATENATE($A$1,I$10,$Q15),Alap!$A:$B,2,FALSE),"") | ... P15: =IFERROR(VLOOKUP(CONCATENATE($A$1,P$10,$Q15),Alap!$A:$B,2,FALSE),"") | Q15: 6
A16: 18.45 - 20.15 | B16: =IFERROR(VLOOKUP(CONCATENATE($A$1,B$10,$Q16),Alap!$A:$B,2,FALSE),"") | C16: =IFERROR(VLOOKUP(CONCATENATE($A$1,C$10,$Q16),Alap!$A:$B,2,FALSE),"") | D16: =IFERROR(VLOOKUP(CONCATENATE($A$1,D$10,$Q16),Alap!$A:$B,2,FALSE),"") | E16: =IFERROR(VLOOKUP(CONCATENATE($A$1,E$10,$Q16),Alap!$A:$B,2,FALSE),"") | F16: =IFERROR(VLOOKUP(CONCATENATE($A$1,F$10,$Q16),Alap!$A:$B,2,FALSE),"") | G16: =IFERROR(VLOOKUP(CONCATENATE($A$1,G$10,$Q16),Alap!$A:$B,2,FALSE),"") | H16: =IFERROR(VLOOKUP(CONCATENATE($A$1,H$10,$Q16),Alap!$A:$B,2,FALSE),"") | I16: =IFERROR(VLOOKUP(CONCATENATE($A$1,I$10,$Q16),Alap!$A:$B,2,FALSE),"") | ... P16: =IFERROR(VLOOKUP(CONCATENATE($A$1,P$10,$Q16),Alap!$A:$B,2,FALSE),"") | Q16: 7

Sheet Tb. terem
A1: Passzív | D1: szombat
B2: 207 | C2: 214 | D2: 221 | E2: 228 | F2: 307 | G2: 314 | H2: 321 | I2: 328 | J2: 404 | K2: 411 | L2: 418 | M2: 425 | N2: 502 | O2: 509 | P2: 516
A3: sáv | B3: február 7. | C3: február 14. | D3: február 21. | E3: február 28. | F3: március 7. | G3: március 14. | H3: március 21. | I3: március 28. | J3: április 4. | K3: április 11. | L3: április 18. | M3: április 25. | N3: május 2. | O3: május 9. | P3: május 16.
A4: 8.00 - 9.30 | B4: =IFERROR(VLOOKUP(CONCATENATE($A$1,B$2,$Q4),Alap!$C:$D,2,FALSE),"") | C4: =IFERROR(VLOOKUP(CONCATENATE($A$1,C$2,$Q4),Alap!$C:$D,2,FALSE),"") | D4: =IFERROR(VLOOKUP(CONCATENATE($A$1,D$2,$Q4),Alap!$C:$D,2,FALSE),"") | E4: =IFERROR(VLOOKUP(CONCATENATE($A$1,E$2,$Q4),Alap!$C:$D,2,FALSE),"") | F4: =IFERROR(VLOOKUP(CONCATENATE($A$1,F$2,$Q4),Alap!$C:$D,2,FALSE),"") | G4: =IFERROR(VLOOKUP(CONCATENATE($A$1,G$2,$Q4),Alap!$C:$D,2,FALSE),"") -> Energia és környezet (web) 19 | H4: =IFERROR(VLOOKUP(CONCATENATE($A$1,H$2,$Q4),Alap!$C:$D,2,FALSE),"") -> Energia és környezet (web) 19 | I4: =IFERROR(VLOOKUP(CONCATENATE($A$1,I$2,$Q4),Alap!$C:$D,2,FALSE),"") | ... P4: =IFERROR(VLOOKUP(CONCATENATE($A$1,P$2,$Q4),Alap!$C:$D,2,FALSE),"") | Q4: 1
A5: 9.45 - 11.15 | B5: =IFERROR(VLOOKUP(CONCATENATE($A$1,B$2,$Q5),Alap!$C:$D,2,FALSE),"") | C5: =IFERROR(VLOOKUP(CONCATENATE($A$1,C$2,$Q5),Alap!$C:$D,2,FALSE),"") | D5: =IFERROR(VLOOKUP(CONCATENATE($A$1,D$2,$Q5),Alap!$C:$D,2,FALSE),"") | E5: =IFERROR(VLOOKUP(CONCATENATE($A$1,E$2,$Q5),Alap!$C:$D,2,FALSE),"") | F5: =IFERROR(VLOOKUP(CONCATENATE($A$1,F$2,$Q5),Alap!$C:$D,2,FALSE),"") | G5: =IFERROR(VLOOKUP(CONCATENATE($A$1,G$2,$Q5),Alap!$C:$D,2,FALSE),"") -> Energia és környezet (web) 19 | H5: =IFERROR(VLOOKUP(CONCATENATE($A$1,H$2,$Q5),Alap!$C:$D,2,FALSE),"") -> Energia és környezet (web) 19 | I5: =IFERROR(VLOOKUP(CONCATENATE($A$1,I$2,$Q5),Alap!$C:$D,2,FALSE),"") | ... P5: =IFERROR(VLOOKUP(CONCATENATE($A$1,P$2,$Q5),Alap!$C:$D,2,FALSE),"") | Q5: 2
A6: 11.30 - 13.00 | B6: =IFERROR(VLOOKUP(CONCATENATE($A$1,B$2,$Q6),Alap!$C:$D,2,FALSE),"") | C6: =IFERROR(VLOOKUP(CONCATENATE($A$1,C$2,$Q6),Alap!$C:$D,2,FALSE),"") | D6: =IFERROR(VLOOKUP(CONCATENATE($A$1,D$2,$Q6),Alap!$C:$D,2,FALSE),"") | E6: =IFERROR(VLOOKUP(CONCATENATE($A$1,E$2,$Q6),Alap!$C:$D,2,FALSE),"") | F6: =IFERROR(VLOOKUP(CONCATENATE($A$1,F$2,$Q6),Alap!$C:$D,2,FALSE),"") | G6: =IFERROR(VLOOKUP(CONCATENATE($A$1,G$2,$Q6),Alap!$C:$D,2,FALSE),"") | H6: =IFERROR(VLOOKUP(CONCATENATE($A$1,H$2,$Q6),Alap!$C:$D,2,FALSE),"") -> Energia és környezet (web) 19 | I6: =IFERROR(VLOOKUP(CONCATENATE($A$1,I$2,$Q6),Alap!$C:$D,2,FALSE),"") | ... P6: =IFERROR(VLOOKUP(CONCATENATE($A$1,P$2,$Q6),Alap!$C:$D,2,FALSE),"") | Q6: 3
A7: 13.30 - 15.00 | B7: =IFERROR(VLOOKUP(CONCATENATE($A$1,B$2,$Q7),Alap!$C:$D,2,FALSE),"") | C7: =IFERROR(VLOOKUP(CONCATENATE($A$1,C$2,$Q7),Alap!$C:$D,2,FALSE),"") | D7: =IFERROR(VLOOKUP(CONCATENATE($A$1,D$2,$Q7),Alap!$C:$D,2,FALSE),"") | E7: =IFERROR(VLOOKUP(CONCATENATE($A$1,E$2,$Q7),Alap!$C:$D,2,FALSE),"") | F7: =IFERROR(VLOOKUP(CONCATENATE($A$1,F$2,$Q7),Alap!$C:$D,2,FALSE),"") | G7: =IFERROR(VLOOKUP(CONCATENATE($A$1,G$2,$Q7),Alap!$C:$D,2,FALSE),"") | H7: =IFERROR(VLOOKUP(CONCATENATE($A$1,H$2,$Q7),Alap!$C:$D,2,FALSE),"") | I7: =IFERROR(VLOOKUP(CONCATENATE($A$1,I$2,$Q7),Alap!$C:$D,2,FALSE),"") | ... P7: =IFERROR(VLOOKUP(CONCATENATE($A$1,P$2,$Q7),Alap!$C:$D,2,FALSE),"") | Q7: 4
A8: 15.15 - 16.45 | B8: =IFERROR(VLOOKUP(CONCATENATE($A$1,B$2,$Q8),Alap!$C:$D,2,FALSE),"") | C8: =IFERROR(VLOOKUP(CONCATENATE($A$1,C$2,$Q8),Alap!$C:$D,2,FALSE),"") | D8: =IFERROR(VLOOKUP(CONCATENATE($A$1,D$2,$Q8),Alap!$C:$D,2,FALSE),"") | E8: =IFERROR(VLOOKUP(CONCATENATE($A$1,E$2,$Q8),Alap!$C:$D,2,FALSE),"") | F8: =IFERROR(VLOOKUP(CONCATENATE($A$1,F$2,$Q8),Alap!$C:$D,2,FALSE),"") | G8: =IFERROR(VLOOKUP(CONCATENATE($A$1,G$2,$Q8),Alap!$C:$D,2,FALSE),"") | H8: =IFERROR(VLOOKUP(CONCATENATE($A$1,H$2,$Q8),Alap!$C:$D,2,FALSE),"") | I8: =IFERROR(VLOOKUP(CONCATENATE($A$1,I$2,$Q8),Alap!$C:$D,2,FALSE),"") | ... P8: =IFERROR(VLOOKUP(CONCATENATE($A$1,P$2,$Q8),Alap!$C:$D,2,FALSE),"") | Q8: 5
A9: 17.00 - 18.30 | B9: =IFERROR(VLOOKUP(CONCATENATE($A$1,B$2,$Q9),Alap!$C:$D,2,FALSE),"") | C9: =IFERROR(VLOOKUP(CONCATENATE($A$1,C$2,$Q9),Alap!$C:$D,2,FALSE),"") | D9: =IFERROR(VLOOKUP(CONCATENATE($A$1,D$2,$Q9),Alap!$C:$D,2,FALSE),"") | E9: =IFERROR(VLOOKUP(CONCATENATE($A$1,E$2,$Q9),Alap!$C:$D,2,FALSE),"") | F9: =IFERROR(VLOOKUP(CONCATENATE($A$1,F$2,$Q9),Alap!$C:$D,2,FALSE),"") | G9: =IFERROR(VLOOKUP(CONCATENATE($A$1,G$2,$Q9),Alap!$C:$D,2,FALSE),"") | H9: =IFERROR(VLOOKUP(CONCATENATE($A$1,H$2,$Q9),Alap!$C:$D,2,FALSE),"") | I9: =IFERROR(VLOOKUP(CONCATENATE($A$1,I$2,$Q9),Alap!$C:$D,2,FALSE),"") | ... P9: =IFERROR(VLOOKUP(CONCATENATE($A$1,P$2,$Q9),Alap!$C:$D,2,FALSE),"") | Q9: 6
B10: =B2-1 -> 206 | C10: =C2-1 -> 213 | D10: =D2-1 -> 220 | E10: =E2-1 -> 227 | F10: =F2-1 -> 306 | G10: =G2-1 -> 313 | H10: =H2-1 -> 320 | I10: =I2-1 -> 327 | ... P10: =P2-1 -> 515
A11: péntek
A12: sáv | B12: február 6. | C12: február 13. | D12: február 20. | E12: február 27. | F12: március 6. | G12: március 13. | H12: március 20. | I12: március 27. | J12: április 3. | K12: április 10. | L12: április 17. | M12: április 24. | N12: május 1. | O12: május 8. | P12: május 15.
A13: 13.30 - 15.00 | B13: =IFERROR(VLOOKUP(CONCATENATE($A$1,B$10,$Q13),Alap!$C:$D,2,FALSE),"") | C13: =IFERROR(VLOOKUP(CONCATENATE($A$1,C$10,$Q13),Alap!$C:$D,2,FALSE),"") | D13: =IFERROR(VLOOKUP(CONCATENATE($A$1,D$10,$Q13),Alap!$C:$D,2,FALSE),"") | E13: =IFERROR(VLOOKUP(CONCATENATE($A$1,E$10,$Q13),Alap!$C:$D,2,FALSE),"") | F13: =IFERROR(VLOOKUP(CONCATENATE($A$1,F$10,$Q13),Alap!$C:$D,2,FALSE),"") | G13: =IFERROR(VLOOKUP(CONCATENATE($A$1,G$10,$Q13),Alap!$C:$D,2,FALSE),"") | H13: =IFERROR(VLOOKUP(CONCATENATE($A$1,H$10,$Q13),Alap!$C:$D,2,FALSE),"") | I13: =IFERROR(VLOOKUP(CONCATENATE($A$1,I$10,$Q13),Alap!$C:$D,2,FALSE),"") | ... P13: =IFERROR(VLOOKUP(CONCATENATE($A$1,P$10,$Q13),Alap!$C:$D,2,FALSE),"") | Q13: 4
A14: 15.15 - 16.45 | B14: =IFERROR(VLOOKUP(CONCATENATE($A$1,B$10,$Q14),Alap!$C:$D,2,FALSE),"") | C14: =IFERROR(VLOOKUP(CONCATENATE($A$1,C$10,$Q14),Alap!$C:$D,2,FALSE),"") | D14: =IFERROR(VLOOKUP(CONCATENATE($A$1,D$10,$Q14),Alap!$C:$D,2,FALSE),"") | E14: =IFERROR(VLOOKUP(CONCATENATE($A$1,E$10,$Q14),Alap!$C:$D,2,FALSE),"") | F14: =IFERROR(VLOOKUP(CONCATENATE($A$1,F$10,$Q14),Alap!$C:$D,2,FALSE),"") | G14: =IFERROR(VLOOKUP(CONCATENATE($A$1,G$10,$Q14),Alap!$C:$D,2,FALSE),"") | H14: =IFERROR(VLOOKUP(CONCATENATE($A$1,H$10,$Q14),Alap!$C:$D,2,FALSE),"") | I14: =IFERROR(VLOOKUP(CONCATENATE($A$1,I$10,$Q14),Alap!$C:$D,2,FALSE),"") | ... P14: =IFERROR(VLOOKUP(CONCATENATE($A$1,P$10,$Q14),Alap!$C:$D,2,FALSE),"") | Q14: 5
A15: 17.00 - 18.30 | B15: =IFERROR(VLOOKUP(CONCATENATE($A$1,B$10,$Q15),Alap!$C:$D,2,FALSE),"") | C15: =IFERROR(VLOOKUP(CONCATENATE($A$1,C$10,$Q15),Alap!$C:$D,2,FALSE),"") | D15: =IFERROR(VLOOKUP(CONCATENATE($A$1,D$10,$Q15),Alap!$C:$D,2,FALSE),"") | E15: =IFERROR(VLOOKUP(CONCATENATE($A$1,E$10,$Q15),Alap!$C:$D,2,FALSE),"") | F15: =IFERROR(VLOOKUP(CONCATENATE($A$1,F$10,$Q15),Alap!$C:$D,2,FALSE),"") | G15: =IFERROR(VLOOKUP(CONCATENATE($A$1,G$10,$Q15),Alap!$C:$D,2,FALSE),"") | H15: =IFERROR(VLOOKUP(CONCATENATE($A$1,H$10,$Q15),Alap!$C:$D,2,FALSE),"") | I15: =IFERROR(VLOOKUP(CONCATENATE($A$1,I$10,$Q15),Alap!$C:$D,2,FALSE),"") | ... P15: =IFERROR(VLOOKUP(CONCATENATE($A$1,P$10,$Q15),Alap!$C:$D,2,FALSE),"") | Q15: 6
A16: 18.45 - 20.15 | B16: =IFERROR(VLOOKUP(CONCATENATE($A$1,B$10,$Q16),Alap!$C:$D,2,FALSE),"") | C16: =IFERROR(VLOOKUP(CONCATENATE($A$1,C$10,$Q16),Alap!$C:$D,2,FALSE),"") | D16: =IFERROR(VLOOKUP(CONCATENATE($A$1,D$10,$Q16),Alap!$C:$D,2,FALSE),"") | E16: =IFERROR(VLOOKUP(CONCATENATE($A$1,E$10,$Q16),Alap!$C:$D,2,FALSE),"") | F16: =IFERROR(VLOOKUP(CONCATENATE($A$1,F$10,$Q16),Alap!$C:$D,2,FALSE),"") | G16: =IFERROR(VLOOKUP(CONCATENATE($A$1,G$10,$Q16),Alap!$C:$D,2,FALSE),"") | H16: =IFERROR(VLOOKUP(CONCATENATE($A$1,H$10,$Q16),Alap!$C:$D,2,FALSE),"") | I16: =IFERROR(VLOOKUP(CONCATENATE($A$1,I$10,$Q16),Alap!$C:$D,2,FALSE),"") | ... P16: =IFERROR(VLOOKUP(CONCATENATE($A$1,P$10,$Q16),Alap!$C:$D,2,FALSE),"") | Q16: 7

Sheet Bp.
A1: május 15-16. | D1: szombat
A2: sáv | B2: 201 | C2: 202 | D2: 203 | E2: 205 | F2: 206 | G2: 207 | H2: 208 | I2: 209 | J2: 210 | K2: 214 | L2: 217 | M2: 463 | N2: 217 (30 fő, okos)
A3: 8.00 - 9.30 | B3: =IFERROR(VLOOKUP(CONCATENATE(B$11,VLOOKUP($A$1,segéd!$I$1:$K$15,3,FALSE),$N3),Alap!$A:$B,2,FALSE),"") | C3: =IFERROR(VLOOKUP(CONCATENATE(C$11,VLOOKUP($A$1,segéd!$I$1:$K$15,3,FALSE),$N3),Alap!$A:$B,2,FALSE),"") -> KKV-k versenyképessége (Tb.-ről web) 6 | D3: =IFERROR(VLOOKUP(CONCATENATE(D$11,VLOOKUP($A$1,segéd!$I$1:$K$15,3,FALSE),$N3),Alap!$A:$B,2,FALSE),"") | E3: =IFERROR(VLOOKUP(CONCATENATE(E$11,VLOOKUP($A$1,segéd!$I$1:$K$15,3,FALSE),$N3),Alap!$A:$B,2,FALSE),"") -> Pénzügyi alapismeretek (Tb.-ről web) 4 | F3: =IFERROR(VLOOKUP(CONCATENATE(F$11,VLOOKUP($A$1,segéd!$I$1:$K$15,3,FALSE),$N3),Alap!$A:$B,2,FALSE),"") | G3: =IFERROR(VLOOKUP(CONCATENATE(G$11,VLOOKUP($A$1,segéd!$I$1:$K$15,3,FALSE),$N3),Alap!$A:$B,2,FALSE),"") -> Kvantitatív módszerek, ökonometria (gépterem, Bp.-ről web) 13 | H3: =IFERROR(VLOOKUP(CONCATENATE(H$11,VLOOKUP($A$1,segéd!$I$1:$K$15,3,FALSE),$N3),Alap!$A:$B,2,FALSE),"") | I3: =IFERROR(VLOOKUP(CONCATENATE(I$11,VLOOKUP($A$1,segéd!$I$1:$K$15,3,FALSE),$N3),Alap!$A:$B,2,FALSE),"") | ... M3: =IFERROR(VLOOKUP(CONCATENATE(M$11,VLOOKUP($A$1,segéd!$I$1:$K$15,3,FALSE),$N3),Alap!$A:$B,2,FALSE),"") | N3: 1
A4: 9.45 - 11.15 | B4: =IFERROR(VLOOKUP(CONCATENATE(B$11,VLOOKUP($A$1,segéd!$I$1:$K$15,3,FALSE),$N4),Alap!$A:$B,2,FALSE),"") | C4: =IFERROR(VLOOKUP(CONCATENATE(C$11,VLOOKUP($A$1,segéd!$I$1:$K$15,3,FALSE),$N4),Alap!$A:$B,2,FALSE),"") -> KKV-k versenyképessége (Tb.-ről web) 6 | D4: =IFERROR(VLOOKUP(CONCATENATE(D$11,VLOOKUP($A$1,segéd!$I$1:$K$15,3,FALSE),$N4),Alap!$A:$B,2,FALSE),"") | E4: =IFERROR(VLOOKUP(CONCATENATE(E$11,VLOOKUP($A$1,segéd!$I$1:$K$15,3,FALSE),$N4),Alap!$A:$B,2,FALSE),"") -> Pénzügyi alapismeretek (Tb.-ről web) 4 | F4: =IFERROR(VLOOKUP(CONCATENATE(F$11,VLOOKUP($A$1,segéd!$I$1:$K$15,3,FALSE),$N4),Alap!$A:$B,2,FALSE),"") | G4: =IFERROR(VLOOKUP(CONCATENATE(G$11,VLOOKUP($A$1,segéd!$I$1:$K$15,3,FALSE),$N4),Alap!$A:$B,2,FALSE),"") -> Kvantitatív módszerek, ökonometria (gépterem, Bp.-ről web) 13 | H4: =IFERROR(VLOOKUP(CONCATENATE(H$11,VLOOKUP($A$1,segéd!$I$1:$K$15,3,FALSE),$N4),Alap!$A:$B,2,FALSE),"") | I4: =IFERROR(VLOOKUP(CONCATENATE(I$11,VLOOKUP($A$1,segéd!$I$1:$K$15,3,FALSE),$N4),Alap!$A:$B,2,FALSE),"") | ... M4: =IFERROR(VLOOKUP(CONCATENATE(M$11,VLOOKUP($A$1,segéd!$I$1:$K$15,3,FALSE),$N4),Alap!$A:$B,2,FALSE),"") | N4: 2
A5: 11.30 - 13.00 | B5: =IFERROR(VLOOKUP(CONCATENATE(B$11,VLOOKUP($A$1,segéd!$I$1:$K$15,3,FALSE),$N5),Alap!$A:$B,2,FALSE),"") | C5: =IFERROR(VLOOKUP(CONCATENATE(C$11,VLOOKUP($A$1,segéd!$I$1:$K$15,3,FALSE),$N5),Alap!$A:$B,2,FALSE),"") | D5: =IFERROR(VLOOKUP(CONCATENATE(D$11,VLOOKUP($A$1,segéd!$I$1:$K$15,3,FALSE),$N5),Alap!$A:$B,2,FALSE),"") | E5: =IFERROR(VLOOKUP(CONCATENATE(E$11,VLOOKUP($A$1,segéd!$I$1:$K$15,3,FALSE),$N5),Alap!$A:$B,2,FALSE),"") -> Pénzügyi alapismeretek (Tb.-ről web) 4 | F5: =IFERROR(VLOOKUP(CONCATENATE(F$11,VLOOKUP($A$1,segéd!$I$1:$K$15,3,FALSE),$N5),Alap!$A:$B,2,FALSE),"") | G5: =IFERROR(VLOOKUP(CONCATENATE(G$11,VLOOKUP($A$1,segéd!$I$1:$K$15,3,FALSE),$N5),Alap!$A:$B,2,FALSE),"") -> Ellátásilánc-men. felj. és kontr. (gépterem) 7 | H5: =IFERROR(VLOOKUP(CONCATENATE(H$11,VLOOKUP($A$1,segéd!$I$1:$K$15,3,FALSE),$N5),Alap!$A:$B,2,FALSE),"") | I5: =IFERROR(VLOOKUP(CONCATENATE(I$11,VLOOKUP($A$1,segéd!$I$1:$K$15,3,FALSE),$N5),Alap!$A:$B,2,FALSE),"") | ... M5: =IFERROR(VLOOKUP(CONCATENATE(M$11,VLOOKUP($A$1,segéd!$I$1:$K$15,3,FALSE),$N5),Alap!$A:$B,2,FALSE),"") | N5: 3
A6: 13.30 - 15.00 | B6: =IFERROR(VLOOKUP(CONCATENATE(B$11,VLOOKUP($A$1,segéd!$I$1:$K$15,3,FALSE),$N6),Alap!$A:$B,2,FALSE),"") | C6: =IFERROR(VLOOKUP(CONCATENATE(C$11,VLOOKUP($A$1,segéd!$I$1:$K$15,3,FALSE),$N6),Alap!$A:$B,2,FALSE),"") | D6: =IFERROR(VLOOKUP(CONCATENATE(D$11,VLOOKUP($A$1,segéd!$I$1:$K$15,3,FALSE),$N6),Alap!$A:$B,2,FALSE),"") | E6: =IFERROR(VLOOKUP(CONCATENATE(E$11,VLOOKUP($A$1,segéd!$I$1:$K$15,3,FALSE),$N6),Alap!$A:$B,2,FALSE),"") | F6: =IFERROR(VLOOKUP(CONCATENATE(F$11,VLOOKUP($A$1,segéd!$I$1:$K$15,3,FALSE),$N6),Alap!$A:$B,2,FALSE),"") | G6: =IFERROR(VLOOKUP(CONCATENATE(G$11,VLOOKUP($A$1,segéd!$I$1:$K$15,3,FALSE),$N6),Alap!$A:$B,2,FALSE),"") -> Ellátásilánc-men. felj. és kontr. (gépterem) 7 | H6: =IFERROR(VLOOKUP(CONCATENATE(H$11,VLOOKUP($A$1,segéd!$I$1:$K$15,3,FALSE),$N6),Alap!$A:$B,2,FALSE),"") | I6: =IFERROR(VLOOKUP(CONCATENATE(I$11,VLOOKUP($A$1,segéd!$I$1:$K$15,3,FALSE),$N6),Alap!$A:$B,2,FALSE),"") | ... M6: =IFERROR(VLOOKUP(CONCATENATE(M$11,VLOOKUP($A$1,segéd!$I$1:$K$15,3,FALSE),$N6),Alap!$A:$B,2,FALSE),"") | N6: 4
A7: 15.15 - 16.45 | B7: =IFERROR(VLOOKUP(CONCATENATE(B$11,VLOOKUP($A$1,segéd!$I$1:$K$15,3,FALSE),$N7),Alap!$A:$B,2,FALSE),"") | C7: =IFERROR(VLOOKUP(CONCATENATE(C$11,VLOOKUP($A$1,segéd!$I$1:$K$15,3,FALSE),$N7),Alap!$A:$B,2,FALSE),"") | D7: =IFERROR(VLOOKUP(CONCATENATE(D$11,VLOOKUP($A$1,segéd!$I$1:$K$15,3,FALSE),$N7),Alap!$A:$B,2,FALSE),"") | E7: =IFERROR(VLOOKUP(CONCATENATE(E$11,VLOOKUP($A$1,segéd!$I$1:$K$15,3,FALSE),$N7),Alap!$A:$B,2,FALSE),"") | F7: =IFERROR(VLOOKUP(CONCATENATE(F$11,VLOOKUP($A$1,segéd!$I$1:$K$15,3,FALSE),$N7),Alap!$A:$B,2,FALSE),"") | G7: =IFERROR(VLOOKUP(CONCATENATE(G$11,VLOOKUP($A$1,segéd!$I$1:$K$15,3,FALSE),$N7),Alap!$A:$B,2,FALSE),"") | H7: =IFERROR(VLOOKUP(CONCATENATE(H$11,VLOOKUP($A$1,segéd!$I$1:$K$15,3,FALSE),$N7),Alap!$A:$B,2,FALSE),"") | I7: =IFERROR(VLOOKUP(CONCATENATE(I$11,VLOOKUP($A$1,segéd!$I$1:$K$15,3,FALSE),$N7),Alap!$A:$B,2,FALSE),"") | ... M7: =IFERROR(VLOOKUP(CONCATENATE(M$11,VLOOKUP($A$1,segéd!$I$1:$K$15,3,FALSE),$N7),Alap!$A:$B,2,FALSE),"") | N7: 5
A8: 17.00 - 18.30 | B8: =IFERROR(VLOOKUP(CONCATENATE(B$11,VLOOKUP($A$1,segéd!$I$1:$K$15,3,FALSE),$N8),Alap!$A:$B,2,FALSE),"") | C8: =IFERROR(VLOOKUP(CONCATENATE(C$11,VLOOKUP($A$1,segéd!$I$1:$K$15,3,FALSE),$N8),Alap!$A:$B,2,FALSE),"") | D8: =IFERROR(VLOOKUP(CONCATENATE(D$11,VLOOKUP($A$1,segéd!$I$1:$K$15,3,FALSE),$N8),Alap!$A:$B,2,FALSE),"") | E8: =IFERROR(VLOOKUP(CONCATENATE(E$11,VLOOKUP($A$1,segéd!$I$1:$K$15,3,FALSE),$N8),Alap!$A:$B,2,FALSE),"") | F8: =IFERROR(VLOOKUP(CONCATENATE(F$11,VLOOKUP($A$1,segéd!$I$1:$K$15,3,FALSE),$N8),Alap!$A:$B,2,FALSE),"") | G8: =IFERROR(VLOOKUP(CONCATENATE(G$11,VLOOKUP($A$1,segéd!$I$1:$K$15,3,FALSE),$N8),Alap!$A:$B,2,FALSE),"") | H8: =IFERROR(VLOOKUP(CONCATENATE(H$11,VLOOKUP($A$1,segéd!$I$1:$K$15,3,FALSE),$N8),Alap!$A:$B,2,FALSE),"") | I8: =IFERROR(VLOOKUP(CONCATENATE(I$11,VLOOKUP($A$1,segéd!$I$1:$K$15,3,FALSE),$N8),Alap!$A:$B,2,FALSE),"") | ... M8: =IFERROR(VLOOKUP(CONCATENATE(M$11,VLOOKUP($A$1,segéd!$I$1:$K$15,3,FALSE),$N8),Alap!$A:$B,2,FALSE),"") | N8: 6
A10: péntek
A11: sáv | B11: 201 | C11: 202 | D11: 203 | E11: 205 | F11: 206 | G11: 207 | H11: 208 | I11: 209 | J11: 210 | K11: 214 | L11: 217 | M11: 463
A12: 13.30 - 15.00 | B12: =IFERROR(VLOOKUP(CONCATENATE(B$11,VLOOKUP($A$1,segéd!$I$1:$K$15,2,FALSE),$N12),Alap!$A:$B,2,FALSE),"") | C12: =IFERROR(VLOOKUP(CONCATENATE(C$11,VLOOKUP($A$1,segéd!$I$1:$K$15,2,FALSE),$N12),Alap!$A:$B,2,FALSE),"") | D12: =IFERROR(VLOOKUP(CONCATENATE(D$11,VLOOKUP($A$1,segéd!$I$1:$K$15,2,FALSE),$N12),Alap!$A:$B,2,FALSE),"") | E12: =IFERROR(VLOOKUP(CONCATENATE(E$11,VLOOKUP($A$1,segéd!$I$1:$K$15,2,FALSE),$N12),Alap!$A:$B,2,FALSE),"") | F12: =IFERROR(VLOOKUP(CONCATENATE(F$11,VLOOKUP($A$1,segéd!$I$1:$K$15,2,FALSE),$N12),Alap!$A:$B,2,FALSE),"") | G12: =IFERROR(VLOOKUP(CONCATENATE(G$11,VLOOKUP($A$1,segéd!$I$1:$K$15,2,FALSE),$N12),Alap!$A:$B,2,FALSE),"") | H12: =IFERROR(VLOOKUP(CONCATENATE(H$11,VLOOKUP($A$1,segéd!$I$1:$K$15,2,FALSE),$N12),Alap!$A:$B,2,FALSE),"") | I12: =IFERROR(VLOOKUP(CONCATENATE(I$11,VLOOKUP($A$1,segéd!$I$1:$K$15,2,FALSE),$N12),Alap!$A:$B,2,FALSE),"") | ... M12: =IFERROR(VLOOKUP(CONCATENATE(M$11,VLOOKUP($A$1,segéd!$I$1:$K$15,2,FALSE),$N12),Alap!$A:$B,2,FALSE),"") | N12: 4
A13: 15.15 - 16.45 | B13: =IFERROR(VLOOKUP(CONCATENATE(B$11,VLOOKUP($A$1,segéd!$I$1:$K$15,2,FALSE),$N13),Alap!$A:$B,2,FALSE),"") | C13: =IFERROR(VLOOKUP(CONCATENATE(C$11,VLOOKUP($A$1,segéd!$I$1:$K$15,2,FALSE),$N13),Alap!$A:$B,2,FALSE),"") -> Közgazdaságtan I. (otthonról web) 13 | D13: =IFERROR(VLOOKUP(CONCATENATE(D$11,VLOOKUP($A$1,segéd!$I$1:$K$15,2,FALSE),$N13),Alap!$A:$B,2,FALSE),"") | E13: =IFERROR(VLOOKUP(CONCATENATE(E$11,VLOOKUP($A$1,segéd!$I$1:$K$15,2,FALSE),$N13),Alap!$A:$B,2,FALSE),"") | F13: =IFERROR(VLOOKUP(CONCATENATE(F$11,VLOOKUP($A$1,segéd!$I$1:$K$15,2,FALSE),$N13),Alap!$A:$B,2,FALSE),"") | G13: =IFERROR(VLOOKUP(CONCATENATE(G$11,VLOOKUP($A$1,segéd!$I$1:$K$15,2,FALSE),$N13),Alap!$A:$B,2,FALSE),"") | H13: =IFERROR(VLOOKUP(CONCATENATE(H$11,VLOOKUP($A$1,segéd!$I$1:$K$15,2,FALSE),$N13),Alap!$A:$B,2,FALSE),"") | I13: =IFERROR(VLOOKUP(CONCATENATE(I$11,VLOOKUP($A$1,segéd!$I$1:$K$15,2,FALSE),$N13),Alap!$A:$B,2,FALSE),"") | ... M13: =IFERROR(VLOOKUP(CONCATENATE(M$11,VLOOKUP($A$1,segéd!$I$1:$K$15,2,FALSE),$N13),Alap!$A:$B,2,FALSE),"") | N13: 5
A14: 17.00 - 18.30 | B14: =IFERROR(VLOOKUP(CONCATENATE(B$11,VLOOKUP($A$1,segéd!$I$1:$K$15,2,FALSE),$N14),Alap!$A:$B,2,FALSE),"") | C14: =IFERROR(VLOOKUP(CONCATENATE(C$11,VLOOKUP($A$1,segéd!$I$1:$K$15,2,FALSE),$N14),Alap!$A:$B,2,FALSE),"") -> Közgazdaságtan I. (otthonról web) 13 | D14: =IFERROR(VLOOKUP(CONCATENATE(D$11,VLOOKUP($A$1,segéd!$I$1:$K$15,2,FALSE),$N14),Alap!$A:$B,2,FALSE),"") | E14: =IFERROR(VLOOKUP(CONCATENATE(E$11,VLOOKUP($A$1,segéd!$I$1:$K$15,2,FALSE),$N14),Alap!$A:$B,2,FALSE),"") | F14: =IFERROR(VLOOKUP(CONCATENATE(F$11,VLOOKUP($A$1,segéd!$I$1:$K$15,2,FALSE),$N14),Alap!$A:$B,2,FALSE),"") | G14: =IFERROR(VLOOKUP(CONCATENATE(G$11,VLOOKUP($A$1,segéd!$I$1:$K$15,2,FALSE),$N14),Alap!$A:$B,2,FALSE),"") | H14: =IFERROR(VLOOKUP(CONCATENATE(H$11,VLOOKUP($A$1,segéd!$I$1:$K$15,2,FALSE),$N14),Alap!$A:$B,2,FALSE),"") | I14: =IFERROR(VLOOKUP(CONCATENATE(I$11,VLOOKUP($A$1,segéd!$I$1:$K$15,2,FALSE),$N14),Alap!$A:$B,2,FALSE),"") | ... M14: =IFERROR(VLOOKUP(CONCATENATE(M$11,VLOOKUP($A$1,segéd!$I$1:$K$15,2,FALSE),$N14),Alap!$A:$B,2,FALSE),"") | N14: 6
A15: 18.45 - 20.15 | B15: =IFERROR(VLOOKUP(CONCATENATE(B$11,VLOOKUP($A$1,segéd!$I$1:$K$15,2,FALSE),$N15),Alap!$A:$B,2,FALSE),"") | C15: =IFERROR(VLOOKUP(CONCATENATE(C$11,VLOOKUP($A$1,segéd!$I$1:$K$15,2,FALSE),$N15),Alap!$A:$B,2,FALSE),"") | D15: =IFERROR(VLOOKUP(CONCATENATE(D$11,VLOOKUP($A$1,segéd!$I$1:$K$15,2,FALSE),$N15),Alap!$A:$B,2,FALSE),"") | E15: =IFERROR(VLOOKUP(CONCATENATE(E$11,VLOOKUP($A$1,segéd!$I$1:$K$15,2,FALSE),$N15),Alap!$A:$B,2,FALSE),"") | F15: =IFERROR(VLOOKUP(CONCATENATE(F$11,VLOOKUP($A$1,segéd!$I$1:$K$15,2,FALSE),$N15),Alap!$A:$B,2,FALSE),"") | G15: =IFERROR(VLOOKUP(CONCATENATE(G$11,VLOOKUP($A$1,segéd!$I$1:$K$15,2,FALSE),$N15),Alap!$A:$B,2,FALSE),"") | H15: =IFERROR(VLOOKUP(CONCATENATE(H$11,VLOOKUP($A$1,segéd!$I$1:$K$15,2,FALSE),$N15),Alap!$A:$B,2,FALSE),"") | I15: =IFERROR(VLOOKUP(CONCATENATE(I$11,VLOOKUP($A$1,segéd!$I$1:$K$15,2,FALSE),$N15),Alap!$A:$B,2,FALSE),"") | ... M15: =IFERROR(VLOOKUP(CONCATENATE(M$11,VLOOKUP($A$1,segéd!$I$1:$K$15,2,FALSE),$N15),Alap!$A:$B,2,FALSE),"") | N15: 7

Sheet Tb.
A1: május 15-16. | E1: szombat
A2: sáv | B2: A/Nae. | C2: 2 | D2: 3 | E2: 6 | F2: 212 | G2: 213 | H2: 214 | I2: 215 | J2: 216 | K2: 217 | L2: 401 | M2: 402 | N2: 403 | O2: 404 | P2: 408 | Q2: 501 | R2: 601 | S2: 603 | T2: 604 | U2: 605 | V2: Passzív
A3: 8.00 - 9.30 | B3: =IFERROR(VLOOKUP(CONCATENATE(B$2,VLOOKUP($A$1,segéd!$I$1:$K$15,3,FALSE),$W3),Alap!$C:$D,2,FALSE),"") | C3: =IFERROR(VLOOKUP(CONCATENATE(C$2,VLOOKUP($A$1,segéd!$I$1:$K$15,3,FALSE),$W3),Alap!$C:$D,2,FALSE),"") | D3: =IFERROR(VLOOKUP(CONCATENATE(D$2,VLOOKUP($A$1,segéd!$I$1:$K$15,3,FALSE),$W3),Alap!$C:$D,2,FALSE),"") | E3: =IFERROR(VLOOKUP(CONCATENATE(E$2,VLOOKUP($A$1,segéd!$I$1:$K$15,3,FALSE),$W3),Alap!$C:$D,2,FALSE),"") | F3: =IFERROR(VLOOKUP(CONCATENATE(F$2,VLOOKUP($A$1,segéd!$I$1:$K$15,3,FALSE),$W3),Alap!$C:$D,2,FALSE),"") -> Pénzügyi alapismeretek (Tb.-ről web) 12 | G3: =IFERROR(VLOOKUP(CONCATENATE(G$2,VLOOKUP($A$1,segéd!$I$1:$K$15,3,FALSE),$W3),Alap!$C:$D,2,FALSE),"") | H3: =IFERROR(VLOOKUP(CONCATENATE(H$2,VLOOKUP($A$1,segéd!$I$1:$K$15,3,FALSE),$W3),Alap!$C:$D,2,FALSE),"") | I3: =IFERROR(VLOOKUP(CONCATENATE(I$2,VLOOKUP($A$1,segéd!$I$1:$K$15,3,FALSE),$W3),Alap!$C:$D,2,FALSE),"") -> Optikai- és látórendszerek (web) 77 | ... V3: =IFERROR(VLOOKUP(CONCATENATE(V$2,VLOOKUP($A$1,segéd!$I$1:$K$15,3,FALSE),$W3),Alap!$C:$D,2,FALSE),"") | W3: 1
A4: 9.45 - 11.15 | B4: =IFERROR(VLOOKUP(CONCATENATE(B$2,VLOOKUP($A$1,segéd!$I$1:$K$15,3,FALSE),$W4),Alap!$C:$D,2,FALSE),"") | C4: =IFERROR(VLOOKUP(CONCATENATE(C$2,VLOOKUP($A$1,segéd!$I$1:$K$15,3,FALSE),$W4),Alap!$C:$D,2,FALSE),"") | D4: =IFERROR(VLOOKUP(CONCATENATE(D$2,VLOOKUP($A$1,segéd!$I$1:$K$15,3,FALSE),$W4),Alap!$C:$D,2,FALSE),"") | E4: =IFERROR(VLOOKUP(CONCATENATE(E$2,VLOOKUP($A$1,segéd!$I$1:$K$15,3,FALSE),$W4),Alap!$C:$D,2,FALSE),"") | F4: =IFERROR(VLOOKUP(CONCATENATE(F$2,VLOOKUP($A$1,segéd!$I$1:$K$15,3,FALSE),$W4),Alap!$C:$D,2,FALSE),"") -> Pénzügyi alapismeretek (Tb.-ről web) 12 | G4: =IFERROR(VLOOKUP(CONCATENATE(G$2,VLOOKUP($A$1,segéd!$I$1:$K$15,3,FALSE),$W4),Alap!$C:$D,2,FALSE),"") | H4: =IFERROR(VLOOKUP(CONCATENATE(H$2,VLOOKUP($A$1,segéd!$I$1:$K$15,3,FALSE),$W4),Alap!$C:$D,2,FALSE),"") | I4: =IFERROR(VLOOKUP(CONCATENATE(I$2,VLOOKUP($A$1,segéd!$I$1:$K$15,3,FALSE),$W4),Alap!$C:$D,2,FALSE),"") -> Optikai- és látórendszerek (web) 77 | ... V4: =IFERROR(VLOOKUP(CONCATENATE(V$2,VLOOKUP($A$1,segéd!$I$1:$K$15,3,FALSE),$W4),Alap!$C:$D,2,FALSE),"") | W4: 2
A5: 11.30 - 13.00 | B5: =IFERROR(VLOOKUP(CONCATENATE(B$2,VLOOKUP($A$1,segéd!$I$1:$K$15,3,FALSE),$W5),Alap!$C:$D,2,FALSE),"") | C5: =IFERROR(VLOOKUP(CONCATENATE(C$2,VLOOKUP($A$1,segéd!$I$1:$K$15,3,FALSE),$W5),Alap!$C:$D,2,FALSE),"") | D5: =IFERROR(VLOOKUP(CONCATENATE(D$2,VLOOKUP($A$1,segéd!$I$1:$K$15,3,FALSE),$W5),Alap!$C:$D,2,FALSE),"") | E5: =IFERROR(VLOOKUP(CONCATENATE(E$2,VLOOKUP($A$1,segéd!$I$1:$K$15,3,FALSE),$W5),Alap!$C:$D,2,FALSE),"") | F5: =IFERROR(VLOOKUP(CONCATENATE(F$2,VLOOKUP($A$1,segéd!$I$1:$K$15,3,FALSE),$W5),Alap!$C:$D,2,FALSE),"") -> Pénzügyi alapismeretek (Tb.-ről web) 12 | G5: =IFERROR(VLOOKUP(CONCATENATE(G$2,VLOOKUP($A$1,segéd!$I$1:$K$15,3,FALSE),$W5),Alap!$C:$D,2,FALSE),"") | H5: =IFERROR(VLOOKUP(CONCATENATE(H$2,VLOOKUP($A$1,segéd!$I$1:$K$15,3,FALSE),$W5),Alap!$C:$D,2,FALSE),"") | I5: =IFERROR(VLOOKUP(CONCATENATE(I$2,VLOOKUP($A$1,segéd!$I$1:$K$15,3,FALSE),$W5),Alap!$C:$D,2,FALSE),"") | ... V5: =IFERROR(VLOOKUP(CONCATENATE(V$2,VLOOKUP($A$1,segéd!$I$1:$K$15,3,FALSE),$W5),Alap!$C:$D,2,FALSE),"") | W5: 3
A6: 13.30 - 15.00 | B6: =IFERROR(VLOOKUP(CONCATENATE(B$2,VLOOKUP($A$1,segéd!$I$1:$K$15,3,FALSE),$W6),Alap!$C:$D,2,FALSE),"") | C6: =IFERROR(VLOOKUP(CONCATENATE(C$2,VLOOKUP($A$1,segéd!$I$1:$K$15,3,FALSE),$W6),Alap!$C:$D,2,FALSE),"") | D6: =IFERROR(VLOOKUP(CONCATENATE(D$2,VLOOKUP($A$1,segéd!$I$1:$K$15,3,FALSE),$W6),Alap!$C:$D,2,FALSE),"") | E6: =IFERROR(VLOOKUP(CONCATENATE(E$2,VLOOKUP($A$1,segéd!$I$1:$K$15,3,FALSE),$W6),Alap!$C:$D,2,FALSE),"") | F6: =IFERROR(VLOOKUP(CONCATENATE(F$2,VLOOKUP($A$1,segéd!$I$1:$K$15,3,FALSE),$W6),Alap!$C:$D,2,FALSE),"") | G6: =IFERROR(VLOOKUP(CONCATENATE(G$2,VLOOKUP($A$1,segéd!$I$1:$K$15,3,FALSE),$W6),Alap!$C:$D,2,FALSE),"") -> Angol gazdasági szaknyelv II., 2. csop. 18 | H6: =IFERROR(VLOOKUP(CONCATENATE(H$2,VLOOKUP($A$1,segéd!$I$1:$K$15,3,FALSE),$W6),Alap!$C:$D,2,FALSE),"") | I6: =IFERROR(VLOOKUP(CONCATENATE(I$2,VLOOKUP($A$1,segéd!$I$1:$K$15,3,FALSE),$W6),Alap!$C:$D,2,FALSE),"") | ... V6: =IFERROR(VLOOKUP(CONCATENATE(V$2,VLOOKUP($A$1,segéd!$I$1:$K$15,3,FALSE),$W6),Alap!$C:$D,2,FALSE),"") | W6: 4
A7: 15.15 - 16.45 | B7: =IFERROR(VLOOKUP(CONCATENATE(B$2,VLOOKUP($A$1,segéd!$I$1:$K$15,3,FALSE),$W7),Alap!$C:$D,2,FALSE),"") | C7: =IFERROR(VLOOKUP(CONCATENATE(C$2,VLOOKUP($A$1,segéd!$I$1:$K$15,3,FALSE),$W7),Alap!$C:$D,2,FALSE),"") | D7: =IFERROR(VLOOKUP(CONCATENATE(D$2,VLOOKUP($A$1,segéd!$I$1:$K$15,3,FALSE),$W7),Alap!$C:$D,2,FALSE),"") | E7: =IFERROR(VLOOKUP(CONCATENATE(E$2,VLOOKUP($A$1,segéd!$I$1:$K$15,3,FALSE),$W7),Alap!$C:$D,2,FALSE),"") | F7: =IFERROR(VLOOKUP(CONCATENATE(F$2,VLOOKUP($A$1,segéd!$I$1:$K$15,3,FALSE),$W7),Alap!$C:$D,2,FALSE),"") | G7: =IFERROR(VLOOKUP(CONCATENATE(G$2,VLOOKUP($A$1,segéd!$I$1:$K$15,3,FALSE),$W7),Alap!$C:$D,2,FALSE),"") -> Angol gazdasági szaknyelv II., 2. csop. 18 | H7: =IFERROR(VLOOKUP(CONCATENATE(H$2,VLOOKUP($A$1,segéd!$I$1:$K$15,3,FALSE),$W7),Alap!$C:$D,2,FALSE),"") | I7: =IFERROR(VLOOKUP(CONCATENATE(I$2,VLOOKUP($A$1,segéd!$I$1:$K$15,3,FALSE),$W7),Alap!$C:$D,2,FALSE),"") | ... V7: =IFERROR(VLOOKUP(CONCATENATE(V$2,VLOOKUP($A$1,segéd!$I$1:$K$15,3,FALSE),$W7),Alap!$C:$D,2,FALSE),"") | W7: 5
A8: 17.00 - 18.30 | B8: =IFERROR(VLOOKUP(CONCATENATE(B$2,VLOOKUP($A$1,segéd!$I$1:$K$15,3,FALSE),$W8),Alap!$C:$D,2,FALSE),"") | C8: =IFERROR(VLOOKUP(CONCATENATE(C$2,VLOOKUP($A$1,segéd!$I$1:$K$15,3,FALSE),$W8),Alap!$C:$D,2,FALSE),"") | D8: =IFERROR(VLOOKUP(CONCATENATE(D$2,VLOOKUP($A$1,segéd!$I$1:$K$15,3,FALSE),$W8),Alap!$C:$D,2,FALSE),"") | E8: =IFERROR(VLOOKUP(CONCATENATE(E$2,VLOOKUP($A$1,segéd!$I$1:$K$15,3,FALSE),$W8),Alap!$C:$D,2,FALSE),"") | F8: =IFERROR(VLOOKUP(CONCATENATE(F$2,VLOOKUP($A$1,segéd!$I$1:$K$15,3,FALSE),$W8),Alap!$C:$D,2,FALSE),"") | G8: =IFERROR(VLOOKUP(CONCATENATE(G$2,VLOOKUP($A$1,segéd!$I$1:$K$15,3,FALSE),$W8),Alap!$C:$D,2,FALSE),"") | H8: =IFERROR(VLOOKUP(CONCATENATE(H$2,VLOOKUP($A$1,segéd!$I$1:$K$15,3,FALSE),$W8),Alap!$C:$D,2,FALSE),"") | I8: =IFERROR(VLOOKUP(CONCATENATE(I$2,VLOOKUP($A$1,segéd!$I$1:$K$15,3,FALSE),$W8),Alap!$C:$D,2,FALSE),"") | ... V8: =IFERROR(VLOOKUP(CONCATENATE(V$2,VLOOKUP($A$1,segéd!$I$1:$K$15,3,FALSE),$W8),Alap!$C:$D,2,FALSE),"") | W8: 6
A10: péntek
A11: sáv | B11: A/Nae. | C11: 2 | D11: 3 | E11: 6 | F11: 212 | G11: 213 | H11: 214 | I11: 215 | J11: 216 | K11: 217 | L11: 401 | M11: 402 | N11: 403 | O11: 404 | P11: 408 | Q11: 501 | R11: 601 | S11: 603 | T11: 604 | U11: 605 | V11: C ép.
A12: 13.30 - 15.00 | B12: =IFERROR(VLOOKUP(CONCATENATE(B$2,VLOOKUP($A$1,segéd!$I$1:$K$15,2,FALSE),$W12),Alap!$C:$D,2,FALSE),"") | C12: =IFERROR(VLOOKUP(CONCATENATE(C$2,VLOOKUP($A$1,segéd!$I$1:$K$15,2,FALSE),$W12),Alap!$C:$D,2,FALSE),"") | D12: =IFERROR(VLOOKUP(CONCATENATE(D$2,VLOOKUP($A$1,segéd!$I$1:$K$15,2,FALSE),$W12),Alap!$C:$D,2,FALSE),"") | E12: =IFERROR(VLOOKUP(CONCATENATE(E$2,VLOOKUP($A$1,segéd!$I$1:$K$15,2,FALSE),$W12),Alap!$C:$D,2,FALSE),"") | F12: =IFERROR(VLOOKUP(CONCATENATE(F$2,VLOOKUP($A$1,segéd!$I$1:$K$15,2,FALSE),$W12),Alap!$C:$D,2,FALSE),"") | G12: =IFERROR(VLOOKUP(CONCATENATE(G$2,VLOOKUP($A$1,segéd!$I$1:$K$15,2,FALSE),$W12),Alap!$C:$D,2,FALSE),"") | H12: =IFERROR(VLOOKUP(CONCATENATE(H$2,VLOOKUP($A$1,segéd!$I$1:$K$15,2,FALSE),$W12),Alap!$C:$D,2,FALSE),"") | I12: =IFERROR(VLOOKUP(CONCATENATE(I$2,VLOOKUP($A$1,segéd!$I$1:$K$15,2,FALSE),$W12),Alap!$C:$D,2,FALSE),"") | ... V12: =IFERROR(VLOOKUP(CONCATENATE(V$2,VLOOKUP($A$1,segéd!$I$1:$K$15,2,FALSE),$W12),Alap!$C:$D,2,FALSE),"") | W12: 4
A13: 15.15 - 16.45 | B13: =IFERROR(VLOOKUP(CONCATENATE(B$2,VLOOKUP($A$1,segéd!$I$1:$K$15,2,FALSE),$W13),Alap!$C:$D,2,FALSE),"") | C13: =IFERROR(VLOOKUP(CONCATENATE(C$2,VLOOKUP($A$1,segéd!$I$1:$K$15,2,FALSE),$W13),Alap!$C:$D,2,FALSE),"") | D13: =IFERROR(VLOOKUP(CONCATENATE(D$2,VLOOKUP($A$1,segéd!$I$1:$K$15,2,FALSE),$W13),Alap!$C:$D,2,FALSE),"") | E13: =IFERROR(VLOOKUP(CONCATENATE(E$2,VLOOKUP($A$1,segéd!$I$1:$K$15,2,FALSE),$W13),Alap!$C:$D,2,FALSE),"") | F13: =IFERROR(VLOOKUP(CONCATENATE(F$2,VLOOKUP($A$1,segéd!$I$1:$K$15,2,FALSE),$W13),Alap!$C:$D,2,FALSE),"") -> Közgazdaságtan I. (otthonról web) 41 | G13: =IFERROR(VLOOKUP(CONCATENATE(G$2,VLOOKUP($A$1,segéd!$I$1:$K$15,2,FALSE),$W13),Alap!$C:$D,2,FALSE),"") | H13: =IFERROR(VLOOKUP(CONCATENATE(H$2,VLOOKUP($A$1,segéd!$I$1:$K$15,2,FALSE),$W13),Alap!$C:$D,2,FALSE),"") | I13: =IFERROR(VLOOKUP(CONCATENATE(I$2,VLOOKUP($A$1,segéd!$I$1:$K$15,2,FALSE),$W13),Alap!$C:$D,2,FALSE),"") | ... V13: =IFERROR(VLOOKUP(CONCATENATE(V$2,VLOOKUP($A$1,segéd!$I$1:$K$15,2,FALSE),$W13),Alap!$C:$D,2,FALSE),"") | W13: 5
A14: 17.00 - 18.30 | B14: =IFERROR(VLOOKUP(CONCATENATE(B$2,VLOOKUP($A$1,segéd!$I$1:$K$15,2,FALSE),$W14),Alap!$C:$D,2,FALSE),"") | C14: =IFERROR(VLOOKUP(CONCATENATE(C$2,VLOOKUP($A$1,segéd!$I$1:$K$15,2,FALSE),$W14),Alap!$C:$D,2,FALSE),"") | D14: =IFERROR(VLOOKUP(CONCATENATE(D$2,VLOOKUP($A$1,segéd!$I$1:$K$15,2,FALSE),$W14),Alap!$C:$D,2,FALSE),"") | E14: =IFERROR(VLOOKUP(CONCATENATE(E$2,VLOOKUP($A$1,segéd!$I$1:$K$15,2,FALSE),$W14),Alap!$C:$D,2,FALSE),"") | F14: =IFERROR(VLOOKUP(CONCATENATE(F$2,VLOOKUP($A$1,segéd!$I$1:$K$15,2,FALSE),$W14),Alap!$C:$D,2,FALSE),"") -> Közgazdaságtan I. (otthonról web) 41 | G14: =IFERROR(VLOOKUP(CONCATENATE(G$2,VLOOKUP($A$1,segéd!$I$1:$K$15,2,FALSE),$W14),Alap!$C:$D,2,FALSE),"") | H14: =IFERROR(VLOOKUP(CONCATENATE(H$2,VLOOKUP($A$1,segéd!$I$1:$K$15,2,FALSE),$W14),Alap!$C:$D,2,FALSE),"") | I14: =IFERROR(VLOOKUP(CONCATENATE(I$2,VLOOKUP($A$1,segéd!$I$1:$K$15,2,FALSE),$W14),Alap!$C:$D,2,FALSE),"") | ... V14: =IFERROR(VLOOKUP(CONCATENATE(V$2,VLOOKUP($A$1,segéd!$I$1:$K$15,2,FALSE),$W14),Alap!$C:$D,2,FALSE),"") | W14: 6
A15: 18.45 - 20.15 | B15: =IFERROR(VLOOKUP(CONCATENATE(B$2,VLOOKUP($A$1,segéd!$I$1:$K$15,2,FALSE),$W15),Alap!$C:$D,2,FALSE),"") | C15: =IFERROR(VLOOKUP(CONCATENATE(C$2,VLOOKUP($A$1,segéd!$I$1:$K$15,2,FALSE),$W15),Alap!$C:$D,2,FALSE),"") | D15: =IFERROR(VLOOKUP(CONCATENATE(D$2,VLOOKUP($A$1,segéd!$I$1:$K$15,2,FALSE),$W15),Alap!$C:$D,2,FALSE),"") | E15: =IFERROR(VLOOKUP(CONCATENATE(E$2,VLOOKUP($A$1,segéd!$I$1:$K$15,2,FALSE),$W15),Alap!$C:$D,2,FALSE),"") | F15: =IFERROR(VLOOKUP(CONCATENATE(F$2,VLOOKUP($A$1,segéd!$I$1:$K$15,2,FALSE),$W15),Alap!$C:$D,2,FALSE),"") | G15: =IFERROR(VLOOKUP(CONCATENATE(G$2,VLOOKUP($A$1,segéd!$I$1:$K$15,2,FALSE),$W15),Alap!$C:$D,2,FALSE),"") | H15: =IFERROR(VLOOKUP(CONCATENATE(H$2,VLOOKUP($A$1,segéd!$I$1:$K$15,2,FALSE),$W15),Alap!$C:$D,2,FALSE),"") | I15: =IFERROR(VLOOKUP(CONCATENATE(I$2,VLOOKUP($A$1,segéd!$I$1:$K$15,2,FALSE),$W15),Alap!$C:$D,2,FALSE),"") | ... V15: =IFERROR(VLOOKUP(CONCATENATE(V$2,VLOOKUP($A$1,segéd!$I$1:$K$15,2,FALSE),$W15),Alap!$C:$D,2,FALSE),"") | W15: 7

Sheet Útmutató
A1: Az órarendi adatok januártól a Neptun tanulmányi rendszerből is elérhetőek!
A3: Felhasználói útmutató a levelezős órarendi Excel használatához
A4: Bármilyen kérdése van az órarendi Excellel kapcsolatban, keresse Kovács Gergelyt a kovacs.gergely@edutus.hu elérhetőségen.
A6: Útmutató oktatóknak:
A7: 1. Az Oktató munkalapon a bal felső piros cellában a legördülő menüből válassza ki a nevét (előfordulhat, hogy ehhez a szerkeszthetőséget engedélyezni kell).
A8: Ezek után a táblázatban megjelennek az órák, felül a szombatok, alatta egy külön táblázatban a péntekek.
A9: 2. Ha egy tárgyról részletes adatokat szeretne, az Alap munkalapon a tárgy nevére, vagy az oktató nevére szűrve láthatja a saját óráit.
A10: A "terem Bp.", illetve a "terem Tb." oszlopok töltöttsége jelzi azt, hogy az óra Budapesten vagy Tatabányán van.
A11: Ha egy sorban több helyszín rovata is töltött, akkor az óra webináriummal egyszerre több helyszínen zajlik, az oktató a Megjegyzés rovatban jelzett helyszínen jelenik meg.
A13: Útmutató hallgatóknak:
A14: 1. Egy adott szak és évfolyama óráinak megjelenítése.
A15: Az alábbi táblázatban keresse ki az adott évfolyam rövidítését, majd keresse meg az adott rövidítéshez tartozó munkalapot. A pénteki órák a szombati órák alatti táblázatban találhatóak.
... A22: Az órarend és a terembeosztás év közben sűrűn változhat, érdemes ellenőrizni!
A24: kód | B24: helyszín, évfolyam, szak, szakirány
A25: B1 | B25: Budapest, 1. év, gazdálkodási és menedzsment, illetve kereskedelem és marketing alapképzés
A26: 1T | B26: Budapest, 1. év, turizmus-vendéglátás alapképzés
A27: FK | B27: Budapest, 1. év, kereskedelem és marketing FOKSZ
A28: BM | B28: Budapest, 1. év, marketing mesterképzés
A29: E | B29: Budapest, 1. év, ellátásilánc-menedzsment mesterképzés
A30: K | B30: Budapest, 1. év, körforgásos gazdaság menedzsment mesterképzés
A31: T1 | B31: Tatabánya, 1. év, gazdálkodási és menedzsment, illetve kereskedelem és marketing alapképzés
A32: FM | B32: Tatabánya, 1. év, műszaki FOKSZ
A33: 1Mű | B33: Tatabánya, 1. év, műszaki menedzser alapképzés
A34: 1Me | B34: Tatabánya, 1. év, mechatronikai mérnök alapképzés
A35: TM | B35: Tatabánya, 1. év, műszaki menedzser mesterképzés
... A66: MR | B66: Tatabánya, 3. év, mechatronikai mérnök alapképzés, robotika és dróntechnológia szakirány

Sheet Alap
BF1: terem | BG1: terem | BJ1: létsz. | BK1: Bp. | BL1: Tb. | BM1: B1 | BN1: 1T | BO1: FK | BP1: BM | BQ1: E | BR1: K | BS1: B2GI | BT1: B2GK | BU1: B2GN | BV1: B2KL | BW1: B2KM | BX1: B2KN | BY1: 2T | BZ1: B3GI | CA1: B3GN | CB1: B3KL | CC1: B3KM | CD1: B3KN | CE1: T1 | CF1: FM | CG1: 1Mű | CH1: 1Me | CI1: TM | CJ1: T2GI | CK1: TGK | CL1: T2GN | CM1: T2KL | CN1: T2KM | CO1: T2KN | CP1: 2Mű | CQ1: 2Me | CR1: T3GI | CS1: T3GN | CT1: T3KL | CU1: T3KM | CV1: T3KN | CW1: MF | CX1: MűL | CY1: MM | CZ1: MK | DA1: MeL | DB1: MR
