Workbook
Name Oktató: [1]segéd!$A$1:$A$57
Name Oktató: segéd!$A$1:$A$77
Name oktatók: segéd!$A$1:$A$77
Name tbterem: [1]segéd!$D$1:$D$21
Name tbterem: segéd!$D$1:$D$22
Name Terem: [1]segéd!$C$1:$C$12
Name Terem: segéd!$C$1:$C$11
Name xy: [2]segéd!$A$1:$A$70

Sheet segéd
A1: Aschenbrenner Jószef | C1: 201 | D1: 1 | F1: 1 | G1: 8.00-9.30 | I1: szeptember 4-5. | J1: 904 | K1: 905 | N1: TED-OO-003LE0 | O1: Félév eleji tájékoztató - általános | P1: =VLOOKUP(N1,kurzusok!E:G,3,FALSE) -> 198 | S1: BED-OO-003LE0 | T1: Félév eleji tájékoztató - általános | U1: =VLOOKUP(S1,kurzusok!E:G,3,FALSE) -> 146
A2: Antalík Imrich | C2: 202 | D2: 3 | F2: 2 | G2: 9.45-11.15 | I2: szeptember 11-12. | J2: 911 | K2: 912 | N2: TB-8-K001LE0 | O2: Tanulás, kreativitás és MI | P2: =VLOOKUP(N2,kurzusok!E:G,3,FALSE)+P3 -> 216 | S2: BB-8-K001LE0 | T2: Tanulás, kreativitás és MI | U2: =VLOOKUP(S2,kurzusok!E:G,3,FALSE)+U3 -> 158
A3: Baksa Dániel | C3: 203 | D3: 4 | F3: 3 | G3: 11.30-13.00 | I3: szeptember 18-19. | J3: 918 | K3: 919 | N3: TM-8-S101LE0 | O3: Tanulás, kreativitás és MI | P3: =VLOOKUP(N3,kurzusok!E:G,3,FALSE) -> 8 | S3: BM-8-S101LE0 | T3: Tanulás, kreativitás és MI | U3: =VLOOKUP(S3,kurzusok!E:G,3,FALSE) -> 47
A4: Balog Mónika | C4: 205 | D4: 6 | F4: 4 | G4: 13.30-15.00 | I4: szeptember 25-26. | J4: 925 | K4: 926 | N4: TB-0-A102LE0 | O4: Gazdasági matematika I. | P4: =VLOOKUP(N4,kurzusok!E:G,3,FALSE) -> 69 | S4: BB-0-A102LE0 | T4: Gazdasági matematika I. | U4: =VLOOKUP(S4,kurzusok!E:G,3,FALSE) -> 119
A5: Barna Zsolt | C5: 206 | D5: 212 | F5: 5 | G5: 15.15-16.45 | I5: október 2-3. | J5: 1002 | K5: 1003 | N5: TB-0-A102LS1 | O5: Gazdasági matematika I. | P5: =VLOOKUP(N5,kurzusok!E:G,3,FALSE) -> 69 | S5: BB-0-A102LS1 | T5: Gazdasági matematika I., 1. csoport | U5: =VLOOKUP(S5,kurzusok!E:G,3,FALSE) -> 20
A6: Barócsi Zoltán | C6: 207 | D6: 213 | F6: 6 | G6: 17.00-18.30 | I6: október 9-10. | J6: 1009 | K6: 1010 | N6: TB-0-A107LS1 | O6: Informatika, 1. csoport | P6: =VLOOKUP(N6,kurzusok!E:G,3,FALSE)+P8 -> 49 | S6: BB-0-A102LS2 | T6: Gazdasági matematika I., 2. csoport | U6: =VLOOKUP(S6,kurzusok!E:G,3,FALSE) -> 2
A7: Barta Krisztina | C7: 208 | D7: 214 | F7: 7 | G7: 18.45-20.15 | I7: október 16-17. | J7: 1016 | K7: 1017 | N7: TB-0-A107LS2 | O7: Informatika, 2. csoport | P7: =VLOOKUP(N7,kurzusok!E:G,3,FALSE)+P9 -> 29 | S7: BB-0-A107LS1 | T7: Informatika, 1. csoport | U7: =VLOOKUP(S7,kurzusok!E:G,3,FALSE) -> 6
A8: Belyó Pál | C8: 209 | D8: 215 | I8: október 23-24. | J8: 1023 | K8: 1024 | N8: TF-0-A102LS1 | O8: Informatika alapjai | P8: =VLOOKUP(N8,kurzusok!E:G,3,FALSE) -> 12 | S8: BB-0-A107LS2 | T8: Informatika, 2. csoport | U8: =VLOOKUP(S8,kurzusok!E:G,3,FALSE)+U9 -> 12
A9: Borbás Lajos | C9: 210 | D9: 216 | F9: 904 | G9: 46269 | I9: október 30-31. | J9: 1030 | K9: 1031 | N9: TF-0-A102LS2 | O9: Informatika alapjai | P9: =VLOOKUP(N9,kurzusok!E:G,3,FALSE) -> 7 | S9: BF-0-A102LS2 | T9: Informatika alapjai | U9: =VLOOKUP(S9,kurzusok!E:G,3,FALSE) -> 11
A10: Böcz Gábor | C10: 214 | D10: 217 | F10: 905 | G10: 46270 | I10: november 6-7. | J10: 1106 | K10: 1107 | N10: TB-0-A108LE0 | O10: Közgazdaságtan I. | P10: =VLOOKUP(N10,kurzusok!E:G,3,FALSE) -> 165 | S10: BB-0-A108LE0 | T10: Közgazdaságtan I. | U10: =VLOOKUP(S10,kurzusok!E:G,3,FALSE) -> 120
A11: Böröczki Ágoston | C11: 217 | D11: 401 | F11: 911 | G11: 46276 | I11: november 13-14. | J11: 1113 | K11: 1114 | N11: TB-0-A108LS1 | O11: Közgazdaságtan I. | P11: =VLOOKUP(N11,kurzusok!E:G,3,FALSE) -> 165 | S11: BB-0-A108LS1 | T11: Közgazdaságtan I. | U11: =VLOOKUP(S11,kurzusok!E:G,3,FALSE) -> 120
A12: Brunner Zsuzsanna | D12: 402 | F12: 912 | G12: 46277 | I12: november 20-21. | J12: 1120 | K12: 1121 | N12: TB-0-A101LE0 | O12: Általános és gazdasági jog | P12: =VLOOKUP(N12,kurzusok!E:G,3,FALSE)+P13 -> 171 | S12: BB-0-A101LE0 | T12: Általános és gazdasági jog | U12: =VLOOKUP(S12,kurzusok!E:G,3,FALSE) -> 92
A13: Buda Lorina | D13: 403 | F13: 918 | G13: 46283 | I13: november 27-28. | J13: 1127 | K13: 1128 | N13: TB-0-M509LE0 | O13: Jogi ismeretek | P13: =VLOOKUP(N13,kurzusok!E:G,3,FALSE) -> 117 | S13: BB-0-A207LE0 | T13: Marketing | U13: =VLOOKUP(S13,kurzusok!E:G,3,FALSE) -> 115
A14: Csrenkovics Antónia | D14: 404 | F14: 919 | G14: 46284 | I14: december 4-5. | J14: 1204 | K14: 1205 | N14: TB-0-A207LE0 | O14: Marketing | P14: =VLOOKUP(N14,kurzusok!E:G,3,FALSE) -> 81 | S14: BB-0-A207LS1 | T14: Marketing | U14: =VLOOKUP(S14,kurzusok!E:G,3,FALSE) -> 115
A15: Dobos Ádám | D15: 408 | F15: 925 | G15: 46290 | I15: december 11-12. | J15: 1211 | K15: 1212 | N15: TB-0-A207LS1 | O15: Marketing | P15: =VLOOKUP(N15,kurzusok!E:G,3,FALSE) -> 81 | S15: BB-0-A110LE0 | T15: Vállalati gazdaságtan | U15: =VLOOKUP(S15,kurzusok!E:G,3,FALSE) -> 113
A16: Duga Zsófia | D16: 501 | F16: 926 | G16: 46291 | N16: TB-0-A110LE0 | O16: Vállalati gazdaságtan | P16: =VLOOKUP(N16,kurzusok!E:G,3,FALSE) -> 206 | S16: BB-0-A110LS1 | T16: Vállalati gazdaságtan | U16: =VLOOKUP(S16,kurzusok!E:G,3,FALSE) -> 113
A17: Gaál Béla | D17: 601 | F17: 1002 | G17: 46297 | N17: TB-0-A110LS1 | O17: Vállalati gazdaságtan | P17: =VLOOKUP(N17,kurzusok!E:G,3,FALSE) -> 206 | S17: BB-1-A103LS0 | T17: Angol gazdasági szaknyelv I. | U17: =VLOOKUP(S17,kurzusok!E:G,3,FALSE) -> 0
A18: Gellért Judit Márta | D18: 603 | F18: 1003 | G18: 46298 | N18: TB-1-A103LS0 | O18: Angol gazdasági szaknyelv I. | P18: =VLOOKUP(N18,kurzusok!E:G,3,FALSE) -> 0 | S18: BB-1-A103LS1 | T18: Angol gazdasági szaknyelv I., 1. csoport | U18: =VLOOKUP(S18,kurzusok!E:G,3,FALSE) -> 21
A19: Gondos Borbála | D19: 604 | F19: 1009 | G19: 46304 | N19: TB-1-A103LS1 | O19: Angol gazdasági szaknyelv I., 1. csoport | P19: =VLOOKUP(N19,kurzusok!E:G,3,FALSE) -> 0 | S19: BB-1-A103LS2 | T19: Angol gazdasági szaknyelv I., 2. csoport | U19: =VLOOKUP(S19,kurzusok!E:G,3,FALSE) -> 19
A20: Gyalogos Norbert | D20: 605 | F20: 1010 | G20: 46305 | N20: TB-1-A103LS2 | O20: Angol gazdasági szaknyelv I., 2. csoport | P20: =VLOOKUP(N20,kurzusok!E:G,3,FALSE) -> 22 | S20: BB-4-C105LS1 angol | T20: Nyelvi szintfelmérő - előkészítő | U20: =VLOOKUP(S20,kurzusok!E:G,3,FALSE) -> 13
A21: Janóczki Mihály | D21: A/Nae. | F21: 1016 | G21: 46311 | N21: TB-4-C105LS1 angol | O21: Nyelvi szintfelmérő - előkészítő | P21: =VLOOKUP(N21,kurzusok!E:G,3,FALSE) -> 13 | S21: BB-1-A104LS1 | T21: Német gazdasági szaknyelv I. | U21: =VLOOKUP(S21,kurzusok!E:G,3,FALSE) -> #N/A
A22: Juhász Krisztina | D22: Passzív | F22: 1017 | G22: 46312 | N22: TB-1-A104LS1 | O22: Német gazdasági szaknyelv I. | P22: =VLOOKUP(N22,kurzusok!E:G,3,FALSE) -> 6 | S22: BB-0-C201LE0 | T22: Utazástörténet | U22: =VLOOKUP(S22,kurzusok!E:G,3,FALSE) -> 14
A23: Kasza József | F23: 1023 | G23: 46318 | N23: TB-1-A202LS1 | O23: Angol gazdasági szaknyelv II. | P23: =VLOOKUP(N23,kurzusok!E:G,3,FALSE) -> 10 | S23: BB-1-A202LS1 | T23: Angol gazdasági szaknyelv II. | U23: =VLOOKUP(S23,kurzusok!E:G,3,FALSE) -> 20
A24: Kárpáti-Daróczi Judit | F24: 1024 | G24: 46319 | N24: TB-0-A206LE0 | O24: Közgazdaságtan II. | P24: =VLOOKUP(N24,kurzusok!E:G,3,FALSE) -> 20 | S24: BB-0-A206LE0 | T24: Közgazdaságtan II. | U24: =VLOOKUP(S24,kurzusok!E:G,3,FALSE) -> 3
A25: Keszthelyi Csaba | F25: 1030 | G25: 46325 | N25: TB-0-A206LS1 | O25: Közgazdaságtan II. | P25: =VLOOKUP(N25,kurzusok!E:G,3,FALSE) -> 20 | S25: BB-0-A206LS1 | T25: Közgazdaságtan II. | U25: =VLOOKUP(S25,kurzusok!E:G,3,FALSE) -> 3
A26: Korcz Miklós | F26: 1031 | G26: 46326 | N26: TB-0-A303LE0 | O26: Statisztika II. | P26: =VLOOKUP(N26,kurzusok!E:G,3,FALSE) -> 41 | S26: BB-0-A303LE0 | T26: Statisztika II. | U26: =VLOOKUP(S26,kurzusok!E:G,3,FALSE) -> 45
A27: Kovács Gergely | F27: 1106 | G27: 46332 | N27: TB-0-A303LS1 | O27: Statisztika II. | P27: =VLOOKUP(N27,kurzusok!E:G,3,FALSE) -> 41 | S27: BB-0-A303LS1 | T27: Statisztika II. | U27: =VLOOKUP(S27,kurzusok!E:G,3,FALSE) -> 45
A28: Köbli Ádám | F28: 1107 | G28: 46333 | N28: TB-0-A302LE0 | O28: Nemzetközi gazd. ism. | P28: =VLOOKUP(N28,kurzusok!E:G,3,FALSE) -> 44 | S28: BB-0-A302LE0 | T28: Nemzetközi gazd. ism. | U28: =VLOOKUP(S28,kurzusok!E:G,3,FALSE) -> 45
A29: Krompaszky Gábor | F29: 1113 | G29: 46339 | N29: TB-0-A304LE0 | O29: Számvitel I. | P29: =VLOOKUP(N29,kurzusok!E:G,3,FALSE) -> 35 | S29: BB-0-A304LE0 | T29: Számvitel I. | U29: =VLOOKUP(S29,kurzusok!E:G,3,FALSE) -> 44
A30: Krupánszki Kornél | F30: 1114 | G30: 46340 | N30: TB-0-A304LS1 | O30: Számvitel I. | P30: =VLOOKUP(N30,kurzusok!E:G,3,FALSE) -> 35 | S30: BB-0-A304LS1 | T30: Számvitel I. | U30: =VLOOKUP(S30,kurzusok!E:G,3,FALSE) -> 44
A31: Krupánszkyné Léhárt Marianna | F31: 1120 | G31: 46346 | N31: TB-0-A301LE0 | O31: Logisztika | P31: =VLOOKUP(N31,kurzusok!E:G,3,FALSE) -> 63 | S31: BB-0-A301LE0 | T31: Logisztika | U31: =VLOOKUP(S31,kurzusok!E:G,3,FALSE) -> 56
A32: Labossa Ildikó | F32: 1121 | G32: 46347 | N32: TB-0-A301LS1 | O32: Logisztika | P32: =VLOOKUP(N32,kurzusok!E:G,3,FALSE) -> 63 | S32: BB-0-A301LS1 | T32: Logisztika | U32: =VLOOKUP(S32,kurzusok!E:G,3,FALSE) -> 56
A33: Lakatos Péter | F33: 1127 | G33: 46353 | N33: TB-5-B301LE0 | O33: EU tanulmányok | P33: =VLOOKUP(N33,kurzusok!E:G,3,FALSE) -> 48 | S33: BB-5-B301LE0 | T33: EU tanulmányok | U33: =VLOOKUP(S33,kurzusok!E:G,3,FALSE) -> 48
A34: Láng László | F34: 1128 | G34: 46354 | N34: TB-0-C303LE0 | O34: Pénzügyi piacok | P34: =VLOOKUP(N34,kurzusok!E:G,3,FALSE) -> 20 | S34: BB-0-C303LE0 | T34: Pénzügyi piacok | U34: =VLOOKUP(S34,kurzusok!E:G,3,FALSE) -> 16
... A41: Molnár László | F41: 1027 | G41: 46322 | N41: TB-0-C526LE0 | O41: Stratégiai és üzleti tervezés | P41: =VLOOKUP(N41,kurzusok!E:G,3,FALSE) -> 36 | S41: BB-2-B304LE0 | T41: Szociológia | U41: =VLOOKUP(S41,kurzusok!E:G,3,FALSE) -> 22
A42: Molnárné Dőry Zsófia | N42: TB-0-C526LS1 | O42: Stratégiai és üzleti tervezés | P42: =VLOOKUP(N42,kurzusok!E:G,3,FALSE) -> 36 | S42: BB-2-B302LE0 | T42: Gazdaságpszichológia | U42: =VLOOKUP(S42,kurzusok!E:G,3,FALSE) -> 38
A43: Nagy Judit | N43: TB-0-C529LE0 | O43: Számvitel III. | P43: =VLOOKUP(N43,kurzusok!E:G,3,FALSE) -> 24 | S43: BB-0-C526LE0 | T43: Stratégiai és üzleti tervezés | U43: =VLOOKUP(S43,kurzusok!E:G,3,FALSE) -> 41
A44: Nagy Mónika | N44: TB-0-C529LS1 | O44: Számvitel III. | P44: =VLOOKUP(N44,kurzusok!E:G,3,FALSE) -> 24 | S44: BB-0-C526LS1 | T44: Stratégiai és üzleti tervezés | U44: =VLOOKUP(S44,kurzusok!E:G,3,FALSE) -> 41
A45: Nagyné Csóti Beáta | N45: TB-5-C523LE0 | O45: Projektmenedzsment | P45: =VLOOKUP(N45,kurzusok!E:G,3,FALSE)+P47 -> 119 | S45: BB-0-C529LE0 | T45: Számvitel III. | U45: =VLOOKUP(S45,kurzusok!E:G,3,FALSE) -> 24
A46: Nemes Ágnes | N46: TB-5-C523LS1 | O46: Projektmenedzsment | P46: =VLOOKUP(N46,kurzusok!E:G,3,FALSE) -> 41 | S46: BB-0-C529LS1 | T46: Számvitel III. | U46: =VLOOKUP(S46,kurzusok!E:G,3,FALSE) -> 24
A47: Nemes Márk | N47: TB-5-M610LE0 | O47: Projektmenedzsment (műszaki) | P47: =VLOOKUP(N47,kurzusok!E:G,3,FALSE) -> 78 | S47: BB-5-C523LE0 | T47: Projektmenedzsment | U47: =VLOOKUP(S47,kurzusok!E:G,3,FALSE) -> 38
A48: Némethné Gál Andrea | N48: TB-5-M610LS1 | O48: Projektmenedzsment (műszaki) | P48: =VLOOKUP(N48,kurzusok!E:G,3,FALSE) -> 78 | S48: BB-5-C523LS1 | T48: Projektmenedzsment | U48: =VLOOKUP(S48,kurzusok!E:G,3,FALSE) -> 38
A49: Néveri Varagya Szilvia | N49: TB-0-C514LE0 | O49: Kommunikáció és média | P49: =VLOOKUP(N49,kurzusok!E:G,3,FALSE) -> 10 | S49: BB-0-C514LE0 | T49: Kommunikáció és média | U49: =VLOOKUP(S49,kurzusok!E:G,3,FALSE) -> 20
A50: Palotai Péter | N50: TB-0-C514LS1 | O50: Kommunikáció és média | P50: =VLOOKUP(N50,kurzusok!E:G,3,FALSE) -> 10 | S50: BB-0-C514LS1 | T50: Kommunikáció és média | U50: =VLOOKUP(S50,kurzusok!E:G,3,FALSE) -> 20
A51: Peredy Zoltán | N51: TB-0-C515LE0 | O51: Költségelemzés és árképzés | P51: =VLOOKUP(N51,kurzusok!E:G,3,FALSE) -> 18 | S51: BB-0-C515LE0 | T51: Költségelemzés és árképzés | U51: =VLOOKUP(S51,kurzusok!E:G,3,FALSE) -> 21
A52: Peres Anna | N52: TB-0-C515LS1 | O52: Költségelemzés és árképzés | P52: =VLOOKUP(N52,kurzusok!E:G,3,FALSE) -> 18 | S52: BB-0-C515LS1 | T52: Költségelemzés és árképzés | U52: =VLOOKUP(S52,kurzusok!E:G,3,FALSE) -> 21
A53: Péter Sára | N53: TB-2-B501LE0 | O53: Gazdaságtörténet | P53: =VLOOKUP(N53,kurzusok!E:G,3,FALSE) -> 20 | S53: BB-2-B501LE0 | T53: Gazdaságtörténet | U53: =VLOOKUP(S53,kurzusok!E:G,3,FALSE) -> 20
A54: Piroska László | N54: TB-2-B502LE0 | O54: Globalizáció | P54: =VLOOKUP(N54,kurzusok!E:G,3,FALSE) -> 29 | S54: BB-2-B502LE0 | T54: Globalizáció | U54: =VLOOKUP(S54,kurzusok!E:G,3,FALSE) -> 43
A55: Póka Viktor | N55: TB-4-M710LS1 | O55: Viselkedéskultúra és protokoll (szv.) | P55: =VLOOKUP(N55,kurzusok!E:G,3,FALSE) -> 55 | S55: BB-4-M710LS1 | T55: Viselkedéskultúra és protokoll (szv.) | U55: =VLOOKUP(S55,kurzusok!E:G,3,FALSE) -> 22
A56: Rojkovich Ádám Konstantin | N56: TB-5-C520LE0 | O56: Nemzetközi pénzügyek (szv.) | P56: =VLOOKUP(N56,kurzusok!E:G,3,FALSE) -> 9 | S56: BB-5-C520LE0 | T56: Nemzetközi pénzügyek (szv.) | U56: =VLOOKUP(S56,kurzusok!E:G,3,FALSE) -> 11
A57: Ruppert Petra | N57: TB-4-C611T(et) | O57: Nyelvi záróvizsga felkészítő | P57: =VLOOKUP(N57,kurzusok!E:G,3,FALSE) -> 6 | S57: BB-4-C611T(et) | T57: Nyelvi záróvizsga felkészítő | U57: =VLOOKUP(S57,kurzusok!E:G,3,FALSE) -> 0
... A77: Zalahegyi Zoltán | N77: TB-3-C543LS1 | O77: Szállítmányozás, fuvarozás | P77: =VLOOKUP(N77,kurzusok!E:G,3,FALSE) -> 4 | S77: BB-3-C542LS1 | T77: Beszerzési menedzsment alapjai | U77: =VLOOKUP(S77,kurzusok!E:G,3,FALSE) -> 6
N78: TB-4-C244LE0 | O78: Én, a Brand - Sportolói énmárka | P78: =VLOOKUP(N78,kurzusok!E:G,3,FALSE) -> 24 | S78: BB-3-C543LE0 | T78: Szállítmányozás, fuvarozás | U78: =VLOOKUP(S78,kurzusok!E:G,3,FALSE) -> 6
N79: TB-4-C244LS1 | O79: Én, a Brand - Sportolói énmárka | P79: =VLOOKUP(N79,kurzusok!E:G,3,FALSE) -> 23 | S79: BB-3-C543LS1 | T79: Szállítmányozás, fuvarozás | U79: =VLOOKUP(S79,kurzusok!E:G,3,FALSE) -> 6
N80: TB-8-S608LE0 | O80: Szakszeminárium I. | P80: =VLOOKUP(N80,kurzusok!E:G,3,FALSE)+P81 -> 12 | S80: BB-0-C531LE0 | T80: Turizmus menedzsment | U80: =VLOOKUP(S80,kurzusok!E:G,3,FALSE) -> 5
N81: TB-8-S609LE0 | O81: Szakszeminárium I. | P81: =VLOOKUP(N81,kurzusok!E:G,3,FALSE) -> 12 | S81: BB-0-C531LS1 | T81: Turizmus menedzsment | U81: =VLOOKUP(S81,kurzusok!E:G,3,FALSE) -> 5
N82: TM-0-A108LE0 | O82: Vállalkozások gazdaságtana | P82: =VLOOKUP(N82,kurzusok!E:G,3,FALSE) -> 3 | S82: BB-5-C306LE0 | T82: Turizmus marketing | U82: =VLOOKUP(S82,kurzusok!E:G,3,FALSE) -> 7
N83: TM-0-A108LS1 | O83: Vállalkozások gazdaságtana | P83: =VLOOKUP(N83,kurzusok!E:G,3,FALSE) -> 3 | S83: BB-5-C306LS1 | T83: Turizmus marketing | U83: =VLOOKUP(S83,kurzusok!E:G,3,FALSE) -> 7
N84: TM-0-A117LE0 | O84: Hibrid projektmenedzsment | P84: =VLOOKUP(N84,kurzusok!E:G,3,FALSE) -> 7 | S84: BB-0-C538LE0 | T84: Nemzetközi turizmusföldrajz | U84: =VLOOKUP(S84,kurzusok!E:G,3,FALSE) -> 7
N85: TM-0-A117LS1 | O85: Hibrid projektmenedzsment | P85: =VLOOKUP(N85,kurzusok!E:G,3,FALSE) -> 7 | S85: BB-3-C539LE0 | T85: Szálloda fejlesztés és üzem. | U85: =VLOOKUP(S85,kurzusok!E:G,3,FALSE) -> 4
N86: TF-1-A101LS1 angol | O86: Idegen nyelv I., angol | P86: =VLOOKUP(N86,kurzusok!E:G,3,FALSE) -> 13 | S86: BB-3-C539LS1 | T86: Szálloda fejlesztés és üzem. | U86: =VLOOKUP(S86,kurzusok!E:G,3,FALSE) -> 4
N87: TF-1-A101LS2 német | O87: Idegen nyelv I., német | P87: =VLOOKUP(N87,kurzusok!E:G,3,FALSE) -> 4 | S87: BB-3-C550LS1 | T87: Turisztikai szoftverek | U87: =VLOOKUP(S87,kurzusok!E:G,3,FALSE) -> 3
N88: TF-0-B103LE0 | O88: Közgazdaságtan | P88: =VLOOKUP(N88,kurzusok!E:G,3,FALSE) -> 7 | S88: BB-4-C244LE0 | T88: Én, a Brand - Sportolói énmárka | U88: =VLOOKUP(S88,kurzusok!E:G,3,FALSE) -> 20
N89: TF-0-B103LS1 | O89: Közgazdaságtan | P89: =VLOOKUP(N89,kurzusok!E:G,3,FALSE) -> 7 | S89: BB-4-C244LS1 | T89: Én, a Brand - Sportolói énmárka | U89: =VLOOKUP(S89,kurzusok!E:G,3,FALSE) -> 20
N90: TF-0-B102LE0 | O90: Jogi alapismeretek | P90: =VLOOKUP(N90,kurzusok!E:G,3,FALSE) -> 7 | S90: BB-8-S608LE0 | T90: Szakszeminárium I. | U90: =VLOOKUP(S90,kurzusok!E:G,3,FALSE) -> 0
N91: TF-0-B101LE0 | O91: Gazdasági számítások | P91: =VLOOKUP(N91,kurzusok!E:G,3,FALSE) -> 8 | S91: BM-0-A104LE0 | T91: Modern közg. és piacelm. | U91: =VLOOKUP(S91,kurzusok!E:G,3,FALSE) -> 31
N92: TF-0-B101LS1 | O92: Gazdasági számítások | P92: =VLOOKUP(N92,kurzusok!E:G,3,FALSE) -> 8 | S92: BM-0-A104LS1 | T92: Modern közg. és piacelm. | U92: =VLOOKUP(S92,kurzusok!E:G,3,FALSE) -> 31
N93: TB-0-M102LE0 | O93: Matematika I. | P93: =VLOOKUP(N93,kurzusok!E:G,3,FALSE)+P95 -> 154 | S93: BM-0-A113LE0 | T93: Marketingmenedzsment | U93: =VLOOKUP(S93,kurzusok!E:G,3,FALSE) -> 9
N94: TB-0-M102LS1 | O94: Matematika I. | P94: =VLOOKUP(N94,kurzusok!E:G,3,FALSE) -> 141 | S94: BM-0-A113LS1 | T94: Marketingmenedzsment | U94: =VLOOKUP(S94,kurzusok!E:G,3,FALSE) -> 9
N95: TF-0-B104LE0 | O95: Matematika | P95: =VLOOKUP(N95,kurzusok!E:G,3,FALSE) -> 13 | S95: BM-0-A114LE0 | T95: Döntéselmélet és módszertan | U95: =VLOOKUP(S95,kurzusok!E:G,3,FALSE) -> 8
N96: TF-0-B104LS1 | O96: Matematika | P96: =VLOOKUP(N96,kurzusok!E:G,3,FALSE) -> 13 | S96: BM-0-A114LS1 | T96: Döntéselmélet és módszertan | U96: =VLOOKUP(S96,kurzusok!E:G,3,FALSE) -> 8
N97: TB-0-M101LE0 | O97: Elektrotechnika I. | P97: =VLOOKUP(N97,kurzusok!E:G,3,FALSE) -> 83 | S97: BM-0-A115LE0 | T97: Értékteremtő logisztikai folyamatok | U97: =VLOOKUP(S97,kurzusok!E:G,3,FALSE)+U99 -> 12
N98: TB-0-M101LS1 | O98: Elektrotechnika I. | P98: =VLOOKUP(N98,kurzusok!E:G,3,FALSE) -> 83 | S98: BM-0-A115LS1 | T98: Értékteremtő logisztikai folyamatok | U98: =VLOOKUP(S98,kurzusok!E:G,3,FALSE) -> 7
N99: TB-0-M103LE0 | O99: Mechanika alapjai | P99: =VLOOKUP(N99,kurzusok!E:G,3,FALSE) -> 148 | S99: BM-0-C103LE0 | T99: Értékteremtő logisztikai folyamatok | U99: =VLOOKUP(S99,kurzusok!E:G,3,FALSE) -> 5
N100: TB-0-M103LS1 | O100: Mechanika alapjai | P100: =VLOOKUP(N100,kurzusok!E:G,3,FALSE) -> 148 | S100: BM-0-C103LS1 | T100: Értékteremtő logisztikai folyamatok | U100: =VLOOKUP(S100,kurzusok!E:G,3,FALSE) -> 5
N101: TB-0-M105LE0 | O101: Műszaki kommunikáció | P101: =VLOOKUP(N101,kurzusok!E:G,3,FALSE) -> 140 | S101: BM-0-A105LE0 | T101: Vállalkozások gazdaságtana | U101: =VLOOKUP(S101,kurzusok!E:G,3,FALSE) -> 8
N102: TB-0-M105LS1 | O102: Műszaki kommunikáció | P102: =VLOOKUP(N102,kurzusok!E:G,3,FALSE) -> 140 | S102: BM-0-A105LS1 | T102: Vállalkozások gazdaságtana | U102: =VLOOKUP(S102,kurzusok!E:G,3,FALSE) -> 8
N103: TB-0-M104LE0 | O103: Mérnöki alapismeretek | P103: =VLOOKUP(N103,kurzusok!E:G,3,FALSE) -> 128 | S103: BM-0-C101LE0 | T103: Kutatásmódszertan | U103: =VLOOKUP(S103,kurzusok!E:G,3,FALSE) -> 32
N104: TB-0-M104LS1 | O104: Mérnöki alapismeretek | P104: =VLOOKUP(N104,kurzusok!E:G,3,FALSE) -> 128 | S104: BM-0-C101LS1 | T104: Kutatásmódszertan | U104: =VLOOKUP(S104,kurzusok!E:G,3,FALSE) -> 32
N105: TB-0-M302LS1 | O105: CAD alapjai, 1. csoport | P105: =VLOOKUP(N105,kurzusok!E:G,3,FALSE) -> 33 | S105: BM-0-C104LE0 | T105: Bevezetés az ellátási láncok men. | U105: =VLOOKUP(S105,kurzusok!E:G,3,FALSE) -> 10
N106: TB-0-M302LS2 | O106: CAD alapjai, 2. csoport | P106: =VLOOKUP(N106,kurzusok!E:G,3,FALSE) -> 45 | S106: BM-0-C104LS1 | T106: Bevezetés az ellátási láncok men. | U106: =VLOOKUP(S106,kurzusok!E:G,3,FALSE) -> 10
N107: TB-0-M304LE0 | O107: Matematika III. | P107: =VLOOKUP(N107,kurzusok!E:G,3,FALSE) -> 41 | S107: BM-0-C305LE0 | T107: Marketing tervezés és kont. | U107: =VLOOKUP(S107,kurzusok!E:G,3,FALSE) -> 6
N108: TB-0-M304LS1 | O108: Matematika III. | P108: =VLOOKUP(N108,kurzusok!E:G,3,FALSE) -> 41 | S108: BM-0-C305LS1 | T108: Marketing tervezés és kont. | U108: =VLOOKUP(S108,kurzusok!E:G,3,FALSE) -> 6
N109: TB-0-M301LE0 | O109: Analóg és digitális elekt. | P109: =VLOOKUP(N109,kurzusok!E:G,3,FALSE) -> 103 | S109: BM-0-C302LE0 | T109: Gazdasági és versenyjog | U109: =VLOOKUP(S109,kurzusok!E:G,3,FALSE) -> 6
... N114: TB-0-M307LE0 | O114: Méréstechnika (Mitutuyo) | P114: =VLOOKUP(N114,kurzusok!E:G,3,FALSE) -> 40 | S114: BM-0-C306LS1 | T114: Termék-, kínálatpolitika | U114: =VLOOKUP(S114,kurzusok!E:G,3,FALSE) -> 6
N115: TB-0-M306LE0 | O115: Méréstechnika | P115: =VLOOKUP(N115,kurzusok!E:G,3,FALSE)+P114 -> 81 | S115: BM-0-C301LE0 | T115: Nemzetközi keresk. és piac | U115: =VLOOKUP(S115,kurzusok!E:G,3,FALSE) -> 3
N116: TB-0-M307LS0 | O116: Méréstechnika (Mitutuyo) | P116: =VLOOKUP(N116,kurzusok!E:G,3,FALSE) -> 40 | S116: BM-0-C301LS1 | T116: Nemzetközi keresk. és piac | U116: =VLOOKUP(S116,kurzusok!E:G,3,FALSE) -> 3
N117: TB-0-M307LS3 | O117: Méréstechnika, 3. csoport | P117: =VLOOKUP(N117,kurzusok!E:G,3,FALSE) -> 0 | S117: BM-4-D005LE0 | T117: Nemzetközi üzleti földrajz | U117: =VLOOKUP(S117,kurzusok!E:G,3,FALSE) -> 14
N118: TB-0-M307LS4 | O118: Méréstechnika, 4. csoport | P118: =VLOOKUP(N118,kurzusok!E:G,3,FALSE) -> 0 | S118: BM-4-D005LS1 | T118: Nemzetközi üzleti földrajz | U118: =VLOOKUP(S118,kurzusok!E:G,3,FALSE) -> 14
N119: TB-0-M307LS5 | O119: Méréstechnika, 5. csoport | P119: =VLOOKUP(N119,kurzusok!E:G,3,FALSE)+P123 -> 0 | S119: BM-0-A117LE0 | T119: Hibrid projektmenedzsment | U119: =VLOOKUP(S119,kurzusok!E:G,3,FALSE) -> 21
N120: TB-0-M306LS0 | O120: Méréstechnika | P120: =VLOOKUP(N120,kurzusok!E:G,3,FALSE) -> 41 | S120: BM-0-A117LS1 | T120: Hibrid projektmenedzsment | U120: =VLOOKUP(S120,kurzusok!E:G,3,FALSE) -> 21
N121: TB-0-M306LS1 | O121: Méréstechnika, 1. csoport | P121: =VLOOKUP(N121,kurzusok!E:G,3,FALSE) -> 0 | S121: BM-0-C311LE0 | T121: Információs rendszerek fejl. az ell. | U121: =VLOOKUP(S121,kurzusok!E:G,3,FALSE) -> 13
N122: TB-0-M306LS2 | O122: Méréstechnika, 2. csoport | P122: =VLOOKUP(N122,kurzusok!E:G,3,FALSE) -> 0 | S122: BM-0-C311LS1 | T122: Információs rendszerek fejl. az ell. | U122: =VLOOKUP(S122,kurzusok!E:G,3,FALSE) -> 13
N123: TB-0-M306LS5 | O123: Méréstechnika, 5. csoport | P123: =VLOOKUP(N123,kurzusok!E:G,3,FALSE) -> 0 | S123: BM-0-C312LE0 | T123: Beszerzés az ellátási láncban | U123: =VLOOKUP(S123,kurzusok!E:G,3,FALSE) -> 11
N124: TB-0-M303LE0 | O124: Gép- és szerkezeti elemek | P124: =VLOOKUP(N124,kurzusok!E:G,3,FALSE) -> 83 | S124: BM-0-C312LS1 | T124: Beszerzés az ellátási láncban | U124: =VLOOKUP(S124,kurzusok!E:G,3,FALSE) -> 11
N125: TB-0-M303LS1 | O125: Gép- és szerkezeti elemek | P125: =VLOOKUP(N125,kurzusok!E:G,3,FALSE) -> 83 | S125: BM-0-C313LE0 | T125: Készletgazdálkodás tervezése | U125: =VLOOKUP(S125,kurzusok!E:G,3,FALSE) -> 15
N126: TB-1-M309LS0 angol | O126: Műszaki szaknyelv I. | P126: =VLOOKUP(N126,kurzusok!E:G,3,FALSE) -> 78 | S126: BM-0-C313LS1 | T126: Készletgazdálkodás tervezése | U126: =VLOOKUP(S126,kurzusok!E:G,3,FALSE) -> 15
N127: TB-1-M309LS1 angol | O127: Műszaki szaknyelv I., 1. csoport | P127: =VLOOKUP(N127,kurzusok!E:G,3,FALSE) -> 0 | S127: BM-0-C314LS1 | T127: Szállítási logisztikai esettanulmányok | U127: =VLOOKUP(S127,kurzusok!E:G,3,FALSE) -> 14
N128: TB-1-M309LS2 angol | O128: Műszaki szaknyelv I., 2. csoport | P128: =VLOOKUP(N128,kurzusok!E:G,3,FALSE) -> 0 | S128: BM-0-A110LE0 | T128: Általános menedzsment | U128: =VLOOKUP(S128,kurzusok!E:G,3,FALSE) -> 3
N129: TB-1-M309LS3 angol | O129: Műszaki szaknyelv I., 3. csoport | P129: =VLOOKUP(N129,kurzusok!E:G,3,FALSE) -> 0 | S129: BM-0-A110LS1 | T129: Általános menedzsment | U129: =VLOOKUP(S129,kurzusok!E:G,3,FALSE) -> 3
...

Sheet kurzusok
A1: Tárgykód | B1: Tárgynév | C1: Félév | D1: Oktatók | E1: Kurzuskód | F1: Kurzustípus | G1: Létszám | H1: Maximális létszám
A2: SZ-M-4-C307T | B2: A content marketing eszköztára | C2: 2026/27/1 | D2: Dr. Deés Szilvia | E2: SZ-M-4-C307LE0 | F2: Elmélet | G2: 6 | H2: 30
A3: SZ-M-4-C307T | B3: A content marketing eszköztára | C3: 2026/27/1 | D3: Dr. Deés Szilvia | E3: SZ-M-4-C307LS1 | F3: Gyakorlat | G3: 6 | H3: 30
A4: B-3-C549T | B4: A kontrolling és a vezetői számvitel információtechnológiája | C4: 2026/27/1 | D4: Dr. Barna Zsolt | E4: TB-3-C549LE0 | F4: Elmélet | G4: 8 | H4: 100
A5: B-3-C549T | B5: A kontrolling és a vezetői számvitel információtechnológiája | C5: 2026/27/1 | D5: Dr. Barna Zsolt | E5: TB-3-C549LS1 | F5: Gyakorlat | G5: 8 | H5: 100
A6: B-3-C549T | B6: A kontrolling és a vezetői számvitel információtechnológiája | C6: 2026/27/1 | D6: Dr. Barna Zsolt | E6: BB-3-C549LE0 | F6: Elmélet | G6: 7 | H6: 100
A7: B-3-C549T | B7: A kontrolling és a vezetői számvitel információtechnológiája | C7: 2026/27/1 | D7: Dr. Barna Zsolt | E7: BB-3-C549LS1 | F7: Gyakorlat | G7: 7 | H7: 100
A8: K-M-0-C301T | B8: A nemzetközi kereskedelem és piac aktualitásai és trendjei | C8: 2026/27/1 | D8: Dr. Miklós Ilona | E8: BK-M-0-C301NE0 | F8: Elmélet | G8: 8 | H8: 40
A9: K-M-0-C301T | B9: A nemzetközi kereskedelem és piac aktualitásai és trendjei | C9: 2026/27/1 | D9: Dr. Miklós Ilona | E9: BK-M-0-C301NS1 | F9: Gyakorlat | G9: 8 | H9: 40
A10: M-0-C301T | B10: A nemzetközi kereskedelem és piac aktualitásai és trendjei | C10: 2026/27/1 | D10: Buda Lorina | E10: BM-0-C301LE0 | F10: Elmélet | G10: 3 | H10: 100
A11: M-0-C301T | B11: A nemzetközi kereskedelem és piac aktualitásai és trendjei | C11: 2026/27/1 | D11: Buda Lorina | E11: BM-0-C301LS1 | F11: Gyakorlat | G11: 3 | H11: 100
A12: SZ-M-0-C301T | B12: A nemzetközi kereskedelem és piac aktualitásai és trendjei | C12: 2026/27/1 | D12: Dr. Vigh László | E12: SZ-M-0-C301LE0 | F12: Elmélet | G12: 6 | H12: 30
A13: SZ-M-0-C301T | B13: A nemzetközi kereskedelem és piac aktualitásai és trendjei | C13: 2026/27/1 | D13: Dr. Vigh László | E13: SZ-M-0-C301LS1 | F13: Gyakorlat | G13: 6 | H13: 30
... A36: B-4-C201T | B36: Általános nyelv III. | C36: 2026/27/1 | D36: Dr. Keszthelyi Csaba László | E36: BB-4-C201NS1 | F36: Gyakorlat | G36: 3 | H36: 15
A37: B-0-M301T | B37: Analóg és digitális elektronika | C37: 2026/27/1 | E37: TB-0-M301NE0 | F37: Elmélet | G37: 14 | H37: 20
A38: B-0-M301T | B38: Analóg és digitális elektronika | C38: 2026/27/1 | E38: TB-0-M301NS1 | F38: Gyakorlat | G38: 14 | H38: 20
A39: B-0-M301T | B39: Analóg és digitális elektronika | C39: 2026/27/1 | E39: TB-0-M301NL1 | F39: Labor | G39: 14 | H39: 20
A40: B-0-M301T | B40: Analóg és digitális elektronika | C40: 2026/27/1 | D40: Böcz Gábor | E40: TB-0-M301LE0 | F40: Elmélet | G40: 103 | H40: 200
A41: B-0-M301T | B41: Analóg és digitális elektronika | C41: 2026/27/1 | D41: Böcz Gábor | E41: TB-0-M301LS1 | F41: Gyakorlat | G41: 103 | H41: 200
A42: B-1-A103T | B42: Angol gazdasági szaknyelv I. | C42: 2026/27/1 | D42: Balog Mónika | E42: TB-1-A103NS1 | F42: Gyakorlat | G42: 16 | H42: 18
A43: B-1-A103T | B43: Angol gazdasági szaknyelv I. | C43: 2026/27/1 | D43: Balog Mónika | E43: TB-1-A103NS2 | F43: Gyakorlat | G43: 0 | H43: 0
A44: B-1-A103T | B44: Angol gazdasági szaknyelv I. | C44: 2026/27/1 | D44: Gellért Judit Márta | E44: BB-1-A103NS1 | F44: Gyakorlat | G44: 24 | H44: 25
A45: B-1-A103T | B45: Angol gazdasági szaknyelv I. | C45: 2026/27/1 | D45: Gellért Judit Márta | E45: BB-1-A103NS2 | F45: Gyakorlat | G45: 21 | H45: 25
A46: B-1-A103T | B46: Angol gazdasági szaknyelv I. | C46: 2026/27/1 | D46: Gellért Judit Márta | E46: BB-1-A103NS3 | F46: Gyakorlat | G46: 21 | H46: 25
A47: B-1-A103T | B47: Angol gazdasági szaknyelv I. | C47: 2026/27/1 | D47: Gellért Judit Márta | E47: BB-1-A103NS4 | F47: Gyakorlat | G47: 24 | H47: 25
A48: B-1-A103T | B48: Angol gazdasági szaknyelv I. | C48: 2026/27/1 | D48: Gellért Judit Márta | E48: BB-1-A103NS5 | F48: Gyakorlat | G48: 16 | H48: 25
A49: K-B-1-A103T | B49: Angol gazdasági szaknyelv I. | C49: 2026/27/1 | D49: Balog Mónika | E49: BK-B-1-A103NS1 | F49: Gyakorlat | G49: 1 | H49: 20
A50: B-1-A103T | B50: Angol gazdasági szaknyelv I. | C50: 2026/27/1 | E50: TB-1-A103LS0 | F50: Elmélet | G50: 0 | H50: 100
A51: B-1-A103T | B51: Angol gazdasági szaknyelv I. | C51: 2026/27/1 | D51: Nagy Mónika | E51: TB-1-A103LS1 | F51: Gyakorlat | G51: 0 | H51: 100
A52: B-1-A103T | B52: Angol gazdasági szaknyelv I. | C52: 2026/27/1 | D52: Krupánszkyné Léhárt Marianna | E52: TB-1-A103LS2 | F52: Gyakorlat | G52: 22 | H52: 100
A53: B-1-A103T | B53: Angol gazdasági szaknyelv I. | C53: 2026/27/1 | E53: BB-1-A103LS0 | F53: Gyakorlat | G53: 0 | H53: 100
A54: B-1-A103T | B54: Angol gazdasági szaknyelv I. | C54: 2026/27/1 | D54: Steiner Imre | E54: BB-1-A103LS1 | F54: Gyakorlat | G54: 21 | H54: 100
A55: B-1-A103T | B55: Angol gazdasági szaknyelv I. | C55: 2026/27/1 | D55: Steiner Imre | E55: BB-1-A103LS2 | F55: Gyakorlat | G55: 19 | H55: 100
A56: SZ-B-1-A103T | B56: Angol gazdasági szaknyelv I. | C56: 2026/27/1 | D56: Márton Mária | E56: SZ-B-1-A103LS1 angol | F56: Szeminárium | G56: 22 | H56: 50
A57: B-1-A103T | B57: Angol gazdasági szaknyelv I. | C57: 2026/27/1 | D57: Steiner Imre | E57: BB-1-A103NS6 | F57: Gyakorlat | G57: 16 | H57: 25
A58: B-1-A103T | B58: Angol gazdasági szaknyelv I. | C58: 2026/27/1 | D58: Steiner Imre | E58: BB-1-A103NS7 | F58: Gyakorlat | G58: 12 | H58: 25
A59: B-1-A103T | B59: Angol gazdasági szaknyelv I. | C59: 2026/27/1 | D59: Steiner Imre | E59: BB-1-A103LS3 | F59: Gyakorlat | G59: 17 | H59: 100
A60: B-1-A103T | B60: Angol gazdasági szaknyelv I. | C60: 2026/27/1 | D60: Steiner Imre | E60: TB-1-A103LS3 | F60: Gyakorlat | G60: 4 | H60: 100
A61: B-1-A202T | B61: Angol gazdasági szaknyelv II. | C61: 2026/27/1 | D61: Balog Mónika | E61: TB-1-A202LS1 | F61: Gyakorlat | G61: 10 | H61: 100
A62: B-1-A202T | B62: Angol gazdasági szaknyelv II. | C62: 2026/27/1 | D62: Balog Mónika | E62: BB-1-A202LS1 | F62: Gyakorlat | G62: 20 | H62: 100
A63: B-8-A111T | B63: Angol nyelvi szintfelmérő | C63: 2026/27/1 | E63: BB-8-A111LS1 | F63: Gyakorlat | G63: 79 | H63: 220
A64: B-8-A111T | B64: Angol nyelvi szintfelmérő | C64: 2026/27/1 | E64: BB-8-A111NS1 | F64: Gyakorlat | G64: 160 | H64: 220
A65: B-8-A111T | B65: Angol nyelvi szintfelmérő | C65: 2026/27/1 | E65: TB-8-A111LS1 | F65: Gyakorlat | G65: 36 | H65: 220
A66: B-8-A111T | B66: Angol nyelvi szintfelmérő | C66: 2026/27/1 | E66: TB-8-A111NS1 | F66: Gyakorlat | G66: 28 | H66: 220
A67: F-0-C101T | B67: Anyagismeret a gyakorlatban | C67: 2026/27/1 | D67: Szabó Veronika Anna | E67: TF-0-C101LE0 | F67: Elmélet | G67: 15 | H67: 100
A68: F-0-C101T | B68: Anyagismeret a gyakorlatban | C68: 2026/27/1 | D68: Szabó Veronika Anna | E68: TF-0-C101LS1 | F68: Gyakorlat | G68: 15 | H68: 100
A69: ERN-0-0063T | B69: Applied Statistics | C69: 2026/27/1 | D69: Piroska László | E69: BERN-0-0063NE0 | F69: Elmélet | G69: 5 | H69: 30
A70: F-0-D302T | B70: Áruforgalmi ismeretek | C70: 2026/27/1 | D70: Dr. Várnai Ibolya | E70: BF-0-D302LE0 | F70: Elmélet | G70: 7 | H70: 100
A71: F-0-D302T | B71: Áruforgalmi ismeretek | C71: 2026/27/1 | D71: Dr. Várnai Ibolya | E71: BF-0-D302LS1 | F71: Gyakorlat | G71: 7 | H71: 100
A72: B-4-M708T | B72: Beruházási ismeretek | C72: 2026/27/1 | D72: Dr. Kárpáti-Daróczi Judit | E72: TB-4-M708LE0 | F72: Elmélet | G72: 19 | H72: 100
A73: M-0-A111T | B73: Beruházások elemzése | C73: 2026/27/1 | D73: Dr. Kárpáti-Daróczi Judit | E73: BM-0-A111LE0 | F73: Elmélet | G73: 13 | H73: 100
A74: M-0-A111T | B74: Beruházások elemzése | C74: 2026/27/1 | D74: Dr. Kárpáti-Daróczi Judit | E74: BM-0-A111LS1 | F74: Gyakorlat | G74: 13 | H74: 100
A75: B-3-M501T | B75: Beruházással, üzemeltetéssel kapcsolatos jogi ismeretek | C75: 2026/27/1 | D75: Dr. Zalahegyi Zoltán | E75: TB-3-M501T/(vk) | F75: Vizsgakurzus | G75: 1 | H75: 100
A76: M-0-C312T | B76: Beszerzés az ellátási láncban | C76: 2026/27/1 | D76: dr. Mészáros Sándor | E76: BM-0-C312LE0 | F76: Elmélet | G76: 11 | H76: 100
A77: M-0-C312T | B77: Beszerzés az ellátási láncban | C77: 2026/27/1 | D77: dr. Mészáros Sándor | E77: BM-0-C312LS1 | F77: Gyakorlat | G77: 11 | H77: 100
A78: F-0-D303T | B78: Beszerzés és készletgazdálkodás | C78: 2026/27/1 | D78: dr. Mészáros Sándor | E78: BF-0-D303LE0 | F78: Elmélet | G78: 7 | H78: 100
... A106: ML-8-8888T | B106: Diplomamunka | C106: 2026/27/1 | D106: Kökényesi Flóra | E106: BML-8-8888T | F106: Gyakorlat | G106: 4 | H106: 20
A107: K-M-8-8888T | B107: Diplomamunka / Master's Thesis | C107: 2026/27/1 | E107: BK-M-8-8888T | F107: Gyakorlat | G107: 3 | H107: 40
A108: K-M-0-A101T | B108: Döntéselmélet és módszertan | C108: 2026/27/1 | D108: Kovács Gergely | E108: BK-M-0-A101NE0 | F108: Elmélet | G108: 3 | H108: 100
A109: K-M-0-A101T | B109: Döntéselmélet és módszertan | C109: 2026/27/1 | D109: Kovács Gergely | E109: BK-M-0-A101NS1 | F109: Gyakorlat | G109: 3 | H109: 100
A110: M-0-A114T | B110: Döntéselmélet és módszertan | C110: 2026/27/1 | D110: Kovács Gergely | E110: BM-0-A114LE0 | F110: Elmélet | G110: 8 | H110: 100
A111: M-0-A114T | B111: Döntéselmélet és módszertan | C111: 2026/27/1 | D111: Kovács Gergely | E111: BM-0-A114LS1 | F111: Gyakorlat | G111: 8 | H111: 100
A112: SZ-M-0-A114T | B112: Döntéselmélet és módszertan | C112: 2026/27/1 | D112: Kovács Gergely | E112: SZ-M-0-A114LE0 | F112: Elmélet | G112: 9 | H112: 30
A113: SZ-M-0-A114T | B113: Döntéselmélet és módszertan | C113: 2026/27/1 | D113: Kovács Gergely | E113: SZ-M-0-A114LS1 | F113: Gyakorlat | G113: 9 | H113: 30
A114: B-0-M101T | B114: Elektrotechnika I. | C114: 2026/27/1 | D114: Varga István | E114: TB-0-M101NE0 | F114: Elmélet | G114: 19 | H114: 30
A115: B-0-M101T | B115: Elektrotechnika I. | C115: 2026/27/1 | D115: Varga István | E115: TB-0-M101NS1 | F115: Gyakorlat | G115: 19 | H115: 30
A116: B-0-M101T | B116: Elektrotechnika I. | C116: 2026/27/1 | D116: Varga István | E116: TB-0-M101NL1 | F116: Labor | G116: 19 | H116: 30
A117: B-0-M101T | B117: Elektrotechnika I. | C117: 2026/27/1 | D117: Varga István | E117: TB-0-M101LE0 | F117: Elmélet | G117: 83 | H117: 200
A118: B-0-M101T | B118: Elektrotechnika I. | C118: 2026/27/1 | D118: Varga István | E118: TB-0-M101LS1 | F118: Gyakorlat | G118: 83 | H118: 200
A119: B-0-M202T | B119: Elektrotechnika II. | C119: 2026/27/1 | D119: Varga István | E119: TB-0-M202T(vk) | F119: Vizsgakurzus | G119: 1 | H119: 100
... A126: M-4-D407T | B126: Emberi erőforrás gazdálkodás termelő vállalatoknál | C126: 2026/27/1 | D126: Gyalogos Norbert | E126: TM-4-D407LS1 | F126: Gyakorlat | G126: 4 | H126: 100
A127: B-4-C244T | B127: Én, a Brand - sportolói énmárka építés | C127: 2026/27/1 | E127: TB-4-C244LE0 | F127: Elmélet | G127: 24 | H127: 100
A128: B-4-C244T | B128: Én, a Brand - sportolói énmárka építés | C128: 2026/27/1 | E128: TB-4-C244LS1 | F128: Gyakorlat | G128: 23 | H128: 100
A129: B-4-C244T | B129: Én, a Brand - sportolói énmárka építés | C129: 2026/27/1 | E129: BB-4-C244LE0 | F129: Elmélet | G129: 20 | H129: 100
A130: B-4-C244T | B130: Én, a Brand - sportolói énmárka építés | C130: 2026/27/1 | E130: BB-4-C244LS1 | F130: Gyakorlat | G130: 20 | H130: 100
A131: B-0-M401T | B131: Energiagazdálkodás | C131: 2026/27/1 | D131: Dr. Nagy Judit | E131: TB-0-M401T(vk) | F131: Vizsgakurzus | G131: 2 | H131: 100
A132: M-0-C308T | B132: Energiamenedzsment és fenntarthatóság | C132: 2026/27/1 | D132: Molnárné Dőry Zsófia | E132: TM-0-C308LE0 | F132: Elmélet | G132: 5 | H132: 100
A133: M-0-C308T | B133: Energiamenedzsment és fenntarthatóság | C133: 2026/27/1 | D133: Molnárné Dőry Zsófia | E133: TM-0-C308LS1 | F133: Gyakorlat | G133: 5 | H133: 100
A134: B-3-M503T | B134: Építőanyagok, építéssel kapcsolatos előírások | C134: 2026/27/1 | D134: Tarján Gábor | E134: TB-3-M503LE0 | F134: Elmélet | G134: 8 | H134: 100
A135: B-3-M503T | B135: Építőanyagok, építéssel kapcsolatos előírások | C135: 2026/27/1 | D135: Tarján Gábor | E135: TB-3-M503LS1 | F135: Gyakorlat | G135: 8 | H135: 100
A136: M-0-C309T | B136: Épületek műszaki szolgáltatásainak irányítása | C136: 2026/27/1 | D136: Molnárné Dőry Zsófia | E136: TM-0-C309LE0 | F136: Elmélet | G136: 5 | H136: 100
A137: M-0-C309T | B137: Épületek műszaki szolgáltatásainak irányítása | C137: 2026/27/1 | D137: Molnárné Dőry Zsófia | E137: TM-0-C309LS1 | F137: Gyakorlat | G137: 5 | H137: 100
A138: B-5-M601T | B138: Épületenergetika | C138: 2026/27/1 | D138: Dr. Nagy Judit | E138: TB-5-M601LE0 | F138: Elmélet | G138: 10 | H138: 100
A139: B-5-M601T | B139: Épületenergetika | C139: 2026/27/1 | D139: Dr. Nagy Judit | E139: TB-5-M601LS1 | F139: Gyakorlat | G139: 10 | H139: 100
A140: B-3-M701T | B140: Épületszolgáltatások irányítása | C140: 2026/27/1 | D140: Molnárné Dőry Zsófia | E140: TB-3-M701LE0 | F140: Elmélet | G140: 8 | H140: 100
A141: B-3-M701T | B141: Épületszolgáltatások irányítása | C141: 2026/27/1 | D141: Molnárné Dőry Zsófia | E141: TB-3-M701LS1 | F141: Gyakorlat | G141: 8 | H141: 100
A142: B-3-M504T | B142: Épületvillamosság és világítástechnika | C142: 2026/27/1 | D142: Baksa Dániel Gergely | E142: TB-3-M504LE0 | F142: Elmélet | G142: 8 | H142: 100
... A162: B-5-B301T | B162: EU tanulmányok | C162: 2026/27/1 | D162: Dr. Vigh László | E162: BB-5-B301NE2 | F162: Elmélet | G162: 45 | H162: 45
A163: ED-OO-003 | B163: Félévkezdési tájékoztató | C163: 2026/27/1 | E163: BED-OO-003LE0 | F163: Elmélet | G163: 146 | H163: 500
A164: ED-OO-003 | B164: Félévkezdési tájékoztató | C164: 2026/27/1 | E164: TED-OO-003LE0 | F164: Elmélet | G164: 198 | H164: 500
A165: B-3-M515T | B165: Fémtan | C165: 2026/27/1 | D165: Dr. Peredy Zoltán Sándor | E165: TB-3-M515LE0 | F165: Elmélet | G165: 14 | H165: 100
A166: B-3-M515T | B166: Fémtan | C166: 2026/27/1 | D166: Dr. Peredy Zoltán Sándor | E166: TB-3-M515LS1 | F166: Gyakorlat | G166: 14 | H166: 100
A167: M-0-B104T | B167: Fenntarthatóság | C167: 2026/27/1 | D167: Dr. Nagy Judit | E167: BM-0-B104LE0 | F167: Elmélet | G167: 11 | H167: 100
A168: M-0-B303T | B168: Fenntarthatóság a projektmenedzsmentben | C168: 2026/27/1 | D168: Szabó Veronika Anna | E168: BM-0-B303LE0 | F168: Elmélet | G168: 15 | H168: 100
A169: B-5-M702T | B169: Folyamatok fejlesztése - Six Sigma | C169: 2026/27/1 | D169: Csrenkovics Antónia | E169: TB-5-M702LE0 | F169: Elmélet | G169: 32 | H169: 100
A170: B-5-M702T | B170: Folyamatok fejlesztése - Six Sigma | C170: 2026/27/1 | D170: Csrenkovics Antónia | E170: TB-5-M702LS1 | F170: Gyakorlat | G170: 32 | H170: 100
A171: B-3-M505T | B171: Folyamatok modellezése | C171: 2026/27/1 | E171: TB-3-M505NE0 | F171: Elmélet | G171: 0 | H171: 20
A172: B-3-M505T | B172: Folyamatok modellezése | C172: 2026/27/1 | E172: TB-3-M505NS1 | F172: Gyakorlat | G172: 0 | H172: 20
A173: B-3-M505T | B173: Folyamatok modellezése | C173: 2026/27/1 | E173: TB-3-M505NL1 | F173: Labor | G173: 0 | H173: 20
A174: B-3-M505T | B174: Folyamatok modellezése | C174: 2026/27/1 | D174: Böcz Gábor | E174: TB-3-M505LE0 | F174: Elmélet | G174: 29 | H174: 100
...

Sheet Bp. terem
A1: 207 | D1: szombat
B2: 905 | C2: 912 | D2: 919 | E2: 926 | F2: 1003 | G2: 1010 | H2: 1017 | I2: 1024 | J2: 1031 | K2: 1107 | L2: 1114 | M2: 1121 | N2: 1128 | O2: 1205 | P2: 1212
A3: sáv | B3: szept. 5. | C3: szept. 12. | D3: szept. 19. | E3: szept. 26. | F3: október 3. | G3: október 10. | H3: október 17. | I3: október 24. | J3: október 31. | K3: nov. 7. | L3: nov. 14. | M3: nov. 21. | N3: nov. 28. | O3: dec. 5. | P3: dec. 12.
A4: 8.00 - 9.30 | B4: =IFERROR(VLOOKUP(CONCATENATE($A$1,B$2,$Q4),Alap!$A:$B,2,FALSE),"") -> Turisztikai szoftverek - Krompaszky Gábor (gépterem, web) 3 | C4: =IFERROR(VLOOKUP(CONCATENATE($A$1,C$2,$Q4),Alap!$A:$B,2,FALSE),"") -> Kutatásmódszertan - Tóth Zsuzsanna (gépterem, web) 32 | D4: =IFERROR(VLOOKUP(CONCATENATE($A$1,D$2,$Q4),Alap!$A:$B,2,FALSE),"") -> Business Intelligence - Dobos Ádám (Bp.-ről web) 12 | E4: =IFERROR(VLOOKUP(CONCATENATE($A$1,E$2,$Q4),Alap!$A:$B,2,FALSE),"") -> Informatika, 2. csoport - Dobos Ádám (gépterem, web) 12 | F4: =IFERROR(VLOOKUP(CONCATENATE($A$1,F$2,$Q4),Alap!$A:$B,2,FALSE),"") -> Modern ipari IT megoldások - Sas Zoltán (gépterem, web) 14 | G4: =IFERROR(VLOOKUP(CONCATENATE($A$1,G$2,$Q4),Alap!$A:$B,2,FALSE),"") -> Informatika, 1. csoport - Dobos Ádám (gépterem, web) 6 | H4: =IFERROR(VLOOKUP(CONCATENATE($A$1,H$2,$Q4),Alap!$A:$B,2,FALSE),"") -> Business Intelligence - Dobos Ádám (Tb.-ről web) 12 | I4: =IFERROR(VLOOKUP(CONCATENATE($A$1,I$2,$Q4),Alap!$A:$B,2,FALSE),"") | ... P4: =IFERROR(VLOOKUP(CONCATENATE($A$1,P$2,$Q4),Alap!$A:$B,2,FALSE),"") -> Információs rendszerek fejl. az ell. - Szabó László (gépterem, web) 13 | Q4: 1
A5: 9.45 - 11.15 | B5: =IFERROR(VLOOKUP(CONCATENATE($A$1,B$2,$Q5),Alap!$A:$B,2,FALSE),"") -> Turisztikai szoftverek - Krompaszky Gábor (gépterem, web) 3 | C5: =IFERROR(VLOOKUP(CONCATENATE($A$1,C$2,$Q5),Alap!$A:$B,2,FALSE),"") -> Kutatásmódszertan - Tóth Zsuzsanna (gépterem, web) 32 | D5: =IFERROR(VLOOKUP(CONCATENATE($A$1,D$2,$Q5),Alap!$A:$B,2,FALSE),"") -> Business Intelligence - Dobos Ádám (Bp.-ről web) 12 | E5: =IFERROR(VLOOKUP(CONCATENATE($A$1,E$2,$Q5),Alap!$A:$B,2,FALSE),"") -> Informatika, 2. csoport - Dobos Ádám (gépterem, web) 12 | F5: =IFERROR(VLOOKUP(CONCATENATE($A$1,F$2,$Q5),Alap!$A:$B,2,FALSE),"") -> Modern ipari IT megoldások - Sas Zoltán (gépterem, web) 14 | G5: =IFERROR(VLOOKUP(CONCATENATE($A$1,G$2,$Q5),Alap!$A:$B,2,FALSE),"") -> Informatika, 1. csoport - Dobos Ádám (gépterem, web) 6 | H5: =IFERROR(VLOOKUP(CONCATENATE($A$1,H$2,$Q5),Alap!$A:$B,2,FALSE),"") -> Business Intelligence - Dobos Ádám (Tb.-ről web) 12 | I5: =IFERROR(VLOOKUP(CONCATENATE($A$1,I$2,$Q5),Alap!$A:$B,2,FALSE),"") | ... P5: =IFERROR(VLOOKUP(CONCATENATE($A$1,P$2,$Q5),Alap!$A:$B,2,FALSE),"") -> Információs rendszerek fejl. az ell. - Szabó László (gépterem, web) 13 | Q5: 2
A6: 11.30 - 13.00 | B6: =IFERROR(VLOOKUP(CONCATENATE($A$1,B$2,$Q6),Alap!$A:$B,2,FALSE),"") -> Szálloda fejlesztés és üzem. - Krompaszky Gábor (web) 4 | C6: =IFERROR(VLOOKUP(CONCATENATE($A$1,C$2,$Q6),Alap!$A:$B,2,FALSE),"") | D6: =IFERROR(VLOOKUP(CONCATENATE($A$1,D$2,$Q6),Alap!$A:$B,2,FALSE),"") | E6: =IFERROR(VLOOKUP(CONCATENATE($A$1,E$2,$Q6),Alap!$A:$B,2,FALSE),"") -> Informatika, 1. csoport - Dobos Ádám (gépterem, web) 6 | F6: =IFERROR(VLOOKUP(CONCATENATE($A$1,F$2,$Q6),Alap!$A:$B,2,FALSE),"") -> Ökológiai gazdaságtan - Barócsi Zoltán (web) 7 | G6: =IFERROR(VLOOKUP(CONCATENATE($A$1,G$2,$Q6),Alap!$A:$B,2,FALSE),"") -> Informatika, 2. csoport - Dobos Ádám (gépterem, web) 12 | H6: =IFERROR(VLOOKUP(CONCATENATE($A$1,H$2,$Q6),Alap!$A:$B,2,FALSE),"") -> Turisztikai szoftverek - Krompaszky Gábor (gépterem, web) 3 | I6: =IFERROR(VLOOKUP(CONCATENATE($A$1,I$2,$Q6),Alap!$A:$B,2,FALSE),"") | ... P6: =IFERROR(VLOOKUP(CONCATENATE($A$1,P$2,$Q6),Alap!$A:$B,2,FALSE),"") -> Információs rendszerek fejl. az ell. - Szabó László (gépterem, web) 13 | Q6: 3
A7: 13.30 - 15.00 | B7: =IFERROR(VLOOKUP(CONCATENATE($A$1,B$2,$Q7),Alap!$A:$B,2,FALSE),"") | C7: =IFERROR(VLOOKUP(CONCATENATE($A$1,C$2,$Q7),Alap!$A:$B,2,FALSE),"") | D7: =IFERROR(VLOOKUP(CONCATENATE($A$1,D$2,$Q7),Alap!$A:$B,2,FALSE),"") -> Döntéselmélet és módszertan - Kovács Gergely (gépterem, web) 8 | E7: =IFERROR(VLOOKUP(CONCATENATE($A$1,E$2,$Q7),Alap!$A:$B,2,FALSE),"") -> Informatika, 1. csoport - Dobos Ádám (gépterem, web) 6 | F7: =IFERROR(VLOOKUP(CONCATENATE($A$1,F$2,$Q7),Alap!$A:$B,2,FALSE),"") | G7: =IFERROR(VLOOKUP(CONCATENATE($A$1,G$2,$Q7),Alap!$A:$B,2,FALSE),"") -> Informatika, 2. csoport - Dobos Ádám (gépterem, web) 12 | H7: =IFERROR(VLOOKUP(CONCATENATE($A$1,H$2,$Q7),Alap!$A:$B,2,FALSE),"") -> Turisztikai szoftverek - Krompaszky Gábor (gépterem, web) 3 | I7: =IFERROR(VLOOKUP(CONCATENATE($A$1,I$2,$Q7),Alap!$A:$B,2,FALSE),"") | ... P7: =IFERROR(VLOOKUP(CONCATENATE($A$1,P$2,$Q7),Alap!$A:$B,2,FALSE),"") | Q7: 4
A8: 15.15 - 16.45 | B8: =IFERROR(VLOOKUP(CONCATENATE($A$1,B$2,$Q8),Alap!$A:$B,2,FALSE),"") | C8: =IFERROR(VLOOKUP(CONCATENATE($A$1,C$2,$Q8),Alap!$A:$B,2,FALSE),"") | D8: =IFERROR(VLOOKUP(CONCATENATE($A$1,D$2,$Q8),Alap!$A:$B,2,FALSE),"") -> Döntéselmélet és módszertan - Kovács Gergely (gépterem, web) 8 | E8: =IFERROR(VLOOKUP(CONCATENATE($A$1,E$2,$Q8),Alap!$A:$B,2,FALSE),"") | F8: =IFERROR(VLOOKUP(CONCATENATE($A$1,F$2,$Q8),Alap!$A:$B,2,FALSE),"") | G8: =IFERROR(VLOOKUP(CONCATENATE($A$1,G$2,$Q8),Alap!$A:$B,2,FALSE),"") | H8: =IFERROR(VLOOKUP(CONCATENATE($A$1,H$2,$Q8),Alap!$A:$B,2,FALSE),"") -> Döntéselmélet és módszertan - Kovács Gergely (gépterem, web) 8 | I8: =IFERROR(VLOOKUP(CONCATENATE($A$1,I$2,$Q8),Alap!$A:$B,2,FALSE),"") | ... P8: =IFERROR(VLOOKUP(CONCATENATE($A$1,P$2,$Q8),Alap!$A:$B,2,FALSE),"") | Q8: 5
A9: 17.00 - 18.30 | B9: =IFERROR(VLOOKUP(CONCATENATE($A$1,B$2,$Q9),Alap!$A:$B,2,FALSE),"") | C9: =IFERROR(VLOOKUP(CONCATENATE($A$1,C$2,$Q9),Alap!$A:$B,2,FALSE),"") | D9: =IFERROR(VLOOKUP(CONCATENATE($A$1,D$2,$Q9),Alap!$A:$B,2,FALSE),"") | E9: =IFERROR(VLOOKUP(CONCATENATE($A$1,E$2,$Q9),Alap!$A:$B,2,FALSE),"") | F9: =IFERROR(VLOOKUP(CONCATENATE($A$1,F$2,$Q9),Alap!$A:$B,2,FALSE),"") | G9: =IFERROR(VLOOKUP(CONCATENATE($A$1,G$2,$Q9),Alap!$A:$B,2,FALSE),"") | H9: =IFERROR(VLOOKUP(CONCATENATE($A$1,H$2,$Q9),Alap!$A:$B,2,FALSE),"") | I9: =IFERROR(VLOOKUP(CONCATENATE($A$1,I$2,$Q9),Alap!$A:$B,2,FALSE),"") | ... P9: =IFERROR(VLOOKUP(CONCATENATE($A$1,P$2,$Q9),Alap!$A:$B,2,FALSE),"") | Q9: 6
B10: =B2-1 -> 904 | C10: =C2-1 -> 911 | D10: =D2-1 -> 918 | E10: =E2-1 -> 925 | F10: =F2-1 -> 1002 | G10: =G2-1 -> 1009 | H10: =H2-1 -> 1016 | I10: =I2-1 -> 1023 | ... P10: =P2-1 -> 1211
A11: péntek
A12: sáv | B12: szept. 4. | C12: szept. 11. | D12: szept. 18. | E12: szept. 25. | F12: október 2. | G12: október 9. | H12: október 16. | I12: október 23. | J12: október 30. | K12: nov. 6. | L12: nov. 13. | M12: nov. 20. | N12: nov. 27. | O12: dec. 4. | P12: dec. 11.
A13: 13.30 - 15.00 | B13: =IFERROR(VLOOKUP(CONCATENATE($A$1,B$10,$Q13),Alap!$A:$B,2,FALSE),"") | C13: =IFERROR(VLOOKUP(CONCATENATE($A$1,C$10,$Q13),Alap!$A:$B,2,FALSE),"") | D13: =IFERROR(VLOOKUP(CONCATENATE($A$1,D$10,$Q13),Alap!$A:$B,2,FALSE),"") | E13: =IFERROR(VLOOKUP(CONCATENATE($A$1,E$10,$Q13),Alap!$A:$B,2,FALSE),"") | F13: =IFERROR(VLOOKUP(CONCATENATE($A$1,F$10,$Q13),Alap!$A:$B,2,FALSE),"") | G13: =IFERROR(VLOOKUP(CONCATENATE($A$1,G$10,$Q13),Alap!$A:$B,2,FALSE),"") | H13: =IFERROR(VLOOKUP(CONCATENATE($A$1,H$10,$Q13),Alap!$A:$B,2,FALSE),"") | I13: =IFERROR(VLOOKUP(CONCATENATE($A$1,I$10,$Q13),Alap!$A:$B,2,FALSE),"") | ... P13: =IFERROR(VLOOKUP(CONCATENATE($A$1,P$10,$Q13),Alap!$A:$B,2,FALSE),"") | Q13: 4
A14: 15.15 - 16.45 | B14: =IFERROR(VLOOKUP(CONCATENATE($A$1,B$10,$Q14),Alap!$A:$B,2,FALSE),"") | C14: =IFERROR(VLOOKUP(CONCATENATE($A$1,C$10,$Q14),Alap!$A:$B,2,FALSE),"") | D14: =IFERROR(VLOOKUP(CONCATENATE($A$1,D$10,$Q14),Alap!$A:$B,2,FALSE),"") | E14: =IFERROR(VLOOKUP(CONCATENATE($A$1,E$10,$Q14),Alap!$A:$B,2,FALSE),"") | F14: =IFERROR(VLOOKUP(CONCATENATE($A$1,F$10,$Q14),Alap!$A:$B,2,FALSE),"") | G14: =IFERROR(VLOOKUP(CONCATENATE($A$1,G$10,$Q14),Alap!$A:$B,2,FALSE),"") | H14: =IFERROR(VLOOKUP(CONCATENATE($A$1,H$10,$Q14),Alap!$A:$B,2,FALSE),"") | I14: =IFERROR(VLOOKUP(CONCATENATE($A$1,I$10,$Q14),Alap!$A:$B,2,FALSE),"") | ... P14: =IFERROR(VLOOKUP(CONCATENATE($A$1,P$10,$Q14),Alap!$A:$B,2,FALSE),"") | Q14: 5
A15: 17.00 - 18.30 | B15: =IFERROR(VLOOKUP(CONCATENATE($A$1,B$10,$Q15),Alap!$A:$B,2,FALSE),"") | C15: =IFERROR(VLOOKUP(CONCATENATE($A$1,C$10,$Q15),Alap!$A:$B,2,FALSE),"") | D15: =IFERROR(VLOOKUP(CONCATENATE($A$1,D$10,$Q15),Alap!$A:$B,2,FALSE),"") | E15: =IFERROR(VLOOKUP(CONCATENATE($A$1,E$10,$Q15),Alap!$A:$B,2,FALSE),"") | F15: =IFERROR(VLOOKUP(CONCATENATE($A$1,F$10,$Q15),Alap!$A:$B,2,FALSE),"") | G15: =IFERROR(VLOOKUP(CONCATENATE($A$1,G$10,$Q15),Alap!$A:$B,2,FALSE),"") | H15: =IFERROR(VLOOKUP(CONCATENATE($A$1,H$10,$Q15),Alap!$A:$B,2,FALSE),"") | I15: =IFERROR(VLOOKUP(CONCATENATE($A$1,I$10,$Q15),Alap!$A:$B,2,FALSE),"") | ... P15: =IFERROR(VLOOKUP(CONCATENATE($A$1,P$10,$Q15),Alap!$A:$B,2,FALSE),"") | Q15: 6
A16: 18.45 - 20.15 | B16: =IFERROR(VLOOKUP(CONCATENATE($A$1,B$10,$Q16),Alap!$A:$B,2,FALSE),"") | C16: =IFERROR(VLOOKUP(CONCATENATE($A$1,C$10,$Q16),Alap!$A:$B,2,FALSE),"") | D16: =IFERROR(VLOOKUP(CONCATENATE($A$1,D$10,$Q16),Alap!$A:$B,2,FALSE),"") | E16: =IFERROR(VLOOKUP(CONCATENATE($A$1,E$10,$Q16),Alap!$A:$B,2,FALSE),"") | F16: =IFERROR(VLOOKUP(CONCATENATE($A$1,F$10,$Q16),Alap!$A:$B,2,FALSE),"") | G16: =IFERROR(VLOOKUP(CONCATENATE($A$1,G$10,$Q16),Alap!$A:$B,2,FALSE),"") | H16: =IFERROR(VLOOKUP(CONCATENATE($A$1,H$10,$Q16),Alap!$A:$B,2,FALSE),"") | I16: =IFERROR(VLOOKUP(CONCATENATE($A$1,I$10,$Q16),Alap!$A:$B,2,FALSE),"") | ... P16: =IFERROR(VLOOKUP(CONCATENATE($A$1,P$10,$Q16),Alap!$A:$B,2,FALSE),"") | Q16: 7

Sheet Tb. terem
A1: 1 | D1: szombat
B2: 905 | C2: 912 | D2: 919 | E2: 926 | F2: 1003 | G2: 1010 | H2: 1017 | I2: 1024 | J2: 1031 | K2: 1107 | L2: 1114 | M2: 1121 | N2: 1128 | O2: 1205 | P2: 1212
A3: sáv | B3: szept. 5. | C3: szept. 12. | D3: szept. 19. | E3: szept. 26. | F3: október 3. | G3: október 10. | H3: október 17. | I3: október 24. | J3: október 31. | K3: nov. 7. | L3: nov. 14. | M3: nov. 21. | N3: nov. 28. | O3: dec. 5. | P3: dec. 12.
A4: 8.00 - 9.30 | B4: =IFERROR(VLOOKUP(CONCATENATE($A$1,B$2,$Q4),Alap!$C:$D,2,FALSE),"") | C4: =IFERROR(VLOOKUP(CONCATENATE($A$1,C$2,$Q4),Alap!$C:$D,2,FALSE),"") | D4: =IFERROR(VLOOKUP(CONCATENATE($A$1,D$2,$Q4),Alap!$C:$D,2,FALSE),"") | E4: =IFERROR(VLOOKUP(CONCATENATE($A$1,E$2,$Q4),Alap!$C:$D,2,FALSE),"") | F4: =IFERROR(VLOOKUP(CONCATENATE($A$1,F$2,$Q4),Alap!$C:$D,2,FALSE),"") -> Hidraulika, pneumatika alapjai - Baksa Dániel 12 | G4: =IFERROR(VLOOKUP(CONCATENATE($A$1,G$2,$Q4),Alap!$C:$D,2,FALSE),"") | H4: =IFERROR(VLOOKUP(CONCATENATE($A$1,H$2,$Q4),Alap!$C:$D,2,FALSE),"") | I4: =IFERROR(VLOOKUP(CONCATENATE($A$1,I$2,$Q4),Alap!$C:$D,2,FALSE),"") | ... P4: =IFERROR(VLOOKUP(CONCATENATE($A$1,P$2,$Q4),Alap!$C:$D,2,FALSE),"") | Q4: 1
A5: 9.45 - 11.15 | B5: =IFERROR(VLOOKUP(CONCATENATE($A$1,B$2,$Q5),Alap!$C:$D,2,FALSE),"") | C5: =IFERROR(VLOOKUP(CONCATENATE($A$1,C$2,$Q5),Alap!$C:$D,2,FALSE),"") | D5: =IFERROR(VLOOKUP(CONCATENATE($A$1,D$2,$Q5),Alap!$C:$D,2,FALSE),"") | E5: =IFERROR(VLOOKUP(CONCATENATE($A$1,E$2,$Q5),Alap!$C:$D,2,FALSE),"") | F5: =IFERROR(VLOOKUP(CONCATENATE($A$1,F$2,$Q5),Alap!$C:$D,2,FALSE),"") -> Hidraulika, pneumatika alapjai - Baksa Dániel 12 | G5: =IFERROR(VLOOKUP(CONCATENATE($A$1,G$2,$Q5),Alap!$C:$D,2,FALSE),"") | H5: =IFERROR(VLOOKUP(CONCATENATE($A$1,H$2,$Q5),Alap!$C:$D,2,FALSE),"") | I5: =IFERROR(VLOOKUP(CONCATENATE($A$1,I$2,$Q5),Alap!$C:$D,2,FALSE),"") | ... P5: =IFERROR(VLOOKUP(CONCATENATE($A$1,P$2,$Q5),Alap!$C:$D,2,FALSE),"") | Q5: 2
A6: 11.30 - 13.00 | B6: =IFERROR(VLOOKUP(CONCATENATE($A$1,B$2,$Q6),Alap!$C:$D,2,FALSE),"") | C6: =IFERROR(VLOOKUP(CONCATENATE($A$1,C$2,$Q6),Alap!$C:$D,2,FALSE),"") | D6: =IFERROR(VLOOKUP(CONCATENATE($A$1,D$2,$Q6),Alap!$C:$D,2,FALSE),"") | E6: =IFERROR(VLOOKUP(CONCATENATE($A$1,E$2,$Q6),Alap!$C:$D,2,FALSE),"") | F6: =IFERROR(VLOOKUP(CONCATENATE($A$1,F$2,$Q6),Alap!$C:$D,2,FALSE),"") | G6: =IFERROR(VLOOKUP(CONCATENATE($A$1,G$2,$Q6),Alap!$C:$D,2,FALSE),"") | H6: =IFERROR(VLOOKUP(CONCATENATE($A$1,H$2,$Q6),Alap!$C:$D,2,FALSE),"") | I6: =IFERROR(VLOOKUP(CONCATENATE($A$1,I$2,$Q6),Alap!$C:$D,2,FALSE),"") | ... P6: =IFERROR(VLOOKUP(CONCATENATE($A$1,P$2,$Q6),Alap!$C:$D,2,FALSE),"") | Q6: 3
A7: 13.30 - 15.00 | B7: =IFERROR(VLOOKUP(CONCATENATE($A$1,B$2,$Q7),Alap!$C:$D,2,FALSE),"") | C7: =IFERROR(VLOOKUP(CONCATENATE($A$1,C$2,$Q7),Alap!$C:$D,2,FALSE),"") | D7: =IFERROR(VLOOKUP(CONCATENATE($A$1,D$2,$Q7),Alap!$C:$D,2,FALSE),"") | E7: =IFERROR(VLOOKUP(CONCATENATE($A$1,E$2,$Q7),Alap!$C:$D,2,FALSE),"") | F7: =IFERROR(VLOOKUP(CONCATENATE($A$1,F$2,$Q7),Alap!$C:$D,2,FALSE),"") | G7: =IFERROR(VLOOKUP(CONCATENATE($A$1,G$2,$Q7),Alap!$C:$D,2,FALSE),"") -> Hidraulika, pneumatika alapjai - Baksa Dániel 12 | H7: =IFERROR(VLOOKUP(CONCATENATE($A$1,H$2,$Q7),Alap!$C:$D,2,FALSE),"") | I7: =IFERROR(VLOOKUP(CONCATENATE($A$1,I$2,$Q7),Alap!$C:$D,2,FALSE),"") | ... P7: =IFERROR(VLOOKUP(CONCATENATE($A$1,P$2,$Q7),Alap!$C:$D,2,FALSE),"") | Q7: 4
A8: 15.15 - 16.45 | B8: =IFERROR(VLOOKUP(CONCATENATE($A$1,B$2,$Q8),Alap!$C:$D,2,FALSE),"") | C8: =IFERROR(VLOOKUP(CONCATENATE($A$1,C$2,$Q8),Alap!$C:$D,2,FALSE),"") | D8: =IFERROR(VLOOKUP(CONCATENATE($A$1,D$2,$Q8),Alap!$C:$D,2,FALSE),"") | E8: =IFERROR(VLOOKUP(CONCATENATE($A$1,E$2,$Q8),Alap!$C:$D,2,FALSE),"") | F8: =IFERROR(VLOOKUP(CONCATENATE($A$1,F$2,$Q8),Alap!$C:$D,2,FALSE),"") | G8: =IFERROR(VLOOKUP(CONCATENATE($A$1,G$2,$Q8),Alap!$C:$D,2,FALSE),"") | H8: =IFERROR(VLOOKUP(CONCATENATE($A$1,H$2,$Q8),Alap!$C:$D,2,FALSE),"") | I8: =IFERROR(VLOOKUP(CONCATENATE($A$1,I$2,$Q8),Alap!$C:$D,2,FALSE),"") | ... P8: =IFERROR(VLOOKUP(CONCATENATE($A$1,P$2,$Q8),Alap!$C:$D,2,FALSE),"") | Q8: 5
A9: 17.00 - 18.30 | B9: =IFERROR(VLOOKUP(CONCATENATE($A$1,B$2,$Q9),Alap!$C:$D,2,FALSE),"") | C9: =IFERROR(VLOOKUP(CONCATENATE($A$1,C$2,$Q9),Alap!$C:$D,2,FALSE),"") | D9: =IFERROR(VLOOKUP(CONCATENATE($A$1,D$2,$Q9),Alap!$C:$D,2,FALSE),"") | E9: =IFERROR(VLOOKUP(CONCATENATE($A$1,E$2,$Q9),Alap!$C:$D,2,FALSE),"") | F9: =IFERROR(VLOOKUP(CONCATENATE($A$1,F$2,$Q9),Alap!$C:$D,2,FALSE),"") | G9: =IFERROR(VLOOKUP(CONCATENATE($A$1,G$2,$Q9),Alap!$C:$D,2,FALSE),"") | H9: =IFERROR(VLOOKUP(CONCATENATE($A$1,H$2,$Q9),Alap!$C:$D,2,FALSE),"") | I9: =IFERROR(VLOOKUP(CONCATENATE($A$1,I$2,$Q9),Alap!$C:$D,2,FALSE),"") | ... P9: =IFERROR(VLOOKUP(CONCATENATE($A$1,P$2,$Q9),Alap!$C:$D,2,FALSE),"") | Q9: 6
B10: =B2-1 -> 904 | C10: =C2-1 -> 911 | D10: =D2-1 -> 918 | E10: =E2-1 -> 925 | F10: =F2-1 -> 1002 | G10: =G2-1 -> 1009 | H10: =H2-1 -> 1016 | I10: =I2-1 -> 1023 | ... P10: =P2-1 -> 1211
A11: péntek
A12: sáv | B12: szept. 4. | C12: szept. 11. | D12: szept. 18. | E12: szept. 25. | F12: október 2. | G12: október 9. | H12: október 16. | I12: október 23. | J12: október 30. | K12: nov. 6. | L12: nov. 13. | M12: nov. 20. | N12: nov. 27. | O12: dec. 4. | P12: dec. 11.
A13: 13.30 - 15.00 | B13: =IFERROR(VLOOKUP(CONCATENATE($A$1,B$10,$Q13),Alap!$C:$D,2,FALSE),"") | C13: =IFERROR(VLOOKUP(CONCATENATE($A$1,C$10,$Q13),Alap!$C:$D,2,FALSE),"") | D13: =IFERROR(VLOOKUP(CONCATENATE($A$1,D$10,$Q13),Alap!$C:$D,2,FALSE),"") | E13: =IFERROR(VLOOKUP(CONCATENATE($A$1,E$10,$Q13),Alap!$C:$D,2,FALSE),"") | F13: =IFERROR(VLOOKUP(CONCATENATE($A$1,F$10,$Q13),Alap!$C:$D,2,FALSE),"") | G13: =IFERROR(VLOOKUP(CONCATENATE($A$1,G$10,$Q13),Alap!$C:$D,2,FALSE),"") | H13: =IFERROR(VLOOKUP(CONCATENATE($A$1,H$10,$Q13),Alap!$C:$D,2,FALSE),"") | I13: =IFERROR(VLOOKUP(CONCATENATE($A$1,I$10,$Q13),Alap!$C:$D,2,FALSE),"") | ... P13: =IFERROR(VLOOKUP(CONCATENATE($A$1,P$10,$Q13),Alap!$C:$D,2,FALSE),"") | Q13: 4
A14: 15.15 - 16.45 | B14: =IFERROR(VLOOKUP(CONCATENATE($A$1,B$10,$Q14),Alap!$C:$D,2,FALSE),"") | C14: =IFERROR(VLOOKUP(CONCATENATE($A$1,C$10,$Q14),Alap!$C:$D,2,FALSE),"") | D14: =IFERROR(VLOOKUP(CONCATENATE($A$1,D$10,$Q14),Alap!$C:$D,2,FALSE),"") | E14: =IFERROR(VLOOKUP(CONCATENATE($A$1,E$10,$Q14),Alap!$C:$D,2,FALSE),"") | F14: =IFERROR(VLOOKUP(CONCATENATE($A$1,F$10,$Q14),Alap!$C:$D,2,FALSE),"") | G14: =IFERROR(VLOOKUP(CONCATENATE($A$1,G$10,$Q14),Alap!$C:$D,2,FALSE),"") | H14: =IFERROR(VLOOKUP(CONCATENATE($A$1,H$10,$Q14),Alap!$C:$D,2,FALSE),"") | I14: =IFERROR(VLOOKUP(CONCATENATE($A$1,I$10,$Q14),Alap!$C:$D,2,FALSE),"") | ... P14: =IFERROR(VLOOKUP(CONCATENATE($A$1,P$10,$Q14),Alap!$C:$D,2,FALSE),"") | Q14: 5
A15: 17.00 - 18.30 | B15: =IFERROR(VLOOKUP(CONCATENATE($A$1,B$10,$Q15),Alap!$C:$D,2,FALSE),"") | C15: =IFERROR(VLOOKUP(CONCATENATE($A$1,C$10,$Q15),Alap!$C:$D,2,FALSE),"") | D15: =IFERROR(VLOOKUP(CONCATENATE($A$1,D$10,$Q15),Alap!$C:$D,2,FALSE),"") | E15: =IFERROR(VLOOKUP(CONCATENATE($A$1,E$10,$Q15),Alap!$C:$D,2,FALSE),"") | F15: =IFERROR(VLOOKUP(CONCATENATE($A$1,F$10,$Q15),Alap!$C:$D,2,FALSE),"") | G15: =IFERROR(VLOOKUP(CONCATENATE($A$1,G$10,$Q15),Alap!$C:$D,2,FALSE),"") | H15: =IFERROR(VLOOKUP(CONCATENATE($A$1,H$10,$Q15),Alap!$C:$D,2,FALSE),"") | I15: =IFERROR(VLOOKUP(CONCATENATE($A$1,I$10,$Q15),Alap!$C:$D,2,FALSE),"") | ... P15: =IFERROR(VLOOKUP(CONCATENATE($A$1,P$10,$Q15),Alap!$C:$D,2,FALSE),"") | Q15: 6
A16: 18.45 - 20.15 | B16: =IFERROR(VLOOKUP(CONCATENATE($A$1,B$10,$Q16),Alap!$C:$D,2,FALSE),"") | C16: =IFERROR(VLOOKUP(CONCATENATE($A$1,C$10,$Q16),Alap!$C:$D,2,FALSE),"") | D16: =IFERROR(VLOOKUP(CONCATENATE($A$1,D$10,$Q16),Alap!$C:$D,2,FALSE),"") | E16: =IFERROR(VLOOKUP(CONCATENATE($A$1,E$10,$Q16),Alap!$C:$D,2,FALSE),"") | F16: =IFERROR(VLOOKUP(CONCATENATE($A$1,F$10,$Q16),Alap!$C:$D,2,FALSE),"") | G16: =IFERROR(VLOOKUP(CONCATENATE($A$1,G$10,$Q16),Alap!$C:$D,2,FALSE),"") | H16: =IFERROR(VLOOKUP(CONCATENATE($A$1,H$10,$Q16),Alap!$C:$D,2,FALSE),"") | I16: =IFERROR(VLOOKUP(CONCATENATE($A$1,I$10,$Q16),Alap!$C:$D,2,FALSE),"") | ... P16: =IFERROR(VLOOKUP(CONCATENATE($A$1,P$10,$Q16),Alap!$C:$D,2,FALSE),"") | Q16: 7

Sheet Bp.
A1: szeptember 18-19. | D1: szombat
A2: sáv | B2: 201 | C2: 202 | D2: 203 | E2: 205 | F2: 206 | G2: 207 | H2: 208 | I2: 209 | J2: 210 | K2: 214 | L2: 217 | M2: 463
A3: 8.00 - 9.30 | B3: =IFERROR(VLOOKUP(CONCATENATE(B$10,VLOOKUP($A$1,segéd!$I$1:$K$15,3,FALSE),$N3),Alap!$A:$B,2,FALSE),"") -> Gazdasági matematika I. - Szabó Tünde (web) 119 | C3: =IFERROR(VLOOKUP(CONCATENATE(C$10,VLOOKUP($A$1,segéd!$I$1:$K$15,3,FALSE),$N3),Alap!$A:$B,2,FALSE),"") | D3: =IFERROR(VLOOKUP(CONCATENATE(D$10,VLOOKUP($A$1,segéd!$I$1:$K$15,3,FALSE),$N3),Alap!$A:$B,2,FALSE),"") -> Értékalapú vezetés - Barna Zsolt (Tb.-ről web) 7 | E3: =IFERROR(VLOOKUP(CONCATENATE(E$10,VLOOKUP($A$1,segéd!$I$1:$K$15,3,FALSE),$N3),Alap!$A:$B,2,FALSE),"") -> Közgazdaságtan - Barócsi Zoltán (Bp.-ről web) 11 | F3: =IFERROR(VLOOKUP(CONCATENATE(F$10,VLOOKUP($A$1,segéd!$I$1:$K$15,3,FALSE),$N3),Alap!$A:$B,2,FALSE),"") -> Szállítmányozás, fuvarozás - Barta Krisztina (Bp.-ről web) 6 | G3: =IFERROR(VLOOKUP(CONCATENATE(G$10,VLOOKUP($A$1,segéd!$I$1:$K$15,3,FALSE),$N3),Alap!$A:$B,2,FALSE),"") -> Business Intelligence - Dobos Ádám (Bp.-ről web) 12 | H3: =IFERROR(VLOOKUP(CONCATENATE(H$10,VLOOKUP($A$1,segéd!$I$1:$K$15,3,FALSE),$N3),Alap!$A:$B,2,FALSE),"") -> Nemzetközi gazd. ism. - Juhász Krisztina (web) 45 | I3: =IFERROR(VLOOKUP(CONCATENATE(I$10,VLOOKUP($A$1,segéd!$I$1:$K$15,3,FALSE),$N3),Alap!$A:$B,2,FALSE),"") -> Modern közg. és piacelm. - Sárkány Péter (web) 31 | ... M3: =IFERROR(VLOOKUP(CONCATENATE(M$10,VLOOKUP($A$1,segéd!$I$1:$K$15,3,FALSE),$N3),Alap!$A:$B,2,FALSE),"") | N3: 1
A4: 9.45 - 11.15 | B4: =IFERROR(VLOOKUP(CONCATENATE(B$10,VLOOKUP($A$1,segéd!$I$1:$K$15,3,FALSE),$N4),Alap!$A:$B,2,FALSE),"") -> Gazdasági matematika I. - Szabó Tünde (web) 119 | C4: =IFERROR(VLOOKUP(CONCATENATE(C$10,VLOOKUP($A$1,segéd!$I$1:$K$15,3,FALSE),$N4),Alap!$A:$B,2,FALSE),"") -> Számviteli alapok - Péter Sára (web) 6 | D4: =IFERROR(VLOOKUP(CONCATENATE(D$10,VLOOKUP($A$1,segéd!$I$1:$K$15,3,FALSE),$N4),Alap!$A:$B,2,FALSE),"") -> Értékalapú vezetés - Barna Zsolt (Tb.-ről web) 7 | E4: =IFERROR(VLOOKUP(CONCATENATE(E$10,VLOOKUP($A$1,segéd!$I$1:$K$15,3,FALSE),$N4),Alap!$A:$B,2,FALSE),"") -> Közgazdaságtan - Barócsi Zoltán (Bp.-ről web) 11 | F4: =IFERROR(VLOOKUP(CONCATENATE(F$10,VLOOKUP($A$1,segéd!$I$1:$K$15,3,FALSE),$N4),Alap!$A:$B,2,FALSE),"") -> Szállítmányozás, fuvarozás - Barta Krisztina (Bp.-ről web) 6 | G4: =IFERROR(VLOOKUP(CONCATENATE(G$10,VLOOKUP($A$1,segéd!$I$1:$K$15,3,FALSE),$N4),Alap!$A:$B,2,FALSE),"") -> Business Intelligence - Dobos Ádám (Bp.-ről web) 12 | H4: =IFERROR(VLOOKUP(CONCATENATE(H$10,VLOOKUP($A$1,segéd!$I$1:$K$15,3,FALSE),$N4),Alap!$A:$B,2,FALSE),"") -> Nemzetközi gazd. ism. - Juhász Krisztina (web) 45 | I4: =IFERROR(VLOOKUP(CONCATENATE(I$10,VLOOKUP($A$1,segéd!$I$1:$K$15,3,FALSE),$N4),Alap!$A:$B,2,FALSE),"") -> Modern közg. és piacelm. - Sárkány Péter (web) 31 | ... M4: =IFERROR(VLOOKUP(CONCATENATE(M$10,VLOOKUP($A$1,segéd!$I$1:$K$15,3,FALSE),$N4),Alap!$A:$B,2,FALSE),"") | N4: 2
A5: 11.30 - 13.00 | B5: =IFERROR(VLOOKUP(CONCATENATE(B$10,VLOOKUP($A$1,segéd!$I$1:$K$15,3,FALSE),$N5),Alap!$A:$B,2,FALSE),"") -> Vállalati gazdaságtan - Kárpáti-Daróczi Judit (web) 113 | C5: =IFERROR(VLOOKUP(CONCATENATE(C$10,VLOOKUP($A$1,segéd!$I$1:$K$15,3,FALSE),$N5),Alap!$A:$B,2,FALSE),"") -> Számviteli alapok - Péter Sára (web) 6 | D5: =IFERROR(VLOOKUP(CONCATENATE(D$10,VLOOKUP($A$1,segéd!$I$1:$K$15,3,FALSE),$N5),Alap!$A:$B,2,FALSE),"") | E5: =IFERROR(VLOOKUP(CONCATENATE(E$10,VLOOKUP($A$1,segéd!$I$1:$K$15,3,FALSE),$N5),Alap!$A:$B,2,FALSE),"") -> Gazdasági és versenyjog - Zalahegyi Zoltán (web) 6 | F5: =IFERROR(VLOOKUP(CONCATENATE(F$10,VLOOKUP($A$1,segéd!$I$1:$K$15,3,FALSE),$N5),Alap!$A:$B,2,FALSE),"") | G5: =IFERROR(VLOOKUP(CONCATENATE(G$10,VLOOKUP($A$1,segéd!$I$1:$K$15,3,FALSE),$N5),Alap!$A:$B,2,FALSE),"") | H5: =IFERROR(VLOOKUP(CONCATENATE(H$10,VLOOKUP($A$1,segéd!$I$1:$K$15,3,FALSE),$N5),Alap!$A:$B,2,FALSE),"") -> Nemzetközi gazd. ism. - Juhász Krisztina (web) 45 | I5: =IFERROR(VLOOKUP(CONCATENATE(I$10,VLOOKUP($A$1,segéd!$I$1:$K$15,3,FALSE),$N5),Alap!$A:$B,2,FALSE),"") -> Viselkedéskultúra és protokoll (szv.) - Gondos Borbála (Bp.-ről web) 22 | ... M5: =IFERROR(VLOOKUP(CONCATENATE(M$10,VLOOKUP($A$1,segéd!$I$1:$K$15,3,FALSE),$N5),Alap!$A:$B,2,FALSE),"") | N5: 3
A6: 13.30 - 15.00 | B6: =IFERROR(VLOOKUP(CONCATENATE(B$10,VLOOKUP($A$1,segéd!$I$1:$K$15,3,FALSE),$N6),Alap!$A:$B,2,FALSE),"") -> Vállalati gazdaságtan - Kárpáti-Daróczi Judit (web) 113 | C6: =IFERROR(VLOOKUP(CONCATENATE(C$10,VLOOKUP($A$1,segéd!$I$1:$K$15,3,FALSE),$N6),Alap!$A:$B,2,FALSE),"") -> Ellátási lánc menedzsment - Póka Viktor (web) 8 | D6: =IFERROR(VLOOKUP(CONCATENATE(D$10,VLOOKUP($A$1,segéd!$I$1:$K$15,3,FALSE),$N6),Alap!$A:$B,2,FALSE),"") | E6: =IFERROR(VLOOKUP(CONCATENATE(E$10,VLOOKUP($A$1,segéd!$I$1:$K$15,3,FALSE),$N6),Alap!$A:$B,2,FALSE),"") | F6: =IFERROR(VLOOKUP(CONCATENATE(F$10,VLOOKUP($A$1,segéd!$I$1:$K$15,3,FALSE),$N6),Alap!$A:$B,2,FALSE),"") | G6: =IFERROR(VLOOKUP(CONCATENATE(G$10,VLOOKUP($A$1,segéd!$I$1:$K$15,3,FALSE),$N6),Alap!$A:$B,2,FALSE),"") -> Döntéselmélet és módszertan - Kovács Gergely (gépterem, web) 8 | H6: =IFERROR(VLOOKUP(CONCATENATE(H$10,VLOOKUP($A$1,segéd!$I$1:$K$15,3,FALSE),$N6),Alap!$A:$B,2,FALSE),"") -> Számvitel I. - Péter Sára (web) 44 | I6: =IFERROR(VLOOKUP(CONCATENATE(I$10,VLOOKUP($A$1,segéd!$I$1:$K$15,3,FALSE),$N6),Alap!$A:$B,2,FALSE),"") -> Viselkedéskultúra és protokoll (szv.) - Gondos Borbála (Bp.-ről web) 22 | ... M6: =IFERROR(VLOOKUP(CONCATENATE(M$10,VLOOKUP($A$1,segéd!$I$1:$K$15,3,FALSE),$N6),Alap!$A:$B,2,FALSE),"") | N6: 4
A7: 15.15 - 16.45 | B7: =IFERROR(VLOOKUP(CONCATENATE(B$10,VLOOKUP($A$1,segéd!$I$1:$K$15,3,FALSE),$N7),Alap!$A:$B,2,FALSE),"") -> Vállalati gazdaságtan - Kárpáti-Daróczi Judit (web) 113 | C7: =IFERROR(VLOOKUP(CONCATENATE(C$10,VLOOKUP($A$1,segéd!$I$1:$K$15,3,FALSE),$N7),Alap!$A:$B,2,FALSE),"") -> Ellátási lánc menedzsment - Póka Viktor (web) 8 | D7: =IFERROR(VLOOKUP(CONCATENATE(D$10,VLOOKUP($A$1,segéd!$I$1:$K$15,3,FALSE),$N7),Alap!$A:$B,2,FALSE),"") | E7: =IFERROR(VLOOKUP(CONCATENATE(E$10,VLOOKUP($A$1,segéd!$I$1:$K$15,3,FALSE),$N7),Alap!$A:$B,2,FALSE),"") | F7: =IFERROR(VLOOKUP(CONCATENATE(F$10,VLOOKUP($A$1,segéd!$I$1:$K$15,3,FALSE),$N7),Alap!$A:$B,2,FALSE),"") | G7: =IFERROR(VLOOKUP(CONCATENATE(G$10,VLOOKUP($A$1,segéd!$I$1:$K$15,3,FALSE),$N7),Alap!$A:$B,2,FALSE),"") -> Döntéselmélet és módszertan - Kovács Gergely (gépterem, web) 8 | H7: =IFERROR(VLOOKUP(CONCATENATE(H$10,VLOOKUP($A$1,segéd!$I$1:$K$15,3,FALSE),$N7),Alap!$A:$B,2,FALSE),"") | I7: =IFERROR(VLOOKUP(CONCATENATE(I$10,VLOOKUP($A$1,segéd!$I$1:$K$15,3,FALSE),$N7),Alap!$A:$B,2,FALSE),"") | ... M7: =IFERROR(VLOOKUP(CONCATENATE(M$10,VLOOKUP($A$1,segéd!$I$1:$K$15,3,FALSE),$N7),Alap!$A:$B,2,FALSE),"") | N7: 5
A8: 17.00 - 18.30 | B8: =IFERROR(VLOOKUP(CONCATENATE(B$10,VLOOKUP($A$1,segéd!$I$1:$K$15,3,FALSE),$N8),Alap!$A:$B,2,FALSE),"") | C8: =IFERROR(VLOOKUP(CONCATENATE(C$10,VLOOKUP($A$1,segéd!$I$1:$K$15,3,FALSE),$N8),Alap!$A:$B,2,FALSE),"") -> Ellátási lánc menedzsment - Póka Viktor (web) 8 | D8: =IFERROR(VLOOKUP(CONCATENATE(D$10,VLOOKUP($A$1,segéd!$I$1:$K$15,3,FALSE),$N8),Alap!$A:$B,2,FALSE),"") | E8: =IFERROR(VLOOKUP(CONCATENATE(E$10,VLOOKUP($A$1,segéd!$I$1:$K$15,3,FALSE),$N8),Alap!$A:$B,2,FALSE),"") | F8: =IFERROR(VLOOKUP(CONCATENATE(F$10,VLOOKUP($A$1,segéd!$I$1:$K$15,3,FALSE),$N8),Alap!$A:$B,2,FALSE),"") | G8: =IFERROR(VLOOKUP(CONCATENATE(G$10,VLOOKUP($A$1,segéd!$I$1:$K$15,3,FALSE),$N8),Alap!$A:$B,2,FALSE),"") | H8: =IFERROR(VLOOKUP(CONCATENATE(H$10,VLOOKUP($A$1,segéd!$I$1:$K$15,3,FALSE),$N8),Alap!$A:$B,2,FALSE),"") | I8: =IFERROR(VLOOKUP(CONCATENATE(I$10,VLOOKUP($A$1,segéd!$I$1:$K$15,3,FALSE),$N8),Alap!$A:$B,2,FALSE),"") | ... M8: =IFERROR(VLOOKUP(CONCATENATE(M$10,VLOOKUP($A$1,segéd!$I$1:$K$15,3,FALSE),$N8),Alap!$A:$B,2,FALSE),"") | N8: 6
A9: péntek
A10: sáv | B10: 201 | C10: 202 | D10: 203 | E10: 205 | F10: 206 | G10: 207 | H10: 208 | I10: 209 | J10: 210 | K10: 214 | L10: 217 | M10: 463
A11: 13.30 - 15.00 | B11: =IFERROR(VLOOKUP(CONCATENATE(B$10,VLOOKUP($A$1,segéd!$I$1:$K$15,2,FALSE),$N11),Alap!$A:$B,2,FALSE),"") | C11: =IFERROR(VLOOKUP(CONCATENATE(C$10,VLOOKUP($A$1,segéd!$I$1:$K$15,2,FALSE),$N11),Alap!$A:$B,2,FALSE),"") | D11: =IFERROR(VLOOKUP(CONCATENATE(D$10,VLOOKUP($A$1,segéd!$I$1:$K$15,2,FALSE),$N11),Alap!$A:$B,2,FALSE),"") | E11: =IFERROR(VLOOKUP(CONCATENATE(E$10,VLOOKUP($A$1,segéd!$I$1:$K$15,2,FALSE),$N11),Alap!$A:$B,2,FALSE),"") | F11: =IFERROR(VLOOKUP(CONCATENATE(F$10,VLOOKUP($A$1,segéd!$I$1:$K$15,2,FALSE),$N11),Alap!$A:$B,2,FALSE),"") | G11: =IFERROR(VLOOKUP(CONCATENATE(G$10,VLOOKUP($A$1,segéd!$I$1:$K$15,2,FALSE),$N11),Alap!$A:$B,2,FALSE),"") | H11: =IFERROR(VLOOKUP(CONCATENATE(H$10,VLOOKUP($A$1,segéd!$I$1:$K$15,2,FALSE),$N11),Alap!$A:$B,2,FALSE),"") | I11: =IFERROR(VLOOKUP(CONCATENATE(I$10,VLOOKUP($A$1,segéd!$I$1:$K$15,2,FALSE),$N11),Alap!$A:$B,2,FALSE),"") | ... M11: =IFERROR(VLOOKUP(CONCATENATE(M$10,VLOOKUP($A$1,segéd!$I$1:$K$15,2,FALSE),$N11),Alap!$A:$B,2,FALSE),"") | N11: 4
A12: 15.15 - 16.45 | B12: =IFERROR(VLOOKUP(CONCATENATE(B$10,VLOOKUP($A$1,segéd!$I$1:$K$15,2,FALSE),$N12),Alap!$A:$B,2,FALSE),"") | C12: =IFERROR(VLOOKUP(CONCATENATE(C$10,VLOOKUP($A$1,segéd!$I$1:$K$15,2,FALSE),$N12),Alap!$A:$B,2,FALSE),"") | D12: =IFERROR(VLOOKUP(CONCATENATE(D$10,VLOOKUP($A$1,segéd!$I$1:$K$15,2,FALSE),$N12),Alap!$A:$B,2,FALSE),"") | E12: =IFERROR(VLOOKUP(CONCATENATE(E$10,VLOOKUP($A$1,segéd!$I$1:$K$15,2,FALSE),$N12),Alap!$A:$B,2,FALSE),"") | F12: =IFERROR(VLOOKUP(CONCATENATE(F$10,VLOOKUP($A$1,segéd!$I$1:$K$15,2,FALSE),$N12),Alap!$A:$B,2,FALSE),"") | G12: =IFERROR(VLOOKUP(CONCATENATE(G$10,VLOOKUP($A$1,segéd!$I$1:$K$15,2,FALSE),$N12),Alap!$A:$B,2,FALSE),"") | H12: =IFERROR(VLOOKUP(CONCATENATE(H$10,VLOOKUP($A$1,segéd!$I$1:$K$15,2,FALSE),$N12),Alap!$A:$B,2,FALSE),"") | I12: =IFERROR(VLOOKUP(CONCATENATE(I$10,VLOOKUP($A$1,segéd!$I$1:$K$15,2,FALSE),$N12),Alap!$A:$B,2,FALSE),"") | ... M12: =IFERROR(VLOOKUP(CONCATENATE(M$10,VLOOKUP($A$1,segéd!$I$1:$K$15,2,FALSE),$N12),Alap!$A:$B,2,FALSE),"") | N12: 5
A13: 17.00 - 18.30 | B13: =IFERROR(VLOOKUP(CONCATENATE(B$10,VLOOKUP($A$1,segéd!$I$1:$K$15,2,FALSE),$N13),Alap!$A:$B,2,FALSE),"") | C13: =IFERROR(VLOOKUP(CONCATENATE(C$10,VLOOKUP($A$1,segéd!$I$1:$K$15,2,FALSE),$N13),Alap!$A:$B,2,FALSE),"") | D13: =IFERROR(VLOOKUP(CONCATENATE(D$10,VLOOKUP($A$1,segéd!$I$1:$K$15,2,FALSE),$N13),Alap!$A:$B,2,FALSE),"") | E13: =IFERROR(VLOOKUP(CONCATENATE(E$10,VLOOKUP($A$1,segéd!$I$1:$K$15,2,FALSE),$N13),Alap!$A:$B,2,FALSE),"") | F13: =IFERROR(VLOOKUP(CONCATENATE(F$10,VLOOKUP($A$1,segéd!$I$1:$K$15,2,FALSE),$N13),Alap!$A:$B,2,FALSE),"") | G13: =IFERROR(VLOOKUP(CONCATENATE(G$10,VLOOKUP($A$1,segéd!$I$1:$K$15,2,FALSE),$N13),Alap!$A:$B,2,FALSE),"") | H13: =IFERROR(VLOOKUP(CONCATENATE(H$10,VLOOKUP($A$1,segéd!$I$1:$K$15,2,FALSE),$N13),Alap!$A:$B,2,FALSE),"") | I13: =IFERROR(VLOOKUP(CONCATENATE(I$10,VLOOKUP($A$1,segéd!$I$1:$K$15,2,FALSE),$N13),Alap!$A:$B,2,FALSE),"") | ... M13: =IFERROR(VLOOKUP(CONCATENATE(M$10,VLOOKUP($A$1,segéd!$I$1:$K$15,2,FALSE),$N13),Alap!$A:$B,2,FALSE),"") | N13: 6
A14: 18.45 - 20.15 | B14: =IFERROR(VLOOKUP(CONCATENATE(B$10,VLOOKUP($A$1,segéd!$I$1:$K$15,2,FALSE),$N14),Alap!$A:$B,2,FALSE),"") | C14: =IFERROR(VLOOKUP(CONCATENATE(C$10,VLOOKUP($A$1,segéd!$I$1:$K$15,2,FALSE),$N14),Alap!$A:$B,2,FALSE),"") | D14: =IFERROR(VLOOKUP(CONCATENATE(D$10,VLOOKUP($A$1,segéd!$I$1:$K$15,2,FALSE),$N14),Alap!$A:$B,2,FALSE),"") | E14: =IFERROR(VLOOKUP(CONCATENATE(E$10,VLOOKUP($A$1,segéd!$I$1:$K$15,2,FALSE),$N14),Alap!$A:$B,2,FALSE),"") | F14: =IFERROR(VLOOKUP(CONCATENATE(F$10,VLOOKUP($A$1,segéd!$I$1:$K$15,2,FALSE),$N14),Alap!$A:$B,2,FALSE),"") | G14: =IFERROR(VLOOKUP(CONCATENATE(G$10,VLOOKUP($A$1,segéd!$I$1:$K$15,2,FALSE),$N14),Alap!$A:$B,2,FALSE),"") | H14: =IFERROR(VLOOKUP(CONCATENATE(H$10,VLOOKUP($A$1,segéd!$I$1:$K$15,2,FALSE),$N14),Alap!$A:$B,2,FALSE),"") | I14: =IFERROR(VLOOKUP(CONCATENATE(I$10,VLOOKUP($A$1,segéd!$I$1:$K$15,2,FALSE),$N14),Alap!$A:$B,2,FALSE),"") | ... M14: =IFERROR(VLOOKUP(CONCATENATE(M$10,VLOOKUP($A$1,segéd!$I$1:$K$15,2,FALSE),$N14),Alap!$A:$B,2,FALSE),"") | N14: 7

Sheet Tb.
A1: szeptember 18-19.
A2: sáv | B2: A/Nae. | C2: 1 | D2: 2 | E2: 3 | F2: 4 | G2: 6 | H2: 212 | I2: 213 | J2: 214 | K2: 215 | L2: 216 | M2: 217 | N2: 401 | O2: 402 | P2: 403 | Q2: 404 | R2: 408 | S2: 501 | T2: 601 | U2: 603 | V2: 604 | W2: 605 | X2: Passzív
A3: 8.00 - 9.30 | B3: =IFERROR(VLOOKUP(CONCATENATE(B$10,VLOOKUP($A$1,segéd!$I$1:$K$15,3,FALSE),$Y3),Alap!$C:$D,2,FALSE),"") | C3: =IFERROR(VLOOKUP(CONCATENATE(C$10,VLOOKUP($A$1,segéd!$I$1:$K$15,3,FALSE),$Y3),Alap!$C:$D,2,FALSE),"") | D3: =IFERROR(VLOOKUP(CONCATENATE(D$10,VLOOKUP($A$1,segéd!$I$1:$K$15,3,FALSE),$Y3),Alap!$C:$D,2,FALSE),"") | E3: =IFERROR(VLOOKUP(CONCATENATE(E$10,VLOOKUP($A$1,segéd!$I$1:$K$15,3,FALSE),$Y3),Alap!$C:$D,2,FALSE),"") | F3: =IFERROR(VLOOKUP(CONCATENATE(F$10,VLOOKUP($A$1,segéd!$I$1:$K$15,3,FALSE),$Y3),Alap!$C:$D,2,FALSE),"") | G3: =IFERROR(VLOOKUP(CONCATENATE(G$10,VLOOKUP($A$1,segéd!$I$1:$K$15,3,FALSE),$Y3),Alap!$C:$D,2,FALSE),"") -> Ipari szabályozás - Varga István (web) 13 | H3: =IFERROR(VLOOKUP(CONCATENATE(H$10,VLOOKUP($A$1,segéd!$I$1:$K$15,3,FALSE),$Y3),Alap!$C:$D,2,FALSE),"") -> Számvitel I. - Labossa Ildikó (web) 35 | I3: =IFERROR(VLOOKUP(CONCATENATE(I$10,VLOOKUP($A$1,segéd!$I$1:$K$15,3,FALSE),$Y3),Alap!$C:$D,2,FALSE),"") | ... X3: =IFERROR(VLOOKUP(CONCATENATE(X$10,VLOOKUP($A$1,segéd!$I$1:$K$15,3,FALSE),$Y3),Alap!$C:$D,2,FALSE),"") -> Épületek műszaki szolg. irányítása - Molnárné Dőry Zsófia (web) 5 | Y3: 1
A4: 9.45 - 11.15 | B4: =IFERROR(VLOOKUP(CONCATENATE(B$10,VLOOKUP($A$1,segéd!$I$1:$K$15,3,FALSE),$Y4),Alap!$C:$D,2,FALSE),"") | C4: =IFERROR(VLOOKUP(CONCATENATE(C$10,VLOOKUP($A$1,segéd!$I$1:$K$15,3,FALSE),$Y4),Alap!$C:$D,2,FALSE),"") | D4: =IFERROR(VLOOKUP(CONCATENATE(D$10,VLOOKUP($A$1,segéd!$I$1:$K$15,3,FALSE),$Y4),Alap!$C:$D,2,FALSE),"") | E4: =IFERROR(VLOOKUP(CONCATENATE(E$10,VLOOKUP($A$1,segéd!$I$1:$K$15,3,FALSE),$Y4),Alap!$C:$D,2,FALSE),"") | F4: =IFERROR(VLOOKUP(CONCATENATE(F$10,VLOOKUP($A$1,segéd!$I$1:$K$15,3,FALSE),$Y4),Alap!$C:$D,2,FALSE),"") | G4: =IFERROR(VLOOKUP(CONCATENATE(G$10,VLOOKUP($A$1,segéd!$I$1:$K$15,3,FALSE),$Y4),Alap!$C:$D,2,FALSE),"") -> Ipari szabályozás - Varga István (web) 13 | H4: =IFERROR(VLOOKUP(CONCATENATE(H$10,VLOOKUP($A$1,segéd!$I$1:$K$15,3,FALSE),$Y4),Alap!$C:$D,2,FALSE),"") -> Számvitel I. - Labossa Ildikó (web) 35 | I4: =IFERROR(VLOOKUP(CONCATENATE(I$10,VLOOKUP($A$1,segéd!$I$1:$K$15,3,FALSE),$Y4),Alap!$C:$D,2,FALSE),"") | ... X4: =IFERROR(VLOOKUP(CONCATENATE(X$10,VLOOKUP($A$1,segéd!$I$1:$K$15,3,FALSE),$Y4),Alap!$C:$D,2,FALSE),"") -> Épületek műszaki szolg. irányítása - Molnárné Dőry Zsófia (web) 5 | Y4: 2
A5: 11.30 - 13.00 | B5: =IFERROR(VLOOKUP(CONCATENATE(B$10,VLOOKUP($A$1,segéd!$I$1:$K$15,3,FALSE),$Y5),Alap!$C:$D,2,FALSE),"") | C5: =IFERROR(VLOOKUP(CONCATENATE(C$10,VLOOKUP($A$1,segéd!$I$1:$K$15,3,FALSE),$Y5),Alap!$C:$D,2,FALSE),"") | D5: =IFERROR(VLOOKUP(CONCATENATE(D$10,VLOOKUP($A$1,segéd!$I$1:$K$15,3,FALSE),$Y5),Alap!$C:$D,2,FALSE),"") | E5: =IFERROR(VLOOKUP(CONCATENATE(E$10,VLOOKUP($A$1,segéd!$I$1:$K$15,3,FALSE),$Y5),Alap!$C:$D,2,FALSE),"") -> Mechatronika építőelemei - Molnár László (web) 15 | F5: =IFERROR(VLOOKUP(CONCATENATE(F$10,VLOOKUP($A$1,segéd!$I$1:$K$15,3,FALSE),$Y5),Alap!$C:$D,2,FALSE),"") | G5: =IFERROR(VLOOKUP(CONCATENATE(G$10,VLOOKUP($A$1,segéd!$I$1:$K$15,3,FALSE),$Y5),Alap!$C:$D,2,FALSE),"") | H5: =IFERROR(VLOOKUP(CONCATENATE(H$10,VLOOKUP($A$1,segéd!$I$1:$K$15,3,FALSE),$Y5),Alap!$C:$D,2,FALSE),"") -> Mechatronikai rendszerek I. - Vavra Gábor (web) 68 | I5: =IFERROR(VLOOKUP(CONCATENATE(I$10,VLOOKUP($A$1,segéd!$I$1:$K$15,3,FALSE),$Y5),Alap!$C:$D,2,FALSE),"") | ... X5: =IFERROR(VLOOKUP(CONCATENATE(X$10,VLOOKUP($A$1,segéd!$I$1:$K$15,3,FALSE),$Y5),Alap!$C:$D,2,FALSE),"") -> Létgazd. folyamatok tervezése - Molnárné Dőry Zsófia (web) 5 | Y5: 3
A6: 13.30 - 15.00 | B6: =IFERROR(VLOOKUP(CONCATENATE(B$10,VLOOKUP($A$1,segéd!$I$1:$K$15,3,FALSE),$Y6),Alap!$C:$D,2,FALSE),"") | C6: =IFERROR(VLOOKUP(CONCATENATE(C$10,VLOOKUP($A$1,segéd!$I$1:$K$15,3,FALSE),$Y6),Alap!$C:$D,2,FALSE),"") | D6: =IFERROR(VLOOKUP(CONCATENATE(D$10,VLOOKUP($A$1,segéd!$I$1:$K$15,3,FALSE),$Y6),Alap!$C:$D,2,FALSE),"") | E6: =IFERROR(VLOOKUP(CONCATENATE(E$10,VLOOKUP($A$1,segéd!$I$1:$K$15,3,FALSE),$Y6),Alap!$C:$D,2,FALSE),"") -> Mechatronika építőelemei - Molnár László (web) 15 | F6: =IFERROR(VLOOKUP(CONCATENATE(F$10,VLOOKUP($A$1,segéd!$I$1:$K$15,3,FALSE),$Y6),Alap!$C:$D,2,FALSE),"") | G6: =IFERROR(VLOOKUP(CONCATENATE(G$10,VLOOKUP($A$1,segéd!$I$1:$K$15,3,FALSE),$Y6),Alap!$C:$D,2,FALSE),"") | H6: =IFERROR(VLOOKUP(CONCATENATE(H$10,VLOOKUP($A$1,segéd!$I$1:$K$15,3,FALSE),$Y6),Alap!$C:$D,2,FALSE),"") -> Mechatronikai rendszerek I. - Vavra Gábor (web) 68 | I6: =IFERROR(VLOOKUP(CONCATENATE(I$10,VLOOKUP($A$1,segéd!$I$1:$K$15,3,FALSE),$Y6),Alap!$C:$D,2,FALSE),"") | ... X6: =IFERROR(VLOOKUP(CONCATENATE(X$10,VLOOKUP($A$1,segéd!$I$1:$K$15,3,FALSE),$Y6),Alap!$C:$D,2,FALSE),"") -> Energiamen. és fenntarthatóság - Molnárné Dőry Zsófia (web) 5 | Y6: 4
A7: 15.15 - 16.45 | B7: =IFERROR(VLOOKUP(CONCATENATE(B$10,VLOOKUP($A$1,segéd!$I$1:$K$15,3,FALSE),$Y7),Alap!$C:$D,2,FALSE),"") | C7: =IFERROR(VLOOKUP(CONCATENATE(C$10,VLOOKUP($A$1,segéd!$I$1:$K$15,3,FALSE),$Y7),Alap!$C:$D,2,FALSE),"") | D7: =IFERROR(VLOOKUP(CONCATENATE(D$10,VLOOKUP($A$1,segéd!$I$1:$K$15,3,FALSE),$Y7),Alap!$C:$D,2,FALSE),"") | E7: =IFERROR(VLOOKUP(CONCATENATE(E$10,VLOOKUP($A$1,segéd!$I$1:$K$15,3,FALSE),$Y7),Alap!$C:$D,2,FALSE),"") -> Mechatronika építőelemei - Molnár László (web) 15 | F7: =IFERROR(VLOOKUP(CONCATENATE(F$10,VLOOKUP($A$1,segéd!$I$1:$K$15,3,FALSE),$Y7),Alap!$C:$D,2,FALSE),"") | G7: =IFERROR(VLOOKUP(CONCATENATE(G$10,VLOOKUP($A$1,segéd!$I$1:$K$15,3,FALSE),$Y7),Alap!$C:$D,2,FALSE),"") | H7: =IFERROR(VLOOKUP(CONCATENATE(H$10,VLOOKUP($A$1,segéd!$I$1:$K$15,3,FALSE),$Y7),Alap!$C:$D,2,FALSE),"") -> Mechatronikai rendszerek I. - Vavra Gábor (web) 68 | I7: =IFERROR(VLOOKUP(CONCATENATE(I$10,VLOOKUP($A$1,segéd!$I$1:$K$15,3,FALSE),$Y7),Alap!$C:$D,2,FALSE),"") | ... X7: =IFERROR(VLOOKUP(CONCATENATE(X$10,VLOOKUP($A$1,segéd!$I$1:$K$15,3,FALSE),$Y7),Alap!$C:$D,2,FALSE),"") -> Energiamen. és fenntarthatóság - Molnárné Dőry Zsófia (web) 5 | Y7: 5
A8: 17.00 - 18.30 | B8: =IFERROR(VLOOKUP(CONCATENATE(B$10,VLOOKUP($A$1,segéd!$I$1:$K$15,3,FALSE),$Y8),Alap!$C:$D,2,FALSE),"") | C8: =IFERROR(VLOOKUP(CONCATENATE(C$10,VLOOKUP($A$1,segéd!$I$1:$K$15,3,FALSE),$Y8),Alap!$C:$D,2,FALSE),"") | D8: =IFERROR(VLOOKUP(CONCATENATE(D$10,VLOOKUP($A$1,segéd!$I$1:$K$15,3,FALSE),$Y8),Alap!$C:$D,2,FALSE),"") | E8: =IFERROR(VLOOKUP(CONCATENATE(E$10,VLOOKUP($A$1,segéd!$I$1:$K$15,3,FALSE),$Y8),Alap!$C:$D,2,FALSE),"") | F8: =IFERROR(VLOOKUP(CONCATENATE(F$10,VLOOKUP($A$1,segéd!$I$1:$K$15,3,FALSE),$Y8),Alap!$C:$D,2,FALSE),"") | G8: =IFERROR(VLOOKUP(CONCATENATE(G$10,VLOOKUP($A$1,segéd!$I$1:$K$15,3,FALSE),$Y8),Alap!$C:$D,2,FALSE),"") | H8: =IFERROR(VLOOKUP(CONCATENATE(H$10,VLOOKUP($A$1,segéd!$I$1:$K$15,3,FALSE),$Y8),Alap!$C:$D,2,FALSE),"") | I8: =IFERROR(VLOOKUP(CONCATENATE(I$10,VLOOKUP($A$1,segéd!$I$1:$K$15,3,FALSE),$Y8),Alap!$C:$D,2,FALSE),"") | ... X8: =IFERROR(VLOOKUP(CONCATENATE(X$10,VLOOKUP($A$1,segéd!$I$1:$K$15,3,FALSE),$Y8),Alap!$C:$D,2,FALSE),"") | Y8: 6
A9: péntek
A10: sáv | B10: =+B2 -> A/Nae. | C10: =+C2 -> 1 | D10: 2 | E10: =+E2 -> 3 | F10: =+F2 -> 4 | G10: =+G2 -> 6 | H10: =+H2 -> 212 | I10: =+I2 -> 213 | J10: =+J2 -> 214 | K10: =+K2 -> 215 | L10: =+L2 -> 216 | ... X10: =+X2 -> Passzív
A11: 13.30 - 15.00 | B11: =IFERROR(VLOOKUP(CONCATENATE(B$10,VLOOKUP($A$1,segéd!$I$1:$K$15,2,FALSE),$Y11),Alap!$C:$D,2,FALSE),"") | C11: =IFERROR(VLOOKUP(CONCATENATE(C$10,VLOOKUP($A$1,segéd!$I$1:$K$15,2,FALSE),$Y11),Alap!$C:$D,2,FALSE),"") | D11: =IFERROR(VLOOKUP(CONCATENATE(D$10,VLOOKUP($A$1,segéd!$I$1:$K$15,2,FALSE),$Y11),Alap!$C:$D,2,FALSE),"") | E11: =IFERROR(VLOOKUP(CONCATENATE(E$10,VLOOKUP($A$1,segéd!$I$1:$K$15,2,FALSE),$Y11),Alap!$C:$D,2,FALSE),"") | F11: =IFERROR(VLOOKUP(CONCATENATE(F$10,VLOOKUP($A$1,segéd!$I$1:$K$15,2,FALSE),$Y11),Alap!$C:$D,2,FALSE),"") | G11: =IFERROR(VLOOKUP(CONCATENATE(G$10,VLOOKUP($A$1,segéd!$I$1:$K$15,2,FALSE),$Y11),Alap!$C:$D,2,FALSE),"") | H11: =IFERROR(VLOOKUP(CONCATENATE(H$10,VLOOKUP($A$1,segéd!$I$1:$K$15,2,FALSE),$Y11),Alap!$C:$D,2,FALSE),"") | I11: =IFERROR(VLOOKUP(CONCATENATE(I$10,VLOOKUP($A$1,segéd!$I$1:$K$15,2,FALSE),$Y11),Alap!$C:$D,2,FALSE),"") | ... X11: =IFERROR(VLOOKUP(CONCATENATE(X$10,VLOOKUP($A$1,segéd!$I$1:$K$15,2,FALSE),$Y11),Alap!$C:$D,2,FALSE),"") | Y11: 4
A12: 15.15 - 16.45 | B12: =IFERROR(VLOOKUP(CONCATENATE(B$10,VLOOKUP($A$1,segéd!$I$1:$K$15,2,FALSE),$Y12),Alap!$C:$D,2,FALSE),"") | C12: =IFERROR(VLOOKUP(CONCATENATE(C$10,VLOOKUP($A$1,segéd!$I$1:$K$15,2,FALSE),$Y12),Alap!$C:$D,2,FALSE),"") | D12: =IFERROR(VLOOKUP(CONCATENATE(D$10,VLOOKUP($A$1,segéd!$I$1:$K$15,2,FALSE),$Y12),Alap!$C:$D,2,FALSE),"") | E12: =IFERROR(VLOOKUP(CONCATENATE(E$10,VLOOKUP($A$1,segéd!$I$1:$K$15,2,FALSE),$Y12),Alap!$C:$D,2,FALSE),"") | F12: =IFERROR(VLOOKUP(CONCATENATE(F$10,VLOOKUP($A$1,segéd!$I$1:$K$15,2,FALSE),$Y12),Alap!$C:$D,2,FALSE),"") | G12: =IFERROR(VLOOKUP(CONCATENATE(G$10,VLOOKUP($A$1,segéd!$I$1:$K$15,2,FALSE),$Y12),Alap!$C:$D,2,FALSE),"") | H12: =IFERROR(VLOOKUP(CONCATENATE(H$10,VLOOKUP($A$1,segéd!$I$1:$K$15,2,FALSE),$Y12),Alap!$C:$D,2,FALSE),"") | I12: =IFERROR(VLOOKUP(CONCATENATE(I$10,VLOOKUP($A$1,segéd!$I$1:$K$15,2,FALSE),$Y12),Alap!$C:$D,2,FALSE),"") | ... X12: =IFERROR(VLOOKUP(CONCATENATE(X$10,VLOOKUP($A$1,segéd!$I$1:$K$15,2,FALSE),$Y12),Alap!$C:$D,2,FALSE),"") | Y12: 5
A13: 17.00 - 18.30 | B13: =IFERROR(VLOOKUP(CONCATENATE(B$10,VLOOKUP($A$1,segéd!$I$1:$K$15,2,FALSE),$Y13),Alap!$C:$D,2,FALSE),"") | C13: =IFERROR(VLOOKUP(CONCATENATE(C$10,VLOOKUP($A$1,segéd!$I$1:$K$15,2,FALSE),$Y13),Alap!$C:$D,2,FALSE),"") | D13: =IFERROR(VLOOKUP(CONCATENATE(D$10,VLOOKUP($A$1,segéd!$I$1:$K$15,2,FALSE),$Y13),Alap!$C:$D,2,FALSE),"") | E13: =IFERROR(VLOOKUP(CONCATENATE(E$10,VLOOKUP($A$1,segéd!$I$1:$K$15,2,FALSE),$Y13),Alap!$C:$D,2,FALSE),"") | F13: =IFERROR(VLOOKUP(CONCATENATE(F$10,VLOOKUP($A$1,segéd!$I$1:$K$15,2,FALSE),$Y13),Alap!$C:$D,2,FALSE),"") | G13: =IFERROR(VLOOKUP(CONCATENATE(G$10,VLOOKUP($A$1,segéd!$I$1:$K$15,2,FALSE),$Y13),Alap!$C:$D,2,FALSE),"") | H13: =IFERROR(VLOOKUP(CONCATENATE(H$10,VLOOKUP($A$1,segéd!$I$1:$K$15,2,FALSE),$Y13),Alap!$C:$D,2,FALSE),"") | I13: =IFERROR(VLOOKUP(CONCATENATE(I$10,VLOOKUP($A$1,segéd!$I$1:$K$15,2,FALSE),$Y13),Alap!$C:$D,2,FALSE),"") | ... X13: =IFERROR(VLOOKUP(CONCATENATE(X$10,VLOOKUP($A$1,segéd!$I$1:$K$15,2,FALSE),$Y13),Alap!$C:$D,2,FALSE),"") | Y13: 6
A14: 18.45 - 20.15 | B14: =IFERROR(VLOOKUP(CONCATENATE(B$10,VLOOKUP($A$1,segéd!$I$1:$K$15,2,FALSE),$Y14),Alap!$C:$D,2,FALSE),"") | C14: =IFERROR(VLOOKUP(CONCATENATE(C$10,VLOOKUP($A$1,segéd!$I$1:$K$15,2,FALSE),$Y14),Alap!$C:$D,2,FALSE),"") | D14: =IFERROR(VLOOKUP(CONCATENATE(D$10,VLOOKUP($A$1,segéd!$I$1:$K$15,2,FALSE),$Y14),Alap!$C:$D,2,FALSE),"") | E14: =IFERROR(VLOOKUP(CONCATENATE(E$10,VLOOKUP($A$1,segéd!$I$1:$K$15,2,FALSE),$Y14),Alap!$C:$D,2,FALSE),"") | F14: =IFERROR(VLOOKUP(CONCATENATE(F$10,VLOOKUP($A$1,segéd!$I$1:$K$15,2,FALSE),$Y14),Alap!$C:$D,2,FALSE),"") | G14: =IFERROR(VLOOKUP(CONCATENATE(G$10,VLOOKUP($A$1,segéd!$I$1:$K$15,2,FALSE),$Y14),Alap!$C:$D,2,FALSE),"") | H14: =IFERROR(VLOOKUP(CONCATENATE(H$10,VLOOKUP($A$1,segéd!$I$1:$K$15,2,FALSE),$Y14),Alap!$C:$D,2,FALSE),"") | I14: =IFERROR(VLOOKUP(CONCATENATE(I$10,VLOOKUP($A$1,segéd!$I$1:$K$15,2,FALSE),$Y14),Alap!$C:$D,2,FALSE),"") | ... X14: =IFERROR(VLOOKUP(CONCATENATE(X$10,VLOOKUP($A$1,segéd!$I$1:$K$15,2,FALSE),$Y14),Alap!$C:$D,2,FALSE),"") | Y14: 7

Sheet Útmutató
A1: Az órarendi adatok augusztustól a Neptun tanulmányi rendszerből is elérhetőek!
A3: Felhasználói útmutató a levelezős órarendi Excel használatához
A4: Bármilyen kérdése van az órarendi Excellel kapcsolatban, keresse Kovács Gergelyt a kovacs.gergely@edutus.hu elérhetőségen.
A6: Útmutató oktatóknak:
A7: 1. Az Oktató munkalapon a bal felső piros cellában a legördülő menüből válassza ki a nevét (előfordulhat, hogy ehhez a szerkeszthetőséget engedélyezni kell).
A8: Ezek után a táblázatban megjelennek az órák, felül a szombatok, alatta egy külön táblázatban a péntekek.
A9: 2. Ha egy tárgyról részletes adatokat szeretne, az Alap munkalapon a tárgy nevére, vagy az oktató nevére szűrve láthatja a saját óráit.
A10: A "terem Bp.", illetve a "terem Tb." oszlopok töltöttsége jelzi azt, hogy az óra Budapesten vagy Tatabányán van.
A11: Ha egy sorban több helyszín rovata is töltött, akkor az óra webináriummal egyszerre több helyszínen zajlik, az oktató a Megjegyzés rovatban jelzett helyszínen jelenik meg.
A13: Útmutató hallgatóknak:
A14: 1. Egy adott szak és évfolyam óráinak megjelenítése.
A15: Az alábbi táblázatban keresse ki az adott évfolyam rövidítését, majd keresse meg az adott rövidítéshez tartozó munkalapot. A pénteki órák a szombati órák alatti táblázatban találhatóak.
... A22: Az órarend, terembeosztás év közben is változhat, érdemes ellenőrizni!
A24: kód | B24: helyszín, évfolyam, szak, szakirány
A25: B1 | B25: Budapest, 1. év, gazdálkodási és menedzsment, kereskedelem és marketing, illetve nemzetközi gazdálkodás alapképzés
A26: 1T | B26: Budapest, 1. év, turizmus-vendéglátás alapképzés
A27: B1F | B27: Budapest, 1. év, kereskedelem és marketing FOKSZ
A28: B1M | B28: Budapest, 1. év, marketing mesterképzés
A29: 1E | B29: Budapest, 1. év, ellátásilánc-menedzsment mesterképzés
A30: 1K | B30: Budapest, 1. év, körforgásos gazdaság menedzsment mesterképzés
A31: T1 | B31: Tatabánya, 1. év, gazdálkodási és menedzsment, illetve kereskedelem és marketing alapképzés
A32: T1FK | B32: Tatabánya, 1. év, kereskedelem és marketing FOKSZ
A33: 1FM | B33: Tatabánya, 1. év, műszaki menedzser FOKSZ
A34: 1Mű | B34: Tatabánya, 1. év, műszaki menedzser alapképzés
A35: 1Me | B35: Tatabánya, 1. év, mechatronikai mérnök alapképzés
... A73: 4MR | B73: Tatabánya, 4. év, mechatronikai mérnök alapképzés, robotika és dróntechnológia szakirány

Sheet Alap
BM1: terem | BN1: terem | BQ1: Össz. | BR1: Bp. | BS1: Tb. | BT1: B1 | BU1: 1T | BV1: B1F | BW1: B1M | BX1: 1E | BY1: 1K | BZ1: B2G | CA1: B2K | CB1: 2T | CC1: 2FK | CD1: B2M | CE1: 2E | CF1: 2K | CG1: BGI | CH1: BGK | CI1: BGN | CJ1: BKL | CK1: BKM | CL1: BKN | CM1: 3T | CN1: T1 | CO1: T1FK | CP1: 1FM | CQ1: 1Mű | CR1: 1Me | CS1: T1M | CT1: T2G | CU1: T2K | CV1: 2FM | CW1: 2Mű | CX1: 2Me | CY1: T2M | CZ1: TGI | DA1: TGK | DB1: TGN | DC1: TKL | DD1: TKM | DE1: TKN | DF1: 3MF | DG1: 3ML | DH1: 3MM | DI1: 3MK | DJ1: 3MR | DK1: 4MF | DL1: 4ML | DM1: 4MM | DN1: 4MK | DO1: MeL | DP1: 4MR
A2: Teremhez | B2: Terem | C2: Tbteremhez | D2: TB terem | E2: Oktatóhoz | F2: Oktató | G2: B1 | H2: 1T | I2: B1F | J2: B1M | K2: 1E | L2: 1K | M2: B2G | N2: B2K | O2: 2T | P2: 2FK | Q2: B2M | R2: 2E | S2: 2K | T2: BGI | U2: BGK | V2: BGN | W2: BKL | X2: BKM | Y2: BKN | Z2: 3T | AA2: Hallgató Budapest | AB2: T1 | AC2: T1FK | AD2: 1FM | AE2: 1Mű | AF2: 1Me | AG2: T1M | AH2: T2G | AI2: T2K | AJ2: 2FM | AK2: 2Mű | AL2: 2Me | AM2: T2M | AN2: TGI | AO2: TGK | AP2: TGN | AQ2: TKL | AR2: TKM | AS2: TKN | AT2: 3MF | AU2: 3ML | AV2: 3MM | AW2: 3MK | AX2: 3MR | AY2: 4MF | AZ2: 4ML | BA2: 4MM | BB2: 4MK | BC2: MeL | BD2: 4MR | BE2: Hallgató Tatabánya | BF2: 100 | BG2: Sáv0 | BH2: Dátum | BI2: Időtartam | BJ2: Tárgy | BK2: Oktató | BL2: Képzés | BM2: Bp. | BN2: Tb. | BO2: Megjegyzés | BP2: weblink | BT2: 67 | BU2: 18 | BV2: 9 | BW2: 9 | BX2: 15 | BY2: 13 | BZ2: 15 | CA2: 37 | CB2: 8 | CC2: 6 | CD2: 5 | CE2: 11 | CF2: 11 | CG2: 6 | CH2: 6 | CI2: 7 | CJ2: 6 | CK2: 13 | CL2: 4 | CM2: 6 | CN2: 53 | CO2: 4 | CP2: 8 | CQ2: 74 | CR2: 48 | CS2: 8 | CT2: 31 | CU2: 25 | CV2: 7 | CW2: 37 | CX2: 56 | CY2: 5 | CZ2: 3 | DA2: 7 | DB2: 8 | DC2: 3 | DD2: 2 | DE2: 6 | DF2: 27 | DG2: 8 | DH2: 13 | DI2: 14 | DJ2: 44 | DK2: 17 | DL2: 8 | DM2: 22 | DN2: 8 | DO2: 10 | DP2: 32
A3: =CONCATENATE(BM3,BF3,BG3) -> otthon9046 | B3: =CONCATENATE(BJ3," - ",BK3,IF(BO3="","",CONCATENATE(" (",BO3,")"))," ",BR3) -> Angol gazdasági szaknyelv II. - Balog Mónika (otthonról web) 20 | C3: =CONCATENATE(BN3,BF3,BG3) -> otthon9046 | D3: =CONCATENATE(BJ3," - ",BK3,IF(BO3="","",CONCATENATE(" (",BO3,")"))," ",BS3) -> Angol gazdasági szaknyelv II. - Balog Mónika (otthonról web) 10 | E3: =CONCATENATE(BK3,BF3,BG3) -> Balog Mónika9046 | F3: =CONCATENATE(BJ3," (",IF(OR(BM3="",BO3="Tb.-ről web"),"",CONCATENATE("Bp. ",BM3)),IF(OR(BN3="",BO3="Bp.-ről web"),"",CONCATENATE("Tb. ",BN3)),IF(BO3="","",CONCATENATE(", ",BO3)),")") -> Angol gazdasági szaknyelv II. (Bp. otthonTb. otthon, otthonról web) | G3: =IF(BT3="","",CONCATENATE($BF3,$BG3)) | H3: =IF(BU3="","",CONCATENATE($BF3,$BG3)) | I3: =IF(BV3="","",CONCATENATE($BF3,$BG3)) | J3: =IF(BW3="","",CONCATENATE($BF3,$BG3)) | K3: =IF(BX3="","",CONCATENATE($BF3,$BG3)) | L3: =IF(BY3="","",CONCATENATE($BF3,$BG3)) | M3: =IF(BZ3="","",CONCATENATE($BF3,$BG3)) -> 9046 | N3: =IF(CA3="","",CONCATENATE($BF3,$BG3)) -> 9046 | ... Z3: =IF(CM3="","",CONCATENATE($BF3,$BG3)) | AA3: =CONCATENATE(BJ3," (",BM3,IF(BO3="","",CONCATENATE(", ",BO3)),")") -> Angol gazdasági szaknyelv II. (otthon, otthonról web) | AB3: =IF(CN3="","",CONCATENATE($BF3,$BG3)) | AC3: =IF(CO3="","",CONCATENATE($BF3,$BG3)) | AD3: =IF(CP3="","",CONCATENATE($BF3,$BG3)) | AE3: =IF(CQ3="","",CONCATENATE($BF3,$BG3)) | AF3: =IF(CR3="","",CONCATENATE($BF3,$BG3)) | AG3: =IF(CS3="","",CONCATENATE($BF3,$BG3)) | AH3: =IF(CT3="","",CONCATENATE($BF3,$BG3)) -> 9046 | AI3: =IF(CU3="","",CONCATENATE($BF3,$BG3)) -> 9046 | ... BD3: =IF(DP3="","",CONCATENATE($BF3,$BG3)) | BE3: =CONCATENATE(BJ3," (",BN3,IF(BO3="","",CONCATENATE(", ",BO3)),")") -> Angol gazdasági szaknyelv II. (otthon, otthonról web) | BF3: 904 | BG3: 6 | BH3: =VLOOKUP(BF3,segéd!$F$9:$G$41,2,FALSE) -> 46269 | BI3: =VLOOKUP(BG3,segéd!$F$1:$G$7,2,FALSE) -> 17.00-18.30 | BJ3: Angol gazdasági szaknyelv II. | BK3: Balog Mónika | BL3: budapesti, tatabányai alapképzés | BM3: otthon | BN3: otthon | BO3: otthonról web | BP3: https://teams.microsoft.com/meet/328410023495703?p=hhAi7WeVHaLesl8K8M | BQ3: =IF(BR3="",0,BR3)+IF(BS3="",0,BS3) -> 30 | BR3: =IF(BM3="","",IFERROR(VLOOKUP(BJ3,segéd!T:U,2,FALSE),"x")) -> 20 | BS3: =IF(BN3="","",IFERROR(VLOOKUP(BJ3,segéd!O:P,2,FALSE),"x")) -> 10 | BZ3: 4 | CA3: 4 | CT3: 4 | CU3: 3
A4: =CONCATENATE(BM4,BF4,BG4) -> otthon9047 | B4: =CONCATENATE(BJ4," - ",BK4,IF(BO4="","",CONCATENATE(" (",BO4,")"))," ",BR4) -> Angol gazdasági szaknyelv II. - Balog Mónika (otthonról web) 20 | C4: =CONCATENATE(BN4,BF4,BG4) -> otthon9047 | D4: =CONCATENATE(BJ4," - ",BK4,IF(BO4="","",CONCATENATE(" (",BO4,")"))," ",BS4) -> Angol gazdasági szaknyelv II. - Balog Mónika (otthonról web) 10 | E4: =CONCATENATE(BK4,BF4,BG4) -> Balog Mónika9047 | F4: =CONCATENATE(BJ4," (",IF(OR(BM4="",BO4="Tb.-ről web"),"",CONCATENATE("Bp. ",BM4)),IF(OR(BN4="",BO4="Bp.-ről web"),"",CONCATENATE("Tb. ",BN4)),IF(BO4="","",CONCATENATE(", ",BO4)),")") -> Angol gazdasági szaknyelv II. (Bp. otthonTb. otthon, otthonról web) | G4: =IF(BT4="","",CONCATENATE($BF4,$BG4)) | H4: =IF(BU4="","",CONCATENATE($BF4,$BG4)) | I4: =IF(BV4="","",CONCATENATE($BF4,$BG4)) | J4: =IF(BW4="","",CONCATENATE($BF4,$BG4)) | K4: =IF(BX4="","",CONCATENATE($BF4,$BG4)) | L4: =IF(BY4="","",CONCATENATE($BF4,$BG4)) | M4: =IF(BZ4="","",CONCATENATE($BF4,$BG4)) -> 9047 | N4: =IF(CA4="","",CONCATENATE($BF4,$BG4)) -> 9047 | ... Z4: =IF(CM4="","",CONCATENATE($BF4,$BG4)) | AA4: =CONCATENATE(BJ4," (",BM4,IF(BO4="","",CONCATENATE(", ",BO4)),")") -> Angol gazdasági szaknyelv II. (otthon, otthonról web) | AB4: =IF(CN4="","",CONCATENATE($BF4,$BG4)) | AC4: =IF(CO4="","",CONCATENATE($BF4,$BG4)) | AD4: =IF(CP4="","",CONCATENATE($BF4,$BG4)) | AE4: =IF(CQ4="","",CONCATENATE($BF4,$BG4)) | AF4: =IF(CR4="","",CONCATENATE($BF4,$BG4)) | AG4: =IF(CS4="","",CONCATENATE($BF4,$BG4)) | AH4: =IF(CT4="","",CONCATENATE($BF4,$BG4)) -> 9047 | AI4: =IF(CU4="","",CONCATENATE($BF4,$BG4)) -> 9047 | ... BD4: =IF(DP4="","",CONCATENATE($BF4,$BG4)) | BE4: =CONCATENATE(BJ4," (",BN4,IF(BO4="","",CONCATENATE(", ",BO4)),")") -> Angol gazdasági szaknyelv II. (otthon, otthonról web) | BF4: 904 | BG4: 7 | BH4: =VLOOKUP(BF4,segéd!$F$9:$G$41,2,FALSE) -> 46269 | BI4: =VLOOKUP(BG4,segéd!$F$1:$G$7,2,FALSE) -> 18.45-20.15 | BJ4: Angol gazdasági szaknyelv II. | BK4: Balog Mónika | BL4: budapesti, tatabányai alapképzés | BM4: otthon | BN4: otthon | BO4: otthonról web | BP4: https://teams.microsoft.com/meet/328410023495703?p=hhAi7WeVHaLesl8K8M | BQ4: =IF(BR4="",0,BR4)+IF(BS4="",0,BS4) -> 30 | BR4: =IF(BM4="","",IFERROR(VLOOKUP(BJ4,segéd!T:U,2,FALSE),"x")) -> 20 | BS4: =IF(BN4="","",IFERROR(VLOOKUP(BJ4,segéd!O:P,2,FALSE),"x")) -> 10 | BZ4: 4 | CA4: 4 | CT4: 4 | CU4: 3
A5: =CONCATENATE(BM5,BF5,BG5) -> 9051 | B5: =CONCATENATE(BJ5," - ",BK5,IF(BO5="","",CONCATENATE(" (",BO5,")"))," ",BR5) -> Analóg és digitális elekt. - Böcz Gábor (web) | C5: =CONCATENATE(BN5,BF5,BG5) -> 6019051 | D5: =CONCATENATE(BJ5," - ",BK5,IF(BO5="","",CONCATENATE(" (",BO5,")"))," ",BS5) -> Analóg és digitális elekt. - Böcz Gábor (web) 103 | E5: =CONCATENATE(BK5,BF5,BG5) -> Böcz Gábor9051 | F5: =CONCATENATE(BJ5," (",IF(OR(BM5="",BO5="Tb.-ről web"),"",CONCATENATE("Bp. ",BM5)),IF(OR(BN5="",BO5="Bp.-ről web"),"",CONCATENATE("Tb. ",BN5)),IF(BO5="","",CONCATENATE(", ",BO5)),")") -> Analóg és digitális elekt. (Tb. 601, web) | G5: =IF(BT5="","",CONCATENATE($BF5,$BG5)) | H5: =IF(BU5="","",CONCATENATE($BF5,$BG5)) | I5: =IF(BV5="","",CONCATENATE($BF5,$BG5)) | J5: =IF(BW5="","",CONCATENATE($BF5,$BG5)) | K5: =IF(BX5="","",CONCATENATE($BF5,$BG5)) | L5: =IF(BY5="","",CONCATENATE($BF5,$BG5)) | M5: =IF(BZ5="","",CONCATENATE($BF5,$BG5)) | N5: =IF(CA5="","",CONCATENATE($BF5,$BG5)) | ... Z5: =IF(CM5="","",CONCATENATE($BF5,$BG5)) | AA5: =CONCATENATE(BJ5," (",BM5,IF(BO5="","",CONCATENATE(", ",BO5)),")") -> Analóg és digitális elekt. (, web) | AB5: =IF(CN5="","",CONCATENATE($BF5,$BG5)) | AC5: =IF(CO5="","",CONCATENATE($BF5,$BG5)) | AD5: =IF(CP5="","",CONCATENATE($BF5,$BG5)) | AE5: =IF(CQ5="","",CONCATENATE($BF5,$BG5)) | AF5: =IF(CR5="","",CONCATENATE($BF5,$BG5)) | AG5: =IF(CS5="","",CONCATENATE($BF5,$BG5)) | AH5: =IF(CT5="","",CONCATENATE($BF5,$BG5)) | AI5: =IF(CU5="","",CONCATENATE($BF5,$BG5)) | ... BD5: =IF(DP5="","",CONCATENATE($BF5,$BG5)) | BE5: =CONCATENATE(BJ5," (",BN5,IF(BO5="","",CONCATENATE(", ",BO5)),")") -> Analóg és digitális elekt. (601, web) | BF5: 905 | BG5: 1 | BH5: =VLOOKUP(BF5,segéd!$F$9:$G$41,2,FALSE) -> 46270 | BI5: =VLOOKUP(BG5,segéd!$F$1:$G$7,2,FALSE) -> 8.00-9.30 | BJ5: Analóg és digitális elekt. | BK5: Böcz Gábor | BL5: tatabányai alapképzés | BN5: 601 | BO5: web | BP5: https://teams.microsoft.com/meet/332997148914596?p=wraH800GCJp8guBz2n | BQ5: =IF(BR5="",0,BR5)+IF(BS5="",0,BS5) -> 103 | BR5: =IF(BM5="","",IFERROR(VLOOKUP(BJ5,segéd!T:U,2,FALSE),"x")) | BS5: =IF(BN5="","",IFERROR(VLOOKUP(BJ5,segéd!O:P,2,FALSE),"x")) -> 103 | CX5: 56 | DF5: 27 | DG5: 8 | DH5: 13
A6: =CONCATENATE(BM6,BF6,BG6) -> 2019051 | B6: =CONCATENATE(BJ6," - ",BK6,IF(BO6="","",CONCATENATE(" (",BO6,")"))," ",BR6) -> Félév eleji tájékoztató - általános - Oktatásszervezés (8.45-ig, web) 146 | C6: =CONCATENATE(BN6,BF6,BG6) -> 5019051 | D6: =CONCATENATE(BJ6," - ",BK6,IF(BO6="","",CONCATENATE(" (",BO6,")"))," ",BS6) -> Félév eleji tájékoztató - általános - Oktatásszervezés (8.45-ig, web) 198 | E6: =CONCATENATE(BK6,BF6,BG6) -> Oktatásszervezés9051 | F6: =CONCATENATE(BJ6," (",IF(OR(BM6="",BO6="Tb.-ről web"),"",CONCATENATE("Bp. ",BM6)),IF(OR(BN6="",BO6="Bp.-ről web"),"",CONCATENATE("Tb. ",BN6)),IF(BO6="","",CONCATENATE(", ",BO6)),")") -> Félév eleji tájékoztató - általános (Bp. 201Tb. 501, 8.45-ig, web) | G6: =IF(BT6="","",CONCATENATE($BF6,$BG6)) -> 9051 | H6: =IF(BU6="","",CONCATENATE($BF6,$BG6)) -> 9051 | I6: =IF(BV6="","",CONCATENATE($BF6,$BG6)) -> 9051 | J6: =IF(BW6="","",CONCATENATE($BF6,$BG6)) -> 9051 | K6: =IF(BX6="","",CONCATENATE($BF6,$BG6)) -> 9051 | L6: =IF(BY6="","",CONCATENATE($BF6,$BG6)) -> 9051 | M6: =IF(BZ6="","",CONCATENATE($BF6,$BG6)) | N6: =IF(CA6="","",CONCATENATE($BF6,$BG6)) | ... Z6: =IF(CM6="","",CONCATENATE($BF6,$BG6)) | AA6: =CONCATENATE(BJ6," (",BM6,IF(BO6="","",CONCATENATE(", ",BO6)),")") -> Félév eleji tájékoztató - általános (201, 8.45-ig, web) | AB6: =IF(CN6="","",CONCATENATE($BF6,$BG6)) -> 9051 | AC6: =IF(CO6="","",CONCATENATE($BF6,$BG6)) -> 9051 | AD6: =IF(CP6="","",CONCATENATE($BF6,$BG6)) -> 9051 | AE6: =IF(CQ6="","",CONCATENATE($BF6,$BG6)) -> 9051 | AF6: =IF(CR6="","",CONCATENATE($BF6,$BG6)) -> 9051 | AG6: =IF(CS6="","",CONCATENATE($BF6,$BG6)) -> 9051 | AH6: =IF(CT6="","",CONCATENATE($BF6,$BG6)) | AI6: =IF(CU6="","",CONCATENATE($BF6,$BG6)) | ... BD6: =IF(DP6="","",CONCATENATE($BF6,$BG6)) | BE6: =CONCATENATE(BJ6," (",BN6,IF(BO6="","",CONCATENATE(", ",BO6)),")") -> Félév eleji tájékoztató - általános (501, 8.45-ig, web) | BF6: 905 | BG6: 1 | BH6: =VLOOKUP(BF6,segéd!$F$9:$G$41,2,FALSE) -> 46270 | BI6: 8.00-8.45 | BJ6: Félév eleji tájékoztató - általános | BK6: Oktatásszervezés | BL6: minden budapesti, tatabányai képzés | BM6: 201 | BN6: 501 | BO6: 8.45-ig, web | BP6: https://teams.microsoft.com/meet/362813348478666?p=CKO0bT0KMRogyb4Ghr | BQ6: =IF(BR6="",0,BR6)+IF(BS6="",0,BS6) -> 344 | BR6: =IF(BM6="","",IFERROR(VLOOKUP(BJ6,segéd!T:U,2,FALSE),"x")) -> 146 | BS6: =IF(BN6="","",IFERROR(VLOOKUP(BJ6,segéd!O:P,2,FALSE),"x")) -> 198 | BT6: 67 | BU6: 18 | BV6: 9 | BW6: 9 | BX6: 15 | BY6: 13 | CN6: 53 | CO6: 6 | CP6: 8 | CQ6: 74 | CR6: 48 | CS6: 8
A7: =CONCATENATE(BM7,BF7,BG7) -> 2019051 | B7: =CONCATENATE(BJ7," - ",BK7,IF(BO7="","",CONCATENATE(" (",BO7,")"))," ",BR7) -> Félév eleji tájékoztató, gazd., ker. szakok - Oktatásszervezés (8.45-től, web) | C7: =CONCATENATE(BN7,BF7,BG7) -> 2159051 | D7: =CONCATENATE(BJ7," - ",BK7,IF(BO7="","",CONCATENATE(" (",BO7,")"))," ",BS7) -> Félév eleji tájékoztató, gazd., ker. szakok - Oktatásszervezés (8.45-től, web) | E7: =CONCATENATE(BK7,BF7,BG7) -> Oktatásszervezés9051 | F7: =CONCATENATE(BJ7," (",IF(OR(BM7="",BO7="Tb.-ről web"),"",CONCATENATE("Bp. ",BM7)),IF(OR(BN7="",BO7="Bp.-ről web"),"",CONCATENATE("Tb. ",BN7)),IF(BO7="","",CONCATENATE(", ",BO7)),")") -> Félév eleji tájékoztató, gazd., ker. szakok (Bp. 201Tb. 215, 8.45-től, web) | G7: =IF(BT7="","",CONCATENATE($BF7,$BG7)) -> 9051 | H7: =IF(BU7="","",CONCATENATE($BF7,$BG7)) | I7: =IF(BV7="","",CONCATENATE($BF7,$BG7)) -> 9051 | J7: =IF(BW7="","",CONCATENATE($BF7,$BG7)) -> 9051 | K7: =IF(BX7="","",CONCATENATE($BF7,$BG7)) -> 9051 | L7: =IF(BY7="","",CONCATENATE($BF7,$BG7)) -> 9051 | M7: =IF(BZ7="","",CONCATENATE($BF7,$BG7)) | N7: =IF(CA7="","",CONCATENATE($BF7,$BG7)) | ... Z7: =IF(CM7="","",CONCATENATE($BF7,$BG7)) | AA7: =CONCATENATE(BJ7," (",BM7,IF(BO7="","",CONCATENATE(", ",BO7)),")") -> Félév eleji tájékoztató, gazd., ker. szakok (201, 8.45-től, web) | AB7: =IF(CN7="","",CONCATENATE($BF7,$BG7)) -> 9051 | AC7: =IF(CO7="","",CONCATENATE($BF7,$BG7)) -> 9051 | AD7: =IF(CP7="","",CONCATENATE($BF7,$BG7)) | AE7: =IF(CQ7="","",CONCATENATE($BF7,$BG7)) | AF7: =IF(CR7="","",CONCATENATE($BF7,$BG7)) | AG7: =IF(CS7="","",CONCATENATE($BF7,$BG7)) | AH7: =IF(CT7="","",CONCATENATE($BF7,$BG7)) | AI7: =IF(CU7="","",CONCATENATE($BF7,$BG7)) | ... BD7: =IF(DP7="","",CONCATENATE($BF7,$BG7)) | BE7: =CONCATENATE(BJ7," (",BN7,IF(BO7="","",CONCATENATE(", ",BO7)),")") -> Félév eleji tájékoztató, gazd., ker. szakok (215, 8.45-től, web) | BF7: 905 | BG7: 1 | BH7: =VLOOKUP(BF7,segéd!$F$9:$G$41,2,FALSE) -> 46270 | BI7: 8.45-9.30 | BJ7: Félév eleji tájékoztató, gazd., ker. szakok | BK7: Oktatásszervezés | BL7: minden budapesti, tb.-i gazdász képzés | BM7: 201 | BN7: 215 | BO7: 8.45-től, web | BP7: https://teams.microsoft.com/meet/362813348478666?p=CKO0bT0KMRogyb4Ghr | BQ7: =IF(BR7="",0,BR7)+IF(BS7="",0,BS7) -> 0 | BT7: 67 | BV7: 9 | BW7: 9 | BX7: 15 | BY7: 13 | CN7: 53 | CO7: 6
A8: =CONCATENATE(BM8,BF8,BG8) -> 9051 | B8: =CONCATENATE(BJ8," - ",BK8,IF(BO8="","",CONCATENATE(" (",BO8,")"))," ",BR8) -> Félév eleji tájékoztató, műszaki szakok - Oktatásszervezés (8.45-től, web) | C8: =CONCATENATE(BN8,BF8,BG8) -> 5019051 | D8: =CONCATENATE(BJ8," - ",BK8,IF(BO8="","",CONCATENATE(" (",BO8,")"))," ",BS8) -> Félév eleji tájékoztató, műszaki szakok - Oktatásszervezés (8.45-től, web) | E8: =CONCATENATE(BK8,BF8,BG8) -> Oktatásszervezés9051 | F8: =CONCATENATE(BJ8," (",IF(OR(BM8="",BO8="Tb.-ről web"),"",CONCATENATE("Bp. ",BM8)),IF(OR(BN8="",BO8="Bp.-ről web"),"",CONCATENATE("Tb. ",BN8)),IF(BO8="","",CONCATENATE(", ",BO8)),")") -> Félév eleji tájékoztató, műszaki szakok (Tb. 501, 8.45-től, web) | G8: =IF(BT8="","",CONCATENATE($BF8,$BG8)) | H8: =IF(BU8="","",CONCATENATE($BF8,$BG8)) | I8: =IF(BV8="","",CONCATENATE($BF8,$BG8)) | J8: =IF(BW8="","",CONCATENATE($BF8,$BG8)) | K8: =IF(BX8="","",CONCATENATE($BF8,$BG8)) | L8: =IF(BY8="","",CONCATENATE($BF8,$BG8)) | M8: =IF(BZ8="","",CONCATENATE($BF8,$BG8)) | N8: =IF(CA8="","",CONCATENATE($BF8,$BG8)) | ... Z8: =IF(CM8="","",CONCATENATE($BF8,$BG8)) | AA8: =CONCATENATE(BJ8," (",BM8,IF(BO8="","",CONCATENATE(", ",BO8)),")") -> Félév eleji tájékoztató, műszaki szakok (, 8.45-től, web) | AB8: =IF(CN8="","",CONCATENATE($BF8,$BG8)) | AC8: =IF(CO8="","",CONCATENATE($BF8,$BG8)) | AD8: =IF(CP8="","",CONCATENATE($BF8,$BG8)) -> 9051 | AE8: =IF(CQ8="","",CONCATENATE($BF8,$BG8)) -> 9051 | AF8: =IF(CR8="","",CONCATENATE($BF8,$BG8)) -> 9051 | AG8: =IF(CS8="","",CONCATENATE($BF8,$BG8)) -> 9051 | AH8: =IF(CT8="","",CONCATENATE($BF8,$BG8)) | AI8: =IF(CU8="","",CONCATENATE($BF8,$BG8)) | ... BD8: =IF(DP8="","",CONCATENATE($BF8,$BG8)) | BE8: =CONCATENATE(BJ8," (",BN8,IF(BO8="","",CONCATENATE(", ",BO8)),")") -> Félév eleji tájékoztató, műszaki szakok (501, 8.45-től, web) | BF8: 905 | BG8: 1 | BH8: =VLOOKUP(BF8,segéd!$F$9:$G$41,2,FALSE) -> 46270 | BI8: 8.45-9.30 | BJ8: Félév eleji tájékoztató, műszaki szakok | BK8: Oktatásszervezés | BL8: minden tatabányai műszaki képzés | BN8: 501 | BO8: 8.45-től, web | BP8: https://teams.microsoft.com/meet/389084570665884?p=gtIjsQpYeEi91D5SdY | BQ8: =IF(BR8="",0,BR8)+IF(BS8="",0,BS8) -> 0 | CP8: 8 | CQ8: 74 | CR8: 48 | CS8: 8
A9: =CONCATENATE(BM9,BF9,BG9) -> 2099051 | B9: =CONCATENATE(BJ9," - ",BK9,IF(BO9="","",CONCATENATE(" (",BO9,")"))," ",BR9) -> Félév eleji tájékoztató, turizmus szak - Oktatásszervezés (8.45-től, web) | C9: =CONCATENATE(BN9,BF9,BG9) -> 9051 | D9: =CONCATENATE(BJ9," - ",BK9,IF(BO9="","",CONCATENATE(" (",BO9,")"))," ",BS9) -> Félév eleji tájékoztató, turizmus szak - Oktatásszervezés (8.45-től, web) | E9: =CONCATENATE(BK9,BF9,BG9) -> Oktatásszervezés9051 | F9: =CONCATENATE(BJ9," (",IF(OR(BM9="",BO9="Tb.-ről web"),"",CONCATENATE("Bp. ",BM9)),IF(OR(BN9="",BO9="Bp.-ről web"),"",CONCATENATE("Tb. ",BN9)),IF(BO9="","",CONCATENATE(", ",BO9)),")") -> Félév eleji tájékoztató, turizmus szak (Bp. 209, 8.45-től, web) | G9: =IF(BT9="","",CONCATENATE($BF9,$BG9)) | H9: =IF(BU9="","",CONCATENATE($BF9,$BG9)) -> 9051 | I9: =IF(BV9="","",CONCATENATE($BF9,$BG9)) | J9: =IF(BW9="","",CONCATENATE($BF9,$BG9)) | K9: =IF(BX9="","",CONCATENATE($BF9,$BG9)) | L9: =IF(BY9="","",CONCATENATE($BF9,$BG9)) | M9: =IF(BZ9="","",CONCATENATE($BF9,$BG9)) | N9: =IF(CA9="","",CONCATENATE($BF9,$BG9)) | ... Z9: =IF(CM9="","",CONCATENATE($BF9,$BG9)) | AA9: =CONCATENATE(BJ9," (",BM9,IF(BO9="","",CONCATENATE(", ",BO9)),")") -> Félév eleji tájékoztató, turizmus szak (209, 8.45-től, web) | AB9: =IF(CN9="","",CONCATENATE($BF9,$BG9)) | AC9: =IF(CO9="","",CONCATENATE($BF9,$BG9)) | AD9: =IF(CP9="","",CONCATENATE($BF9,$BG9)) | AE9: =IF(CQ9="","",CONCATENATE($BF9,$BG9)) | AF9: =IF(CR9="","",CONCATENATE($BF9,$BG9)) | AG9: =IF(CS9="","",CONCATENATE($BF9,$BG9)) | AH9: =IF(CT9="","",CONCATENATE($BF9,$BG9)) | AI9: =IF(CU9="","",CONCATENATE($BF9,$BG9)) | ... BD9: =IF(DP9="","",CONCATENATE($BF9,$BG9)) | BE9: =CONCATENATE(BJ9," (",BN9,IF(BO9="","",CONCATENATE(", ",BO9)),")") -> Félév eleji tájékoztató, turizmus szak (, 8.45-től, web) | BF9: 905 | BG9: 1 | BH9: =VLOOKUP(BF9,segéd!$F$9:$G$41,2,FALSE) -> 46270 | BI9: 8.45-9.30 | BJ9: Félév eleji tájékoztató, turizmus szak | BK9: Oktatásszervezés | BL9: budapesti turizmus képzés | BM9: 209 | BO9: 8.45-től, web | BP9: https://teams.microsoft.com/meet/369295846110000?p=DJhmNOa2aQTgbTK8SO | BQ9: =IF(BR9="",0,BR9)+IF(BS9="",0,BS9) -> 0 | BS9: =IF(BN9="","",IFERROR(VLOOKUP(BJ9,segéd!O:P,2,FALSE),"x")) | BU9: 18
A10: =CONCATENATE(BM10,BF10,BG10) -> 9051 | B10: =CONCATENATE(BJ10," - ",BK10,IF(BO10="","",CONCATENATE(" (",BO10,")"))," ",BR10) -> Folyamatok fejlesztése (Six S) - Csrenkovics Antónia (gépterem, web) | C10: =CONCATENATE(BN10,BF10,BG10) -> 6059051 | D10: =CONCATENATE(BJ10," - ",BK10,IF(BO10="","",CONCATENATE(" (",BO10,")"))," ",BS10) -> Folyamatok fejlesztése (Six S) - Csrenkovics Antónia (gépterem, web) 32 | E10: =CONCATENATE(BK10,BF10,BG10) -> Csrenkovics Antónia9051 | F10: =CONCATENATE(BJ10," (",IF(OR(BM10="",BO10="Tb.-ről web"),"",CONCATENATE("Bp. ",BM10)),IF(OR(BN10="",BO10="Bp.-ről web"),"",CONCATENATE("Tb. ",BN10)),IF(BO10="","",CONCATENATE(", ",BO10)),")") -> Folyamatok fejlesztése (Six S) (Tb. 605, gépterem, web) | G10: =IF(BT10="","",CONCATENATE($BF10,$BG10)) | H10: =IF(BU10="","",CONCATENATE($BF10,$BG10)) | I10: =IF(BV10="","",CONCATENATE($BF10,$BG10)) | J10: =IF(BW10="","",CONCATENATE($BF10,$BG10)) | K10: =IF(BX10="","",CONCATENATE($BF10,$BG10)) | L10: =IF(BY10="","",CONCATENATE($BF10,$BG10)) | M10: =IF(BZ10="","",CONCATENATE($BF10,$BG10)) | N10: =IF(CA10="","",CONCATENATE($BF10,$BG10)) | ... Z10: =IF(CM10="","",CONCATENATE($BF10,$BG10)) | AA10: =CONCATENATE(BJ10," (",BM10,IF(BO10="","",CONCATENATE(", ",BO10)),")") -> Folyamatok fejlesztése (Six S) (, gépterem, web) | AB10: =IF(CN10="","",CONCATENATE($BF10,$BG10)) | AC10: =IF(CO10="","",CONCATENATE($BF10,$BG10)) | AD10: =IF(CP10="","",CONCATENATE($BF10,$BG10)) | AE10: =IF(CQ10="","",CONCATENATE($BF10,$BG10)) | AF10: =IF(CR10="","",CONCATENATE($BF10,$BG10)) | AG10: =IF(CS10="","",CONCATENATE($BF10,$BG10)) | AH10: =IF(CT10="","",CONCATENATE($BF10,$BG10)) | AI10: =IF(CU10="","",CONCATENATE($BF10,$BG10)) | ... BD10: =IF(DP10="","",CONCATENATE($BF10,$BG10)) | BE10: =CONCATENATE(BJ10," (",BN10,IF(BO10="","",CONCATENATE(", ",BO10)),")") -> Folyamatok fejlesztése (Six S) (605, gépterem, web) | BF10: 905 | BG10: 1 | BH10: =VLOOKUP(BF10,segéd!$F$9:$G$41,2,FALSE) -> 46270 | BI10: =VLOOKUP(BG10,segéd!$F$1:$G$7,2,FALSE) -> 8.00-9.30 | BJ10: Folyamatok fejlesztése (Six S) | BK10: Csrenkovics Antónia | BL10: tatabányai alapképzés | BN10: 605 | BO10: gépterem, web | BP10: https://teams.microsoft.com/meet/376358509834598?p=d5Xjlev08EwojCJ0hn | BQ10: =IF(BR10="",0,BR10)+IF(BS10="",0,BS10) -> 32 | BR10: =IF(BM10="","",IFERROR(VLOOKUP(BJ10,segéd!T:U,2,FALSE),"x")) | BS10: =IF(BN10="","",IFERROR(VLOOKUP(BJ10,segéd!O:P,2,FALSE),"x")) -> 32 | DK10: 17 | DM10: 22
A11: =CONCATENATE(BM11,BF11,BG11) -> 9051 | B11: =CONCATENATE(BJ11," - ",BK11,IF(BO11="","",CONCATENATE(" (",BO11,")"))," ",BR11) -> Ipari és koll. robotika (dupla terem) - Palotai Péter (gépterem, web) | C11: =CONCATENATE(BN11,BF11,BG11) -> 6039051 | D11: =CONCATENATE(BJ11," - ",BK11,IF(BO11="","",CONCATENATE(" (",BO11,")"))," ",BS11) -> Ipari és koll. robotika (dupla terem) - Palotai Péter (gépterem, web) | E11: =CONCATENATE(BK11,BF11,BG11) -> Palotai Péter9051 | F11: =CONCATENATE(BJ11," (",IF(OR(BM11="",BO11="Tb.-ről web"),"",CONCATENATE("Bp. ",BM11)),IF(OR(BN11="",BO11="Bp.-ről web"),"",CONCATENATE("Tb. ",BN11)),IF(BO11="","",CONCATENATE(", ",BO11)),")") -> Ipari és koll. robotika (dupla terem) (Tb. 603, gépterem, web) | G11: =IF(BT11="","",CONCATENATE($BF11,$BG11)) | H11: =IF(BU11="","",CONCATENATE($BF11,$BG11)) | I11: =IF(BV11="","",CONCATENATE($BF11,$BG11)) | J11: =IF(BW11="","",CONCATENATE($BF11,$BG11)) | K11: =IF(BX11="","",CONCATENATE($BF11,$BG11)) | L11: =IF(BY11="","",CONCATENATE($BF11,$BG11)) | M11: =IF(BZ11="","",CONCATENATE($BF11,$BG11)) | N11: =IF(CA11="","",CONCATENATE($BF11,$BG11)) | ... Z11: =IF(CM11="","",CONCATENATE($BF11,$BG11)) | AA11: =CONCATENATE(BJ11," (",BM11,IF(BO11="","",CONCATENATE(", ",BO11)),")") -> Ipari és koll. robotika (dupla terem) (, gépterem, web) | AB11: =IF(CN11="","",CONCATENATE($BF11,$BG11)) | AC11: =IF(CO11="","",CONCATENATE($BF11,$BG11)) | AD11: =IF(CP11="","",CONCATENATE($BF11,$BG11)) | AE11: =IF(CQ11="","",CONCATENATE($BF11,$BG11)) | AF11: =IF(CR11="","",CONCATENATE($BF11,$BG11)) | AG11: =IF(CS11="","",CONCATENATE($BF11,$BG11)) | AH11: =IF(CT11="","",CONCATENATE($BF11,$BG11)) | AI11: =IF(CU11="","",CONCATENATE($BF11,$BG11)) | ... BD11: =IF(DP11="","",CONCATENATE($BF11,$BG11)) | BE11: =CONCATENATE(BJ11," (",BN11,IF(BO11="","",CONCATENATE(", ",BO11)),")") -> Ipari és koll. robotika (dupla terem) (603, gépterem, web) | BF11: 905 | BG11: 1 | BH11: =VLOOKUP(BF11,segéd!$F$9:$G$41,2,FALSE) -> 46270 | BI11: =VLOOKUP(BG11,segéd!$F$1:$G$7,2,FALSE) -> 8.00-9.30 | BJ11: Ipari és koll. robotika (dupla terem) | BK11: Palotai Péter | BL11: tatabányai alapképzés | BN11: 603 | BO11: gépterem, web | BP11: https://teams.microsoft.com/meet/370408766798143?p=r7pXKBZvjaySaOeb3N | BQ11: =IF(BR11="",0,BR11)+IF(BS11="",0,BS11) -> 0 | BR11: =IF(BM11="","",IFERROR(VLOOKUP(BJ11,segéd!T:U,2,FALSE),"x"))
A12: =CONCATENATE(BM12,BF12,BG12) -> 9051 | B12: =CONCATENATE(BJ12," - ",BK12,IF(BO12="","",CONCATENATE(" (",BO12,")"))," ",BR12) -> Ipari és kollaboratív robotika - Palotai Péter (gépterem, web) | C12: =CONCATENATE(BN12,BF12,BG12) -> 6049051 | D12: =CONCATENATE(BJ12," - ",BK12,IF(BO12="","",CONCATENATE(" (",BO12,")"))," ",BS12) -> Ipari és kollaboratív robotika - Palotai Péter (gépterem, web) 45 | E12: =CONCATENATE(BK12,BF12,BG12) -> Palotai Péter9051 | F12: =CONCATENATE(BJ12," (",IF(OR(BM12="",BO12="Tb.-ről web"),"",CONCATENATE("Bp. ",BM12)),IF(OR(BN12="",BO12="Bp.-ről web"),"",CONCATENATE("Tb. ",BN12)),IF(BO12="","",CONCATENATE(", ",BO12)),")") -> Ipari és kollaboratív robotika (Tb. 604, gépterem, web) | G12: =IF(BT12="","",CONCATENATE($BF12,$BG12)) | H12: =IF(BU12="","",CONCATENATE($BF12,$BG12)) | I12: =IF(BV12="","",CONCATENATE($BF12,$BG12)) | J12: =IF(BW12="","",CONCATENATE($BF12,$BG12)) | K12: =IF(BX12="","",CONCATENATE($BF12,$BG12)) | L12: =IF(BY12="","",CONCATENATE($BF12,$BG12)) | M12: =IF(BZ12="","",CONCATENATE($BF12,$BG12)) | N12: =IF(CA12="","",CONCATENATE($BF12,$BG12)) | ... Z12: =IF(CM12="","",CONCATENATE($BF12,$BG12)) | AA12: =CONCATENATE(BJ12," (",BM12,IF(BO12="","",CONCATENATE(", ",BO12)),")") -> Ipari és kollaboratív robotika (, gépterem, web) | AB12: =IF(CN12="","",CONCATENATE($BF12,$BG12)) | AC12: =IF(CO12="","",CONCATENATE($BF12,$BG12)) | AD12: =IF(CP12="","",CONCATENATE($BF12,$BG12)) | AE12: =IF(CQ12="","",CONCATENATE($BF12,$BG12)) | AF12: =IF(CR12="","",CONCATENATE($BF12,$BG12)) | AG12: =IF(CS12="","",CONCATENATE($BF12,$BG12)) | AH12: =IF(CT12="","",CONCATENATE($BF12,$BG12)) | AI12: =IF(CU12="","",CONCATENATE($BF12,$BG12)) | ... BD12: =IF(DP12="","",CONCATENATE($BF12,$BG12)) | BE12: =CONCATENATE(BJ12," (",BN12,IF(BO12="","",CONCATENATE(", ",BO12)),")") -> Ipari és kollaboratív robotika (604, gépterem, web) | BF12: 905 | BG12: 1 | BH12: =VLOOKUP(BF12,segéd!$F$9:$G$41,2,FALSE) -> 46270 | BI12: =VLOOKUP(BG12,segéd!$F$1:$G$7,2,FALSE) -> 8.00-9.30 | BJ12: Ipari és kollaboratív robotika | BK12: Palotai Péter | BL12: tatabányai alapképzés | BN12: 604 | BO12: gépterem, web | BP12: https://teams.microsoft.com/meet/370408766798143?p=r7pXKBZvjaySaOeb3N | BQ12: =IF(BR12="",0,BR12)+IF(BS12="",0,BS12) -> 45 | BR12: =IF(BM12="","",IFERROR(VLOOKUP(BJ12,segéd!T:U,2,FALSE),"x")) | BS12: =IF(BN12="","",IFERROR(VLOOKUP(BJ12,segéd!O:P,2,FALSE),"x")) -> 45 | DJ12: 44
A13: =CONCATENATE(BM13,BF13,BG13) -> 9051 | B13: =CONCATENATE(BJ13," - ",BK13,IF(BO13="","",CONCATENATE(" (",BO13,")"))," ",BR13) -> Ipari szabályozás - Varga István (web) | C13: =CONCATENATE(BN13,BF13,BG13) -> 69051 | D13: =CONCATENATE(BJ13," - ",BK13,IF(BO13="","",CONCATENATE(" (",BO13,")"))," ",BS13) -> Ipari szabályozás - Varga István (web) 13 | E13: =CONCATENATE(BK13,BF13,BG13) -> Varga István9051 | F13: =CONCATENATE(BJ13," (",IF(OR(BM13="",BO13="Tb.-ről web"),"",CONCATENATE("Bp. ",BM13)),IF(OR(BN13="",BO13="Bp.-ről web"),"",CONCATENATE("Tb. ",BN13)),IF(BO13="","",CONCATENATE(", ",BO13)),")") -> Ipari szabályozás (Tb. 6, web) | G13: =IF(BT13="","",CONCATENATE($BF13,$BG13)) | H13: =IF(BU13="","",CONCATENATE($BF13,$BG13)) | I13: =IF(BV13="","",CONCATENATE($BF13,$BG13)) | J13: =IF(BW13="","",CONCATENATE($BF13,$BG13)) | K13: =IF(BX13="","",CONCATENATE($BF13,$BG13)) | L13: =IF(BY13="","",CONCATENATE($BF13,$BG13)) | M13: =IF(BZ13="","",CONCATENATE($BF13,$BG13)) | N13: =IF(CA13="","",CONCATENATE($BF13,$BG13)) | ... Z13: =IF(CM13="","",CONCATENATE($BF13,$BG13)) | AA13: =CONCATENATE(BJ13," (",BM13,IF(BO13="","",CONCATENATE(", ",BO13)),")") -> Ipari szabályozás (, web) | AB13: =IF(CN13="","",CONCATENATE($BF13,$BG13)) | AC13: =IF(CO13="","",CONCATENATE($BF13,$BG13)) | AD13: =IF(CP13="","",CONCATENATE($BF13,$BG13)) | AE13: =IF(CQ13="","",CONCATENATE($BF13,$BG13)) | AF13: =IF(CR13="","",CONCATENATE($BF13,$BG13)) | AG13: =IF(CS13="","",CONCATENATE($BF13,$BG13)) | AH13: =IF(CT13="","",CONCATENATE($BF13,$BG13)) | AI13: =IF(CU13="","",CONCATENATE($BF13,$BG13)) | ... BD13: =IF(DP13="","",CONCATENATE($BF13,$BG13)) | BE13: =CONCATENATE(BJ13," (",BN13,IF(BO13="","",CONCATENATE(", ",BO13)),")") -> Ipari szabályozás (6, web) | BF13: 905 | BG13: 1 | BH13: =VLOOKUP(BF13,segéd!$F$9:$G$41,2,FALSE) -> 46270 | BI13: =VLOOKUP(BG13,segéd!$F$1:$G$7,2,FALSE) -> 8.00-9.30 | BJ13: Ipari szabályozás | BK13: Varga István | BL13: tatabányai alapképzés | BN13: 6 | BO13: web | BP13: https://teams.microsoft.com/meet/333810419523860?p=HU00FhmP84Ej4cd7cR | BQ13: =IF(BR13="",0,BR13)+IF(BS13="",0,BS13) -> 13 | BR13: =IF(BM13="","",IFERROR(VLOOKUP(BJ13,segéd!T:U,2,FALSE),"x")) | BS13: =IF(BN13="","",IFERROR(VLOOKUP(BJ13,segéd!O:P,2,FALSE),"x")) -> 13 | DI13: 14
A14: =CONCATENATE(BM14,BF14,BG14) -> 2149051 | B14: =CONCATENATE(BJ14," - ",BK14,IF(BO14="","",CONCATENATE(" (",BO14,")"))," ",BR14) -> Kommunikáció és média - Néveri Varagya Szilvia (Bp.-ről web) 20 | C14: =CONCATENATE(BN14,BF14,BG14) -> 4039051 | D14: =CONCATENATE(BJ14," - ",BK14,IF(BO14="","",CONCATENATE(" (",BO14,")"))," ",BS14) -> Kommunikáció és média - Néveri Varagya Szilvia (Bp.-ről web) 10 | E14: =CONCATENATE(BK14,BF14,BG14) -> Néveri Varagya Szilvia9051 | F14: =CONCATENATE(BJ14," (",IF(OR(BM14="",BO14="Tb.-ről web"),"",CONCATENATE("Bp. ",BM14)),IF(OR(BN14="",BO14="Bp.-ről web"),"",CONCATENATE("Tb. ",BN14)),IF(BO14="","",CONCATENATE(", ",BO14)),")") -> Kommunikáció és média (Bp. 214, Bp.-ről web) | G14: =IF(BT14="","",CONCATENATE($BF14,$BG14)) | H14: =IF(BU14="","",CONCATENATE($BF14,$BG14)) | I14: =IF(BV14="","",CONCATENATE($BF14,$BG14)) | J14: =IF(BW14="","",CONCATENATE($BF14,$BG14)) | K14: =IF(BX14="","",CONCATENATE($BF14,$BG14)) | L14: =IF(BY14="","",CONCATENATE($BF14,$BG14)) | M14: =IF(BZ14="","",CONCATENATE($BF14,$BG14)) | N14: =IF(CA14="","",CONCATENATE($BF14,$BG14)) | ... Z14: =IF(CM14="","",CONCATENATE($BF14,$BG14)) | AA14: =CONCATENATE(BJ14," (",BM14,IF(BO14="","",CONCATENATE(", ",BO14)),")") -> Kommunikáció és média (214, Bp.-ről web) | AB14: =IF(CN14="","",CONCATENATE($BF14,$BG14)) | AC14: =IF(CO14="","",CONCATENATE($BF14,$BG14)) | AD14: =IF(CP14="","",CONCATENATE($BF14,$BG14)) | AE14: =IF(CQ14="","",CONCATENATE($BF14,$BG14)) | AF14: =IF(CR14="","",CONCATENATE($BF14,$BG14)) | AG14: =IF(CS14="","",CONCATENATE($BF14,$BG14)) | AH14: =IF(CT14="","",CONCATENATE($BF14,$BG14)) | AI14: =IF(CU14="","",CONCATENATE($BF14,$BG14)) | ... BD14: =IF(DP14="","",CONCATENATE($BF14,$BG14)) | BE14: =CONCATENATE(BJ14," (",BN14,IF(BO14="","",CONCATENATE(", ",BO14)),")") -> Kommunikáció és média (403, Bp.-ről web) | BF14: 905 | BG14: 1 | BH14: =VLOOKUP(BF14,segéd!$F$9:$G$41,2,FALSE) -> 46270 | BI14: =VLOOKUP(BG14,segéd!$F$1:$G$7,2,FALSE) -> 8.00-9.30 | BJ14: Kommunikáció és média | BK14: Néveri Varagya Szilvia | BL14: budapesti, tatabányai alapképzés | BM14: 214 | BN14: 403 | BO14: Bp.-ről web | BP14: https://teams.microsoft.com/meet/391558951406836?p=8VxI51kgIYmzsbbGAc | BQ14: =IF(BR14="",0,BR14)+IF(BS14="",0,BS14) -> 30 | BR14: =IF(BM14="","",IFERROR(VLOOKUP(BJ14,segéd!T:U,2,FALSE),"x")) -> 20 | BS14: =IF(BN14="","",IFERROR(VLOOKUP(BJ14,segéd!O:P,2,FALSE),"x")) -> 10 | CJ14: 6 | CK14: 13 | CL14: 4 | DC14: 3 | DD14: 2 | DE14: 6
A15: =CONCATENATE(BM15,BF15,BG15) -> 9051 | B15: =CONCATENATE(BJ15," - ",BK15,IF(BO15="","",CONCATENATE(" (",BO15,")"))," ",BR15) -> Matematika III. - Kovács Gergely (web) | C15: =CONCATENATE(BN15,BF15,BG15) -> 2129051 | D15: =CONCATENATE(BJ15," - ",BK15,IF(BO15="","",CONCATENATE(" (",BO15,")"))," ",BS15) -> Matematika III. - Kovács Gergely (web) 41 | E15: =CONCATENATE(BK15,BF15,BG15) -> Kovács Gergely9051 | F15: =CONCATENATE(BJ15," (",IF(OR(BM15="",BO15="Tb.-ről web"),"",CONCATENATE("Bp. ",BM15)),IF(OR(BN15="",BO15="Bp.-ről web"),"",CONCATENATE("Tb. ",BN15)),IF(BO15="","",CONCATENATE(", ",BO15)),")") -> Matematika III. (Tb. 212, web) | G15: =IF(BT15="","",CONCATENATE($BF15,$BG15)) | H15: =IF(BU15="","",CONCATENATE($BF15,$BG15)) | I15: =IF(BV15="","",CONCATENATE($BF15,$BG15)) | J15: =IF(BW15="","",CONCATENATE($BF15,$BG15)) | K15: =IF(BX15="","",CONCATENATE($BF15,$BG15)) | L15: =IF(BY15="","",CONCATENATE($BF15,$BG15)) | M15: =IF(BZ15="","",CONCATENATE($BF15,$BG15)) | N15: =IF(CA15="","",CONCATENATE($BF15,$BG15)) | ... Z15: =IF(CM15="","",CONCATENATE($BF15,$BG15)) | AA15: =CONCATENATE(BJ15," (",BM15,IF(BO15="","",CONCATENATE(", ",BO15)),")") -> Matematika III. (, web) | AB15: =IF(CN15="","",CONCATENATE($BF15,$BG15)) | AC15: =IF(CO15="","",CONCATENATE($BF15,$BG15)) | AD15: =IF(CP15="","",CONCATENATE($BF15,$BG15)) | AE15: =IF(CQ15="","",CONCATENATE($BF15,$BG15)) | AF15: =IF(CR15="","",CONCATENATE($BF15,$BG15)) | AG15: =IF(CS15="","",CONCATENATE($BF15,$BG15)) | AH15: =IF(CT15="","",CONCATENATE($BF15,$BG15)) | AI15: =IF(CU15="","",CONCATENATE($BF15,$BG15)) | ... BD15: =IF(DP15="","",CONCATENATE($BF15,$BG15)) | BE15: =CONCATENATE(BJ15," (",BN15,IF(BO15="","",CONCATENATE(", ",BO15)),")") -> Matematika III. (212, web) | BF15: 905 | BG15: 1 | BH15: =VLOOKUP(BF15,segéd!$F$9:$G$41,2,FALSE) -> 46270 | BI15: =VLOOKUP(BG15,segéd!$F$1:$G$7,2,FALSE) -> 8.00-9.30 | BJ15: Matematika III. | BK15: Kovács Gergely | BL15: tatabányai alapképzés | BN15: 212 | BO15: web | BP15: https://teams.microsoft.com/meet/333965195025584?p=9sDlREtq9C0FCPhPg2 | BQ15: =IF(BR15="",0,BR15)+IF(BS15="",0,BS15) -> 41 | BR15: =IF(BM15="","",IFERROR(VLOOKUP(BJ15,segéd!T:U,2,FALSE),"x")) | BS15: =IF(BN15="","",IFERROR(VLOOKUP(BJ15,segéd!O:P,2,FALSE),"x")) -> 41 | CW15: 37
A16: =CONCATENATE(BM16,BF16,BG16) -> 2089051 | B16: =CONCATENATE(BJ16," - ",BK16,IF(BO16="","",CONCATENATE(" (",BO16,")"))," ",BR16) -> Statisztika II. - Piroska László (web) 45 | C16: =CONCATENATE(BN16,BF16,BG16) -> 9051 | D16: =CONCATENATE(BJ16," - ",BK16,IF(BO16="","",CONCATENATE(" (",BO16,")"))," ",BS16) -> Statisztika II. - Piroska László (web) | E16: =CONCATENATE(BK16,BF16,BG16) -> Piroska László9051 | F16: =CONCATENATE(BJ16," (",IF(OR(BM16="",BO16="Tb.-ről web"),"",CONCATENATE("Bp. ",BM16)),IF(OR(BN16="",BO16="Bp.-ről web"),"",CONCATENATE("Tb. ",BN16)),IF(BO16="","",CONCATENATE(", ",BO16)),")") -> Statisztika II. (Bp. 208, web) | G16: =IF(BT16="","",CONCATENATE($BF16,$BG16)) | H16: =IF(BU16="","",CONCATENATE($BF16,$BG16)) | I16: =IF(BV16="","",CONCATENATE($BF16,$BG16)) | J16: =IF(BW16="","",CONCATENATE($BF16,$BG16)) | K16: =IF(BX16="","",CONCATENATE($BF16,$BG16)) | L16: =IF(BY16="","",CONCATENATE($BF16,$BG16)) | M16: =IF(BZ16="","",CONCATENATE($BF16,$BG16)) -> 9051 | N16: =IF(CA16="","",CONCATENATE($BF16,$BG16)) -> 9051 | ... Z16: =IF(CM16="","",CONCATENATE($BF16,$BG16)) | AA16: =CONCATENATE(BJ16," (",BM16,IF(BO16="","",CONCATENATE(", ",BO16)),")") -> Statisztika II. (208, web) | AB16: =IF(CN16="","",CONCATENATE($BF16,$BG16)) | AC16: =IF(CO16="","",CONCATENATE($BF16,$BG16)) | AD16: =IF(CP16="","",CONCATENATE($BF16,$BG16)) | AE16: =IF(CQ16="","",CONCATENATE($BF16,$BG16)) | AF16: =IF(CR16="","",CONCATENATE($BF16,$BG16)) | AG16: =IF(CS16="","",CONCATENATE($BF16,$BG16)) | AH16: =IF(CT16="","",CONCATENATE($BF16,$BG16)) | AI16: =IF(CU16="","",CONCATENATE($BF16,$BG16)) | ... BD16: =IF(DP16="","",CONCATENATE($BF16,$BG16)) | BE16: =CONCATENATE(BJ16," (",BN16,IF(BO16="","",CONCATENATE(", ",BO16)),")") -> Statisztika II. (, web) | BF16: 905 | BG16: 1 | BH16: =VLOOKUP(BF16,segéd!$F$9:$G$41,2,FALSE) -> 46270 | BI16: =VLOOKUP(BG16,segéd!$F$1:$G$7,2,FALSE) -> 8.00-9.30 | BJ16: Statisztika II. | BK16: Piroska László | BL16: budapesti alapképzés | BM16: 208 | BO16: web | BP16: https://teams.microsoft.com/meet/325770156158867?p=up7VrpbLrAYuVwjzLq | BQ16: =IF(BR16="",0,BR16)+IF(BS16="",0,BS16) -> 45 | BR16: =IF(BM16="","",IFERROR(VLOOKUP(BJ16,segéd!T:U,2,FALSE),"x")) -> 45 | BS16: =IF(BN16="","",IFERROR(VLOOKUP(BJ16,segéd!O:P,2,FALSE),"x")) | BZ16: 15 | CA16: 37 | CB16: 8
A17: =CONCATENATE(BM17,BF17,BG17) -> 9051 | B17: =CONCATENATE(BJ17," - ",BK17,IF(BO17="","",CONCATENATE(" (",BO17,")"))," ",BR17) -> Számítógéppel segített gy. és m. alapjai - Molnár László (web) | C17: =CONCATENATE(BN17,BF17,BG17) -> 39051 | D17: =CONCATENATE(BJ17," - ",BK17,IF(BO17="","",CONCATENATE(" (",BO17,")"))," ",BS17) -> Számítógéppel segített gy. és m. alapjai - Molnár László (web) 9 | E17: =CONCATENATE(BK17,BF17,BG17) -> Molnár László9051 | F17: =CONCATENATE(BJ17," (",IF(OR(BM17="",BO17="Tb.-ről web"),"",CONCATENATE("Bp. ",BM17)),IF(OR(BN17="",BO17="Bp.-ről web"),"",CONCATENATE("Tb. ",BN17)),IF(BO17="","",CONCATENATE(", ",BO17)),")") -> Számítógéppel segített gy. és m. alapjai (Tb. 3, web) | G17: =IF(BT17="","",CONCATENATE($BF17,$BG17)) | H17: =IF(BU17="","",CONCATENATE($BF17,$BG17)) | I17: =IF(BV17="","",CONCATENATE($BF17,$BG17)) | J17: =IF(BW17="","",CONCATENATE($BF17,$BG17)) | K17: =IF(BX17="","",CONCATENATE($BF17,$BG17)) | L17: =IF(BY17="","",CONCATENATE($BF17,$BG17)) | M17: =IF(BZ17="","",CONCATENATE($BF17,$BG17)) | N17: =IF(CA17="","",CONCATENATE($BF17,$BG17)) | ... Z17: =IF(CM17="","",CONCATENATE($BF17,$BG17)) | AA17: =CONCATENATE(BJ17," (",BM17,IF(BO17="","",CONCATENATE(", ",BO17)),")") -> Számítógéppel segített gy. és m. alapjai (, web) | AB17: =IF(CN17="","",CONCATENATE($BF17,$BG17)) | AC17: =IF(CO17="","",CONCATENATE($BF17,$BG17)) | AD17: =IF(CP17="","",CONCATENATE($BF17,$BG17)) | AE17: =IF(CQ17="","",CONCATENATE($BF17,$BG17)) | AF17: =IF(CR17="","",CONCATENATE($BF17,$BG17)) | AG17: =IF(CS17="","",CONCATENATE($BF17,$BG17)) | AH17: =IF(CT17="","",CONCATENATE($BF17,$BG17)) | AI17: =IF(CU17="","",CONCATENATE($BF17,$BG17)) | ... BD17: =IF(DP17="","",CONCATENATE($BF17,$BG17)) | BE17: =CONCATENATE(BJ17," (",BN17,IF(BO17="","",CONCATENATE(", ",BO17)),")") -> Számítógéppel segített gy. és m. alapjai (3, web) | BF17: 905 | BG17: 1 | BH17: =VLOOKUP(BF17,segéd!$F$9:$G$41,2,FALSE) -> 46270 | BI17: =VLOOKUP(BG17,segéd!$F$1:$G$7,2,FALSE) -> 8.00-9.30 | BJ17: Számítógéppel segített gy. és m. alapjai | BK17: Molnár László | BL17: tatabányai FOKSZ | BN17: 3 | BO17: web | BP17: https://teams.microsoft.com/meet/315954212246681?p=2E81Y4LwDInMdYyFrB | BQ17: =IF(BR17="",0,BR17)+IF(BS17="",0,BS17) -> 9 | BR17: =IF(BM17="","",IFERROR(VLOOKUP(BJ17,segéd!T:U,2,FALSE),"x")) | BS17: =IF(BN17="","",IFERROR(VLOOKUP(BJ17,segéd!O:P,2,FALSE),"x")) -> 9 | CV17: 7
A18: =CONCATENATE(BM18,BF18,BG18) -> 9051 | B18: =CONCATENATE(BJ18," - ",BK18,IF(BO18="","",CONCATENATE(" (",BO18,")"))," ",BR18) -> Számvitel III. - Labossa Ildikó (web) | C18: =CONCATENATE(BN18,BF18,BG18) -> 2179051 | D18: =CONCATENATE(BJ18," - ",BK18,IF(BO18="","",CONCATENATE(" (",BO18,")"))," ",BS18) -> Számvitel III. - Labossa Ildikó (web) 24 | E18: =CONCATENATE(BK18,BF18,BG18) -> Labossa Ildikó9051 | F18: =CONCATENATE(BJ18," (",IF(OR(BM18="",BO18="Tb.-ről web"),"",CONCATENATE("Bp. ",BM18)),IF(OR(BN18="",BO18="Bp.-ről web"),"",CONCATENATE("Tb. ",BN18)),IF(BO18="","",CONCATENATE(", ",BO18)),")") -> Számvitel III. (Tb. 217, web) | G18: =IF(BT18="","",CONCATENATE($BF18,$BG18)) | H18: =IF(BU18="","",CONCATENATE($BF18,$BG18)) | I18: =IF(BV18="","",CONCATENATE($BF18,$BG18)) | J18: =IF(BW18="","",CONCATENATE($BF18,$BG18)) | K18: =IF(BX18="","",CONCATENATE($BF18,$BG18)) | L18: =IF(BY18="","",CONCATENATE($BF18,$BG18)) | M18: =IF(BZ18="","",CONCATENATE($BF18,$BG18)) | N18: =IF(CA18="","",CONCATENATE($BF18,$BG18)) | ... Z18: =IF(CM18="","",CONCATENATE($BF18,$BG18)) | AA18: =CONCATENATE(BJ18," (",BM18,IF(BO18="","",CONCATENATE(", ",BO18)),")") -> Számvitel III. (, web) | AB18: =IF(CN18="","",CONCATENATE($BF18,$BG18)) | AC18: =IF(CO18="","",CONCATENATE($BF18,$BG18)) | AD18: =IF(CP18="","",CONCATENATE($BF18,$BG18)) | AE18: =IF(CQ18="","",CONCATENATE($BF18,$BG18)) | AF18: =IF(CR18="","",CONCATENATE($BF18,$BG18)) | AG18: =IF(CS18="","",CONCATENATE($BF18,$BG18)) | AH18: =IF(CT18="","",CONCATENATE($BF18,$BG18)) | AI18: =IF(CU18="","",CONCATENATE($BF18,$BG18)) | ... BD18: =IF(DP18="","",CONCATENATE($BF18,$BG18)) | BE18: =CONCATENATE(BJ18," (",BN18,IF(BO18="","",CONCATENATE(", ",BO18)),")") -> Számvitel III. (217, web) | BF18: 905 | BG18: 1 | BH18: =VLOOKUP(BF18,segéd!$F$9:$G$41,2,FALSE) -> 46270 | BI18: =VLOOKUP(BG18,segéd!$F$1:$G$7,2,FALSE) -> 8.00-9.30 | BJ18: Számvitel III. | BK18: Labossa Ildikó | BL18: tatabányai alapképzés | BN18: 217 | BO18: web | BP18: https://teams.microsoft.com/meet/322533074245749?p=bjEGujLuHOFDTOsFmF | BQ18: =IF(BR18="",0,BR18)+IF(BS18="",0,BS18) -> 24 | BR18: =IF(BM18="","",IFERROR(VLOOKUP(BJ18,segéd!T:U,2,FALSE),"x")) | BS18: =IF(BN18="","",IFERROR(VLOOKUP(BJ18,segéd!O:P,2,FALSE),"x")) -> 24 | CZ18: 3 | DA18: 7 | DB18: 8
A19: =CONCATENATE(BM19,BF19,BG19) -> 2059051 | B19: =CONCATENATE(BJ19," - ",BK19,IF(BO19="","",CONCATENATE(" (",BO19,")"))," ",BR19) -> Számvitel III. - Péter Sára (web) 24 | C19: =CONCATENATE(BN19,BF19,BG19) -> 9051 | D19: =CONCATENATE(BJ19," - ",BK19,IF(BO19="","",CONCATENATE(" (",BO19,")"))," ",BS19) -> Számvitel III. - Péter Sára (web) | E19: =CONCATENATE(BK19,BF19,BG19) -> Péter Sára9051 | F19: =CONCATENATE(BJ19," (",IF(OR(BM19="",BO19="Tb.-ről web"),"",CONCATENATE("Bp. ",BM19)),IF(OR(BN19="",BO19="Bp.-ről web"),"",CONCATENATE("Tb. ",BN19)),IF(BO19="","",CONCATENATE(", ",BO19)),")") -> Számvitel III. (Bp. 205, web) | G19: =IF(BT19="","",CONCATENATE($BF19,$BG19)) | H19: =IF(BU19="","",CONCATENATE($BF19,$BG19)) | I19: =IF(BV19="","",CONCATENATE($BF19,$BG19)) | J19: =IF(BW19="","",CONCATENATE($BF19,$BG19)) | K19: =IF(BX19="","",CONCATENATE($BF19,$BG19)) | L19: =IF(BY19="","",CONCATENATE($BF19,$BG19)) | M19: =IF(BZ19="","",CONCATENATE($BF19,$BG19)) | N19: =IF(CA19="","",CONCATENATE($BF19,$BG19)) | ... Z19: =IF(CM19="","",CONCATENATE($BF19,$BG19)) | AA19: =CONCATENATE(BJ19," (",BM19,IF(BO19="","",CONCATENATE(", ",BO19)),")") -> Számvitel III. (205, web) | AB19: =IF(CN19="","",CONCATENATE($BF19,$BG19)) | AC19: =IF(CO19="","",CONCATENATE($BF19,$BG19)) | AD19: =IF(CP19="","",CONCATENATE($BF19,$BG19)) | AE19: =IF(CQ19="","",CONCATENATE($BF19,$BG19)) | AF19: =IF(CR19="","",CONCATENATE($BF19,$BG19)) | AG19: =IF(CS19="","",CONCATENATE($BF19,$BG19)) | AH19: =IF(CT19="","",CONCATENATE($BF19,$BG19)) | AI19: =IF(CU19="","",CONCATENATE($BF19,$BG19)) | ... BD19: =IF(DP19="","",CONCATENATE($BF19,$BG19)) | BE19: =CONCATENATE(BJ19," (",BN19,IF(BO19="","",CONCATENATE(", ",BO19)),")") -> Számvitel III. (, web) | BF19: 905 | BG19: 1 | BH19: =VLOOKUP(BF19,segéd!$F$9:$G$41,2,FALSE) -> 46270 | BI19: =VLOOKUP(BG19,segéd!$F$1:$G$7,2,FALSE) -> 8.00-9.30 | BJ19: Számvitel III. | BK19: Péter Sára | BL19: budapesti alapképzés | BM19: 205 | BO19: web | BP19: https://teams.microsoft.com/meet/368532288625794?p=cyKgVsrWxWVq6jtbWe | BQ19: =IF(BR19="",0,BR19)+IF(BS19="",0,BS19) -> 24 | BR19: =IF(BM19="","",IFERROR(VLOOKUP(BJ19,segéd!T:U,2,FALSE),"x")) -> 24 | BS19: =IF(BN19="","",IFERROR(VLOOKUP(BJ19,segéd!O:P,2,FALSE),"x")) | CG19: 6 | CH19: 6 | CI19: 7
A20: =CONCATENATE(BM20,BF20,BG20) -> 2079051 | B20: =CONCATENATE(BJ20," - ",BK20,IF(BO20="","",CONCATENATE(" (",BO20,")"))," ",BR20) -> Turisztikai szoftverek - Krompaszky Gábor (gépterem, web) 3 | C20: =CONCATENATE(BN20,BF20,BG20) -> 9051 | D20: =CONCATENATE(BJ20," - ",BK20,IF(BO20="","",CONCATENATE(" (",BO20,")"))," ",BS20) -> Turisztikai szoftverek - Krompaszky Gábor (gépterem, web) | E20: =CONCATENATE(BK20,BF20,BG20) -> Krompaszky Gábor9051 | F20: =CONCATENATE(BJ20," (",IF(OR(BM20="",BO20="Tb.-ről web"),"",CONCATENATE("Bp. ",BM20)),IF(OR(BN20="",BO20="Bp.-ről web"),"",CONCATENATE("Tb. ",BN20)),IF(BO20="","",CONCATENATE(", ",BO20)),")") -> Turisztikai szoftverek (Bp. 207, gépterem, web) | G20: =IF(BT20="","",CONCATENATE($BF20,$BG20)) | H20: =IF(BU20="","",CONCATENATE($BF20,$BG20)) | I20: =IF(BV20="","",CONCATENATE($BF20,$BG20)) | J20: =IF(BW20="","",CONCATENATE($BF20,$BG20)) | K20: =IF(BX20="","",CONCATENATE($BF20,$BG20)) | L20: =IF(BY20="","",CONCATENATE($BF20,$BG20)) | M20: =IF(BZ20="","",CONCATENATE($BF20,$BG20)) | N20: =IF(CA20="","",CONCATENATE($BF20,$BG20)) | ... Z20: =IF(CM20="","",CONCATENATE($BF20,$BG20)) -> 9051 | AA20: =CONCATENATE(BJ20," (",BM20,IF(BO20="","",CONCATENATE(", ",BO20)),")") -> Turisztikai szoftverek (207, gépterem, web) | AB20: =IF(CN20="","",CONCATENATE($BF20,$BG20)) | AC20: =IF(CO20="","",CONCATENATE($BF20,$BG20)) | AD20: =IF(CP20="","",CONCATENATE($BF20,$BG20)) | AE20: =IF(CQ20="","",CONCATENATE($BF20,$BG20)) | AF20: =IF(CR20="","",CONCATENATE($BF20,$BG20)) | AG20: =IF(CS20="","",CONCATENATE($BF20,$BG20)) | AH20: =IF(CT20="","",CONCATENATE($BF20,$BG20)) | AI20: =IF(CU20="","",CONCATENATE($BF20,$BG20)) | ... BD20: =IF(DP20="","",CONCATENATE($BF20,$BG20)) | BE20: =CONCATENATE(BJ20," (",BN20,IF(BO20="","",CONCATENATE(", ",BO20)),")") -> Turisztikai szoftverek (, gépterem, web) | BF20: 905 | BG20: 1 | BH20: =VLOOKUP(BF20,segéd!$F$9:$G$41,2,FALSE) -> 46270 | BI20: =VLOOKUP(BG20,segéd!$F$1:$G$7,2,FALSE) -> 8.00-9.30 | BJ20: Turisztikai szoftverek | BK20: Krompaszky Gábor | BL20: budapesti alapképzés | BM20: 207 | BO20: gépterem, web | BP20: https://teams.microsoft.com/meet/394062537319000?p=1ieN2lFezAMJbiy7Hd | BQ20: =IF(BR20="",0,BR20)+IF(BS20="",0,BS20) -> 3 | BR20: =IF(BM20="","",IFERROR(VLOOKUP(BJ20,segéd!T:U,2,FALSE),"x")) -> 3 | BS20: =IF(BN20="","",IFERROR(VLOOKUP(BJ20,segéd!O:P,2,FALSE),"x")) | CM20: 5
A21: =CONCATENATE(BM21,BF21,BG21) -> 9052 | B21: =CONCATENATE(BJ21," - ",BK21,IF(BO21="","",CONCATENATE(" (",BO21,")"))," ",BR21) -> Analóg és digitális elekt. - Böcz Gábor (web) | C21: =CONCATENATE(BN21,BF21,BG21) -> 6019052 | D21: =CONCATENATE(BJ21," - ",BK21,IF(BO21="","",CONCATENATE(" (",BO21,")"))," ",BS21) -> Analóg és digitális elekt. - Böcz Gábor (web) 103 | E21: =CONCATENATE(BK21,BF21,BG21) -> Böcz Gábor9052 | F21: =CONCATENATE(BJ21," (",IF(OR(BM21="",BO21="Tb.-ről web"),"",CONCATENATE("Bp. ",BM21)),IF(OR(BN21="",BO21="Bp.-ről web"),"",CONCATENATE("Tb. ",BN21)),IF(BO21="","",CONCATENATE(", ",BO21)),")") -> Analóg és digitális elekt. (Tb. 601, web) | G21: =IF(BT21="","",CONCATENATE($BF21,$BG21)) | H21: =IF(BU21="","",CONCATENATE($BF21,$BG21)) | I21: =IF(BV21="","",CONCATENATE($BF21,$BG21)) | J21: =IF(BW21="","",CONCATENATE($BF21,$BG21)) | K21: =IF(BX21="","",CONCATENATE($BF21,$BG21)) | L21: =IF(BY21="","",CONCATENATE($BF21,$BG21)) | M21: =IF(BZ21="","",CONCATENATE($BF21,$BG21)) | N21: =IF(CA21="","",CONCATENATE($BF21,$BG21)) | ... Z21: =IF(CM21="","",CONCATENATE($BF21,$BG21)) | AA21: =CONCATENATE(BJ21," (",BM21,IF(BO21="","",CONCATENATE(", ",BO21)),")") -> Analóg és digitális elekt. (, web) | AB21: =IF(CN21="","",CONCATENATE($BF21,$BG21)) | AC21: =IF(CO21="","",CONCATENATE($BF21,$BG21)) | AD21: =IF(CP21="","",CONCATENATE($BF21,$BG21)) | AE21: =IF(CQ21="","",CONCATENATE($BF21,$BG21)) | AF21: =IF(CR21="","",CONCATENATE($BF21,$BG21)) | AG21: =IF(CS21="","",CONCATENATE($BF21,$BG21)) | AH21: =IF(CT21="","",CONCATENATE($BF21,$BG21)) | AI21: =IF(CU21="","",CONCATENATE($BF21,$BG21)) | ... BD21: =IF(DP21="","",CONCATENATE($BF21,$BG21)) | BE21: =CONCATENATE(BJ21," (",BN21,IF(BO21="","",CONCATENATE(", ",BO21)),")") -> Analóg és digitális elekt. (601, web) | BF21: 905 | BG21: 2 | BH21: =VLOOKUP(BF21,segéd!$F$9:$G$41,2,FALSE) -> 46270 | BI21: =VLOOKUP(BG21,segéd!$F$1:$G$7,2,FALSE) -> 9.45-11.15 | BJ21: Analóg és digitális elekt. | BK21: Böcz Gábor | BL21: tatabányai alapképzés | BN21: 601 | BO21: web | BP21: https://teams.microsoft.com/meet/332997148914596?p=wraH800GCJp8guBz2n | BQ21: =IF(BR21="",0,BR21)+IF(BS21="",0,BS21) -> 103 | BR21: =IF(BM21="","",IFERROR(VLOOKUP(BJ21,segéd!T:U,2,FALSE),"x")) | BS21: =IF(BN21="","",IFERROR(VLOOKUP(BJ21,segéd!O:P,2,FALSE),"x")) -> 103 | CX21: 56 | DF21: 27 | DG21: 8 | DH21: 13
A22: =CONCATENATE(BM22,BF22,BG22) -> 9052 | B22: =CONCATENATE(BJ22," - ",BK22,IF(BO22="","",CONCATENATE(" (",BO22,")"))," ",BR22) -> Anyagismeret a gyakorlatban - Szabó Veronika Anna (web) | C22: =CONCATENATE(BN22,BF22,BG22) -> 2169052 | D22: =CONCATENATE(BJ22," - ",BK22,IF(BO22="","",CONCATENATE(" (",BO22,")"))," ",BS22) -> Anyagismeret a gyakorlatban - Szabó Veronika Anna (web) 15 | E22: =CONCATENATE(BK22,BF22,BG22) -> Szabó Veronika Anna9052 | F22: =CONCATENATE(BJ22," (",IF(OR(BM22="",BO22="Tb.-ről web"),"",CONCATENATE("Bp. ",BM22)),IF(OR(BN22="",BO22="Bp.-ről web"),"",CONCATENATE("Tb. ",BN22)),IF(BO22="","",CONCATENATE(", ",BO22)),")") -> Anyagismeret a gyakorlatban (Tb. 216, web) | G22: =IF(BT22="","",CONCATENATE($BF22,$BG22)) | H22: =IF(BU22="","",CONCATENATE($BF22,$BG22)) | I22: =IF(BV22="","",CONCATENATE($BF22,$BG22)) | J22: =IF(BW22="","",CONCATENATE($BF22,$BG22)) | K22: =IF(BX22="","",CONCATENATE($BF22,$BG22)) | L22: =IF(BY22="","",CONCATENATE($BF22,$BG22)) | M22: =IF(BZ22="","",CONCATENATE($BF22,$BG22)) | N22: =IF(CA22="","",CONCATENATE($BF22,$BG22)) | ... Z22: =IF(CM22="","",CONCATENATE($BF22,$BG22)) | AA22: =CONCATENATE(BJ22," (",BM22,IF(BO22="","",CONCATENATE(", ",BO22)),")") -> Anyagismeret a gyakorlatban (, web) | AB22: =IF(CN22="","",CONCATENATE($BF22,$BG22)) | AC22: =IF(CO22="","",CONCATENATE($BF22,$BG22)) | AD22: =IF(CP22="","",CONCATENATE($BF22,$BG22)) -> 9052 | AE22: =IF(CQ22="","",CONCATENATE($BF22,$BG22)) | AF22: =IF(CR22="","",CONCATENATE($BF22,$BG22)) | AG22: =IF(CS22="","",CONCATENATE($BF22,$BG22)) | AH22: =IF(CT22="","",CONCATENATE($BF22,$BG22)) | AI22: =IF(CU22="","",CONCATENATE($BF22,$BG22)) | ... BD22: =IF(DP22="","",CONCATENATE($BF22,$BG22)) | BE22: =CONCATENATE(BJ22," (",BN22,IF(BO22="","",CONCATENATE(", ",BO22)),")") -> Anyagismeret a gyakorlatban (216, web) | BF22: 905 | BG22: 2 | BH22: =VLOOKUP(BF22,segéd!$F$9:$G$41,2,FALSE) -> 46270 | BI22: =VLOOKUP(BG22,segéd!$F$1:$G$7,2,FALSE) -> 9.45-11.15 | BJ22: Anyagismeret a gyakorlatban | BK22: Szabó Veronika Anna | BL22: tatabányai FOKSZ | BN22: 216 | BO22: web | BP22: https://teams.microsoft.com/meet/34639359141876?p=etExkaqXHS07iyTcLI | BQ22: =IF(BR22="",0,BR22)+IF(BS22="",0,BS22) -> 15 | BR22: =IF(BM22="","",IFERROR(VLOOKUP(BJ22,segéd!T:U,2,FALSE),"x")) | BS22: =IF(BN22="","",IFERROR(VLOOKUP(BJ22,segéd!O:P,2,FALSE),"x")) -> 15 | CP22: 8
A23: =CONCATENATE(BM23,BF23,BG23) -> 9052 | B23: =CONCATENATE(BJ23," - ",BK23,IF(BO23="","",CONCATENATE(" (",BO23,")"))," ",BR23) -> Emberi erőf. gazd. term. váll. - Gyalogos Norbert (web) | C23: =CONCATENATE(BN23,BF23,BG23) -> 4019052 | D23: =CONCATENATE(BJ23," - ",BK23,IF(BO23="","",CONCATENATE(" (",BO23,")"))," ",BS23) -> Emberi erőf. gazd. term. váll. - Gyalogos Norbert (web) 4 | E23: =CONCATENATE(BK23,BF23,BG23) -> Gyalogos Norbert9052 | F23: =CONCATENATE(BJ23," (",IF(OR(BM23="",BO23="Tb.-ről web"),"",CONCATENATE("Bp. ",BM23)),IF(OR(BN23="",BO23="Bp.-ről web"),"",CONCATENATE("Tb. ",BN23)),IF(BO23="","",CONCATENATE(", ",BO23)),")") -> Emberi erőf. gazd. term. váll. (Tb. 401, web) | G23: =IF(BT23="","",CONCATENATE($BF23,$BG23)) | H23: =IF(BU23="","",CONCATENATE($BF23,$BG23)) | I23: =IF(BV23="","",CONCATENATE($BF23,$BG23)) | J23: =IF(BW23="","",CONCATENATE($BF23,$BG23)) | K23: =IF(BX23="","",CONCATENATE($BF23,$BG23)) | L23: =IF(BY23="","",CONCATENATE($BF23,$BG23)) | M23: =IF(BZ23="","",CONCATENATE($BF23,$BG23)) | N23: =IF(CA23="","",CONCATENATE($BF23,$BG23)) | ... Z23: =IF(CM23="","",CONCATENATE($BF23,$BG23)) | AA23: =CONCATENATE(BJ23," (",BM23,IF(BO23="","",CONCATENATE(", ",BO23)),")") -> Emberi erőf. gazd. term. váll. (, web) | AB23: =IF(CN23="","",CONCATENATE($BF23,$BG23)) | AC23: =IF(CO23="","",CONCATENATE($BF23,$BG23)) | AD23: =IF(CP23="","",CONCATENATE($BF23,$BG23)) | AE23: =IF(CQ23="","",CONCATENATE($BF23,$BG23)) | AF23: =IF(CR23="","",CONCATENATE($BF23,$BG23)) | AG23: =IF(CS23="","",CONCATENATE($BF23,$BG23)) | AH23: =IF(CT23="","",CONCATENATE($BF23,$BG23)) | AI23: =IF(CU23="","",CONCATENATE($BF23,$BG23)) | ... BD23: =IF(DP23="","",CONCATENATE($BF23,$BG23)) | BE23: =CONCATENATE(BJ23," (",BN23,IF(BO23="","",CONCATENATE(", ",BO23)),")") -> Emberi erőf. gazd. term. váll. (401, web) | BF23: 905 | BG23: 2 | BH23: =VLOOKUP(BF23,segéd!$F$9:$G$41,2,FALSE) -> 46270 | BI23: =VLOOKUP(BG23,segéd!$F$1:$G$7,2,FALSE) -> 9.45-11.15 | BJ23: Emberi erőf. gazd. term. váll. | BK23: Gyalogos Norbert | BL23: tatabányai mesterképzés | BN23: 401 | BO23: web | BP23: https://teams.microsoft.com/meet/326136277069436?p=wvcgQ8astKQJxuEsnK | BQ23: =IF(BR23="",0,BR23)+IF(BS23="",0,BS23) -> 4 | BR23: =IF(BM23="","",IFERROR(VLOOKUP(BJ23,segéd!T:U,2,FALSE),"x")) | BS23: =IF(BN23="","",IFERROR(VLOOKUP(BJ23,segéd!O:P,2,FALSE),"x")) -> 4 | CY23: 3
A24: =CONCATENATE(BM24,BF24,BG24) -> 2179052 | B24: =CONCATENATE(BJ24," - ",BK24,IF(BO24="","",CONCATENATE(" (",BO24,")"))," ",BR24) -> Fenntarthatóság - Nagy Judit (web) 11 | C24: =CONCATENATE(BN24,BF24,BG24) -> 9052 | D24: =CONCATENATE(BJ24," - ",BK24,IF(BO24="","",CONCATENATE(" (",BO24,")"))," ",BS24) -> Fenntarthatóság - Nagy Judit (web) | E24: =CONCATENATE(BK24,BF24,BG24) -> Nagy Judit9052 | F24: =CONCATENATE(BJ24," (",IF(OR(BM24="",BO24="Tb.-ről web"),"",CONCATENATE("Bp. ",BM24)),IF(OR(BN24="",BO24="Bp.-ről web"),"",CONCATENATE("Tb. ",BN24)),IF(BO24="","",CONCATENATE(", ",BO24)),")") -> Fenntarthatóság (Bp. 217, web) | G24: =IF(BT24="","",CONCATENATE($BF24,$BG24)) | H24: =IF(BU24="","",CONCATENATE($BF24,$BG24)) | I24: =IF(BV24="","",CONCATENATE($BF24,$BG24)) | J24: =IF(BW24="","",CONCATENATE($BF24,$BG24)) | K24: =IF(BX24="","",CONCATENATE($BF24,$BG24)) | L24: =IF(BY24="","",CONCATENATE($BF24,$BG24)) -> 9052 | M24: =IF(BZ24="","",CONCATENATE($BF24,$BG24)) | N24: =IF(CA24="","",CONCATENATE($BF24,$BG24)) | ... Z24: =IF(CM24="","",CONCATENATE($BF24,$BG24)) | AA24: =CONCATENATE(BJ24," (",BM24,IF(BO24="","",CONCATENATE(", ",BO24)),")") -> Fenntarthatóság (217, web) | AB24: =IF(CN24="","",CONCATENATE($BF24,$BG24)) | AC24: =IF(CO24="","",CONCATENATE($BF24,$BG24)) | AD24: =IF(CP24="","",CONCATENATE($BF24,$BG24)) | AE24: =IF(CQ24="","",CONCATENATE($BF24,$BG24)) | AF24: =IF(CR24="","",CONCATENATE($BF24,$BG24)) | AG24: =IF(CS24="","",CONCATENATE($BF24,$BG24)) | AH24: =IF(CT24="","",CONCATENATE($BF24,$BG24)) | AI24: =IF(CU24="","",CONCATENATE($BF24,$BG24)) | ... BD24: =IF(DP24="","",CONCATENATE($BF24,$BG24)) | BE24: =CONCATENATE(BJ24," (",BN24,IF(BO24="","",CONCATENATE(", ",BO24)),")") -> Fenntarthatóság (, web) | BF24: 905 | BG24: 2 | BH24: =VLOOKUP(BF24,segéd!$F$9:$G$41,2,FALSE) -> 46270 | BI24: =VLOOKUP(BG24,segéd!$F$1:$G$7,2,FALSE) -> 9.45-11.15 | BJ24: Fenntarthatóság | BK24: Nagy Judit | BL24: budapesti mesterképzés | BM24: 217 | BO24: web | BP24: https://teams.microsoft.com/meet/399208632652194?p=IwC0g7wl0y9ya9vpS0 | BQ24: =IF(BR24="",0,BR24)+IF(BS24="",0,BS24) -> 11 | BR24: =IF(BM24="","",IFERROR(VLOOKUP(BJ24,segéd!T:U,2,FALSE),"x")) -> 11 | BS24: =IF(BN24="","",IFERROR(VLOOKUP(BJ24,segéd!O:P,2,FALSE),"x")) | BY24: 12
A25: =CONCATENATE(BM25,BF25,BG25) -> 9052 | B25: =CONCATENATE(BJ25," - ",BK25,IF(BO25="","",CONCATENATE(" (",BO25,")"))," ",BR25) -> Folyamatok fejlesztése (Six S) - Csrenkovics Antónia (gépterem, web) | C25: =CONCATENATE(BN25,BF25,BG25) -> 6059052 | D25: =CONCATENATE(BJ25," - ",BK25,IF(BO25="","",CONCATENATE(" (",BO25,")"))," ",BS25) -> Folyamatok fejlesztése (Six S) - Csrenkovics Antónia (gépterem, web) 32 | E25: =CONCATENATE(BK25,BF25,BG25) -> Csrenkovics Antónia9052 | F25: =CONCATENATE(BJ25," (",IF(OR(BM25="",BO25="Tb.-ről web"),"",CONCATENATE("Bp. ",BM25)),IF(OR(BN25="",BO25="Bp.-ről web"),"",CONCATENATE("Tb. ",BN25)),IF(BO25="","",CONCATENATE(", ",BO25)),")") -> Folyamatok fejlesztése (Six S) (Tb. 605, gépterem, web) | G25: =IF(BT25="","",CONCATENATE($BF25,$BG25)) | H25: =IF(BU25="","",CONCATENATE($BF25,$BG25)) | I25: =IF(BV25="","",CONCATENATE($BF25,$BG25)) | J25: =IF(BW25="","",CONCATENATE($BF25,$BG25)) | K25: =IF(BX25="","",CONCATENATE($BF25,$BG25)) | L25: =IF(BY25="","",CONCATENATE($BF25,$BG25)) | M25: =IF(BZ25="","",CONCATENATE($BF25,$BG25)) | N25: =IF(CA25="","",CONCATENATE($BF25,$BG25)) | ... Z25: =IF(CM25="","",CONCATENATE($BF25,$BG25)) | AA25: =CONCATENATE(BJ25," (",BM25,IF(BO25="","",CONCATENATE(", ",BO25)),")") -> Folyamatok fejlesztése (Six S) (, gépterem, web) | AB25: =IF(CN25="","",CONCATENATE($BF25,$BG25)) | AC25: =IF(CO25="","",CONCATENATE($BF25,$BG25)) | AD25: =IF(CP25="","",CONCATENATE($BF25,$BG25)) | AE25: =IF(CQ25="","",CONCATENATE($BF25,$BG25)) | AF25: =IF(CR25="","",CONCATENATE($BF25,$BG25)) | AG25: =IF(CS25="","",CONCATENATE($BF25,$BG25)) | AH25: =IF(CT25="","",CONCATENATE($BF25,$BG25)) | AI25: =IF(CU25="","",CONCATENATE($BF25,$BG25)) | ... BD25: =IF(DP25="","",CONCATENATE($BF25,$BG25)) | BE25: =CONCATENATE(BJ25," (",BN25,IF(BO25="","",CONCATENATE(", ",BO25)),")") -> Folyamatok fejlesztése (Six S) (605, gépterem, web) | BF25: 905 | BG25: 2 | BH25: =VLOOKUP(BF25,segéd!$F$9:$G$41,2,FALSE) -> 46270 | BI25: =VLOOKUP(BG25,segéd!$F$1:$G$7,2,FALSE) -> 9.45-11.15 | BJ25: Folyamatok fejlesztése (Six S) | BK25: Csrenkovics Antónia | BL25: tatabányai alapképzés | BN25: 605 | BO25: gépterem, web | BP25: https://teams.microsoft.com/meet/376358509834598?p=d5Xjlev08EwojCJ0hn | BQ25: =IF(BR25="",0,BR25)+IF(BS25="",0,BS25) -> 32 | BR25: =IF(BM25="","",IFERROR(VLOOKUP(BJ25,segéd!T:U,2,FALSE),"x")) | BS25: =IF(BN25="","",IFERROR(VLOOKUP(BJ25,segéd!O:P,2,FALSE),"x")) -> 32 | DK25: 17 | DM25: 22
A26: =CONCATENATE(BM26,BF26,BG26) -> 2109052 | B26: =CONCATENATE(BJ26," - ",BK26,IF(BO26="","",CONCATENATE(" (",BO26,")"))," ",BR26) -> Gazdasági és versenyjog - Zalahegyi Zoltán (web) 6 | C26: =CONCATENATE(BN26,BF26,BG26) -> 9052 | D26: =CONCATENATE(BJ26," - ",BK26,IF(BO26="","",CONCATENATE(" (",BO26,")"))," ",BS26) -> Gazdasági és versenyjog - Zalahegyi Zoltán (web) | E26: =CONCATENATE(BK26,BF26,BG26) -> Zalahegyi Zoltán9052 | F26: =CONCATENATE(BJ26," (",IF(OR(BM26="",BO26="Tb.-ről web"),"",CONCATENATE("Bp. ",BM26)),IF(OR(BN26="",BO26="Bp.-ről web"),"",CONCATENATE("Tb. ",BN26)),IF(BO26="","",CONCATENATE(", ",BO26)),")") -> Gazdasági és versenyjog (Bp. 210, web) | G26: =IF(BT26="","",CONCATENATE($BF26,$BG26)) | H26: =IF(BU26="","",CONCATENATE($BF26,$BG26)) | I26: =IF(BV26="","",CONCATENATE($BF26,$BG26)) | J26: =IF(BW26="","",CONCATENATE($BF26,$BG26)) -> 9052 | K26: =IF(BX26="","",CONCATENATE($BF26,$BG26)) | L26: =IF(BY26="","",CONCATENATE($BF26,$BG26)) | M26: =IF(BZ26="","",CONCATENATE($BF26,$BG26)) | N26: =IF(CA26="","",CONCATENATE($BF26,$BG26)) | ... Z26: =IF(CM26="","",CONCATENATE($BF26,$BG26)) | AA26: =CONCATENATE(BJ26," (",BM26,IF(BO26="","",CONCATENATE(", ",BO26)),")") -> Gazdasági és versenyjog (210, web) | AB26: =IF(CN26="","",CONCATENATE($BF26,$BG26)) | AC26: =IF(CO26="","",CONCATENATE($BF26,$BG26)) | AD26: =IF(CP26="","",CONCATENATE($BF26,$BG26)) | AE26: =IF(CQ26="","",CONCATENATE($BF26,$BG26)) | AF26: =IF(CR26="","",CONCATENATE($BF26,$BG26)) | AG26: =IF(CS26="","",CONCATENATE($BF26,$BG26)) | AH26: =IF(CT26="","",CONCATENATE($BF26,$BG26)) | AI26: =IF(CU26="","",CONCATENATE($BF26,$BG26)) | ... BD26: =IF(DP26="","",CONCATENATE($BF26,$BG26)) | BE26: =CONCATENATE(BJ26," (",BN26,IF(BO26="","",CONCATENATE(", ",BO26)),")") -> Gazdasági és versenyjog (, web) | BF26: 905 | BG26: 2 | BH26: =VLOOKUP(BF26,segéd!$F$9:$G$41,2,FALSE) -> 46270 | BI26: =VLOOKUP(BG26,segéd!$F$1:$G$7,2,FALSE) -> 9.45-11.15 | BJ26: Gazdasági és versenyjog | BK26: Zalahegyi Zoltán | BL26: budapesti mesterképzés | BM26: 210 | BO26: web | BP26: https://teams.microsoft.com/meet/366381367125937?p=fOIJyBpYI9FJiygcqg | BQ26: =IF(BR26="",0,BR26)+IF(BS26="",0,BS26) -> 6 | BR26: =IF(BM26="","",IFERROR(VLOOKUP(BJ26,segéd!T:U,2,FALSE),"x")) -> 6 | BS26: =IF(BN26="","",IFERROR(VLOOKUP(BJ26,segéd!O:P,2,FALSE),"x")) | BW26: 8 | CD26: 5
A27: =CONCATENATE(BM27,BF27,BG27) -> 2019052 | B27: =CONCATENATE(BJ27," - ",BK27,IF(BO27="","",CONCATENATE(" (",BO27,")"))," ",BR27) -> Gazdasági matematika I. - Szabó Tünde (web) 119 | C27: =CONCATENATE(BN27,BF27,BG27) -> 9052 | D27: =CONCATENATE(BJ27," - ",BK27,IF(BO27="","",CONCATENATE(" (",BO27,")"))," ",BS27) -> Gazdasági matematika I. - Szabó Tünde (web) | E27: =CONCATENATE(BK27,BF27,BG27) -> Szabó Tünde9052 | F27: =CONCATENATE(BJ27," (",IF(OR(BM27="",BO27="Tb.-ről web"),"",CONCATENATE("Bp. ",BM27)),IF(OR(BN27="",BO27="Bp.-ről web"),"",CONCATENATE("Tb. ",BN27)),IF(BO27="","",CONCATENATE(", ",BO27)),")") -> Gazdasági matematika I. (Bp. 201, web) | G27: =IF(BT27="","",CONCATENATE($BF27,$BG27)) -> 9052 | H27: =IF(BU27="","",CONCATENATE($BF27,$BG27)) -> 9052 | I27: =IF(BV27="","",CONCATENATE($BF27,$BG27)) | J27: =IF(BW27="","",CONCATENATE($BF27,$BG27)) | K27: =IF(BX27="","",CONCATENATE($BF27,$BG27)) | L27: =IF(BY27="","",CONCATENATE($BF27,$BG27)) | M27: =IF(BZ27="","",CONCATENATE($BF27,$BG27)) | N27: =IF(CA27="","",CONCATENATE($BF27,$BG27)) | ... Z27: =IF(CM27="","",CONCATENATE($BF27,$BG27)) | AA27: =CONCATENATE(BJ27," (",BM27,IF(BO27="","",CONCATENATE(", ",BO27)),")") -> Gazdasági matematika I. (201, web) | AB27: =IF(CN27="","",CONCATENATE($BF27,$BG27)) | AC27: =IF(CO27="","",CONCATENATE($BF27,$BG27)) | AD27: =IF(CP27="","",CONCATENATE($BF27,$BG27)) | AE27: =IF(CQ27="","",CONCATENATE($BF27,$BG27)) | AF27: =IF(CR27="","",CONCATENATE($BF27,$BG27)) | AG27: =IF(CS27="","",CONCATENATE($BF27,$BG27)) | AH27: =IF(CT27="","",CONCATENATE($BF27,$BG27)) | AI27: =IF(CU27="","",CONCATENATE($BF27,$BG27)) | ... BD27: =IF(DP27="","",CONCATENATE($BF27,$BG27)) | BE27: =CONCATENATE(BJ27," (",BN27,IF(BO27="","",CONCATENATE(", ",BO27)),")") -> Gazdasági matematika I. (, web) | BF27: 905 | BG27: 2 | BH27: =VLOOKUP(BF27,segéd!$F$9:$G$41,2,FALSE) -> 46270 | BI27: =VLOOKUP(BG27,segéd!$F$1:$G$7,2,FALSE) -> 9.45-11.15 | BJ27: Gazdasági matematika I. | BK27: Szabó Tünde | BL27: budapesti alapképzés | BM27: 201 | BO27: web | BP27: https://teams.microsoft.com/meet/363361429620218?p=LVlh7I8oSxSNwsPLgs | BQ27: =IF(BR27="",0,BR27)+IF(BS27="",0,BS27) -> 119 | BR27: =IF(BM27="","",IFERROR(VLOOKUP(BJ27,segéd!T:U,2,FALSE),"x")) -> 119 | BS27: =IF(BN27="","",IFERROR(VLOOKUP(BJ27,segéd!O:P,2,FALSE),"x")) | BT27: 67 | BU27: 18
A28: =CONCATENATE(BM28,BF28,BG28) -> 2089052 | B28: =CONCATENATE(BJ28," - ",BK28,IF(BO28="","",CONCATENATE(" (",BO28,")"))," ",BR28) -> Gazdasági számítások - Piroska László (web) 11 | C28: =CONCATENATE(BN28,BF28,BG28) -> 9052 | D28: =CONCATENATE(BJ28," - ",BK28,IF(BO28="","",CONCATENATE(" (",BO28,")"))," ",BS28) -> Gazdasági számítások - Piroska László (web) | E28: =CONCATENATE(BK28,BF28,BG28) -> Piroska László9052 | F28: =CONCATENATE(BJ28," (",IF(OR(BM28="",BO28="Tb.-ről web"),"",CONCATENATE("Bp. ",BM28)),IF(OR(BN28="",BO28="Bp.-ről web"),"",CONCATENATE("Tb. ",BN28)),IF(BO28="","",CONCATENATE(", ",BO28)),")") -> Gazdasági számítások (Bp. 208, web) | G28: =IF(BT28="","",CONCATENATE($BF28,$BG28)) | H28: =IF(BU28="","",CONCATENATE($BF28,$BG28)) | I28: =IF(BV28="","",CONCATENATE($BF28,$BG28)) -> 9052 | J28: =IF(BW28="","",CONCATENATE($BF28,$BG28)) | K28: =IF(BX28="","",CONCATENATE($BF28,$BG28)) | L28: =IF(BY28="","",CONCATENATE($BF28,$BG28)) | M28: =IF(BZ28="","",CONCATENATE($BF28,$BG28)) | N28: =IF(CA28="","",CONCATENATE($BF28,$BG28)) | ... Z28: =IF(CM28="","",CONCATENATE($BF28,$BG28)) | AA28: =CONCATENATE(BJ28," (",BM28,IF(BO28="","",CONCATENATE(", ",BO28)),")") -> Gazdasági számítások (208, web) | AB28: =IF(CN28="","",CONCATENATE($BF28,$BG28)) | AC28: =IF(CO28="","",CONCATENATE($BF28,$BG28)) | AD28: =IF(CP28="","",CONCATENATE($BF28,$BG28)) | AE28: =IF(CQ28="","",CONCATENATE($BF28,$BG28)) | AF28: =IF(CR28="","",CONCATENATE($BF28,$BG28)) | AG28: =IF(CS28="","",CONCATENATE($BF28,$BG28)) | AH28: =IF(CT28="","",CONCATENATE($BF28,$BG28)) | AI28: =IF(CU28="","",CONCATENATE($BF28,$BG28)) | ... BD28: =IF(DP28="","",CONCATENATE($BF28,$BG28)) | BE28: =CONCATENATE(BJ28," (",BN28,IF(BO28="","",CONCATENATE(", ",BO28)),")") -> Gazdasági számítások (, web) | BF28: 905 | BG28: 2 | BH28: =VLOOKUP(BF28,segéd!$F$9:$G$41,2,FALSE) -> 46270 | BI28: =VLOOKUP(BG28,segéd!$F$1:$G$7,2,FALSE) -> 9.45-11.15 | BJ28: Gazdasági számítások | BK28: Piroska László | BL28: budapesti FOKSZ | BM28: 208 | BO28: web | BP28: https://teams.microsoft.com/meet/373707262827408?p=44YbJb36d2x85VUdpX | BQ28: =IF(BR28="",0,BR28)+IF(BS28="",0,BS28) -> 11 | BR28: =IF(BM28="","",IFERROR(VLOOKUP(BJ28,segéd!T:U,2,FALSE),"x")) -> 11 | BS28: =IF(BN28="","",IFERROR(VLOOKUP(BJ28,segéd!O:P,2,FALSE),"x")) | BV28: 9
A29: =CONCATENATE(BM29,BF29,BG29) -> 2149052 | B29: =CONCATENATE(BJ29," - ",BK29,IF(BO29="","",CONCATENATE(" (",BO29,")"))," ",BR29) -> Hibrid projektmenedzsment - Peredy Zoltán (Tb.-ről web) 21 | C29: =CONCATENATE(BN29,BF29,BG29) -> 2159052 | D29: =CONCATENATE(BJ29," - ",BK29,IF(BO29="","",CONCATENATE(" (",BO29,")"))," ",BS29) -> Hibrid projektmenedzsment - Peredy Zoltán (Tb.-ről web) 7 | E29: =CONCATENATE(BK29,BF29,BG29) -> Peredy Zoltán9052 | F29: =CONCATENATE(BJ29," (",IF(OR(BM29="",BO29="Tb.-ről web"),"",CONCATENATE("Bp. ",BM29)),IF(OR(BN29="",BO29="Bp.-ről web"),"",CONCATENATE("Tb. ",BN29)),IF(BO29="","",CONCATENATE(", ",BO29)),")") -> Hibrid projektmenedzsment (Tb. 215, Tb.-ről web) | G29: =IF(BT29="","",CONCATENATE($BF29,$BG29)) | H29: =IF(BU29="","",CONCATENATE($BF29,$BG29)) | I29: =IF(BV29="","",CONCATENATE($BF29,$BG29)) | J29: =IF(BW29="","",CONCATENATE($BF29,$BG29)) | K29: =IF(BX29="","",CONCATENATE($BF29,$BG29)) -> 9052 | L29: =IF(BY29="","",CONCATENATE($BF29,$BG29)) | M29: =IF(BZ29="","",CONCATENATE($BF29,$BG29)) | N29: =IF(CA29="","",CONCATENATE($BF29,$BG29)) | ... Z29: =IF(CM29="","",CONCATENATE($BF29,$BG29)) | AA29: =CONCATENATE(BJ29," (",BM29,IF(BO29="","",CONCATENATE(", ",BO29)),")") -> Hibrid projektmenedzsment (214, Tb.-ről web) | AB29: =IF(CN29="","",CONCATENATE($BF29,$BG29)) | AC29: =IF(CO29="","",CONCATENATE($BF29,$BG29)) | AD29: =IF(CP29="","",CONCATENATE($BF29,$BG29)) | AE29: =IF(CQ29="","",CONCATENATE($BF29,$BG29)) | AF29: =IF(CR29="","",CONCATENATE($BF29,$BG29)) | AG29: =IF(CS29="","",CONCATENATE($BF29,$BG29)) -> 9052 | AH29: =IF(CT29="","",CONCATENATE($BF29,$BG29)) | AI29: =IF(CU29="","",CONCATENATE($BF29,$BG29)) | ... BD29: =IF(DP29="","",CONCATENATE($BF29,$BG29)) | BE29: =CONCATENATE(BJ29," (",BN29,IF(BO29="","",CONCATENATE(", ",BO29)),")") -> Hibrid projektmenedzsment (215, Tb.-ről web) | BF29: 905 | BG29: 2 | BH29: =VLOOKUP(BF29,segéd!$F$9:$G$41,2,FALSE) -> 46270 | BI29: =VLOOKUP(BG29,segéd!$F$1:$G$7,2,FALSE) -> 9.45-11.15 | BJ29: Hibrid projektmenedzsment | BK29: Peredy Zoltán | BL29: budapesti, tatabányai mesterképzés | BM29: 214 | BN29: 215 | BO29: Tb.-ről web | BP29: https://teams.microsoft.com/meet/349790596177564?p=VIBs0FBzGIttHG1Evg | BQ29: =IF(BR29="",0,BR29)+IF(BS29="",0,BS29) -> 28 | BR29: =IF(BM29="","",IFERROR(VLOOKUP(BJ29,segéd!T:U,2,FALSE),"x")) -> 21 | BS29: =IF(BN29="","",IFERROR(VLOOKUP(BJ29,segéd!O:P,2,FALSE),"x")) -> 7 | BX29: 15 | CS29: 8
A30: =CONCATENATE(BM30,BF30,BG30) -> 9052 | B30: =CONCATENATE(BJ30," - ",BK30,IF(BO30="","",CONCATENATE(" (",BO30,")"))," ",BR30) -> Ipari és koll. robotika (dupla terem) - Palotai Péter (gépterem, web) | C30: =CONCATENATE(BN30,BF30,BG30) -> 6039052 | D30: =CONCATENATE(BJ30," - ",BK30,IF(BO30="","",CONCATENATE(" (",BO30,")"))," ",BS30) -> Ipari és koll. robotika (dupla terem) - Palotai Péter (gépterem, web) | E30: =CONCATENATE(BK30,BF30,BG30) -> Palotai Péter9052 | F30: =CONCATENATE(BJ30," (",IF(OR(BM30="",BO30="Tb.-ről web"),"",CONCATENATE("Bp. ",BM30)),IF(OR(BN30="",BO30="Bp.-ről web"),"",CONCATENATE("Tb. ",BN30)),IF(BO30="","",CONCATENATE(", ",BO30)),")") -> Ipari és koll. robotika (dupla terem) (Tb. 603, gépterem, web) | G30: =IF(BT30="","",CONCATENATE($BF30,$BG30)) | H30: =IF(BU30="","",CONCATENATE($BF30,$BG30)) | I30: =IF(BV30="","",CONCATENATE($BF30,$BG30)) | J30: =IF(BW30="","",CONCATENATE($BF30,$BG30)) | K30: =IF(BX30="","",CONCATENATE($BF30,$BG30)) | L30: =IF(BY30="","",CONCATENATE($BF30,$BG30)) | M30: =IF(BZ30="","",CONCATENATE($BF30,$BG30)) | N30: =IF(CA30="","",CONCATENATE($BF30,$BG30)) | ... Z30: =IF(CM30="","",CONCATENATE($BF30,$BG30)) | AA30: =CONCATENATE(BJ30," (",BM30,IF(BO30="","",CONCATENATE(", ",BO30)),")") -> Ipari és koll. robotika (dupla terem) (, gépterem, web) | AB30: =IF(CN30="","",CONCATENATE($BF30,$BG30)) | AC30: =IF(CO30="","",CONCATENATE($BF30,$BG30)) | AD30: =IF(CP30="","",CONCATENATE($BF30,$BG30)) | AE30: =IF(CQ30="","",CONCATENATE($BF30,$BG30)) | AF30: =IF(CR30="","",CONCATENATE($BF30,$BG30)) | AG30: =IF(CS30="","",CONCATENATE($BF30,$BG30)) | AH30: =IF(CT30="","",CONCATENATE($BF30,$BG30)) | AI30: =IF(CU30="","",CONCATENATE($BF30,$BG30)) | ... BD30: =IF(DP30="","",CONCATENATE($BF30,$BG30)) | BE30: =CONCATENATE(BJ30," (",BN30,IF(BO30="","",CONCATENATE(", ",BO30)),")") -> Ipari és koll. robotika (dupla terem) (603, gépterem, web) | BF30: 905 | BG30: 2 | BH30: =VLOOKUP(BF30,segéd!$F$9:$G$41,2,FALSE) -> 46270 | BI30: =VLOOKUP(BG30,segéd!$F$1:$G$7,2,FALSE) -> 9.45-11.15 | BJ30: Ipari és koll. robotika (dupla terem) | BK30: Palotai Péter | BL30: tatabányai alapképzés | BN30: 603 | BO30: gépterem, web | BP30: https://teams.microsoft.com/meet/370408766798143?p=r7pXKBZvjaySaOeb3N | BQ30: =IF(BR30="",0,BR30)+IF(BS30="",0,BS30) -> 0 | BR30: =IF(BM30="","",IFERROR(VLOOKUP(BJ30,segéd!T:U,2,FALSE),"x"))
A31: =CONCATENATE(BM31,BF31,BG31) -> 9052 | B31: =CONCATENATE(BJ31," - ",BK31,IF(BO31="","",CONCATENATE(" (",BO31,")"))," ",BR31) -> Ipari és kollaboratív robotika - Palotai Péter (gépterem, web) | C31: =CONCATENATE(BN31,BF31,BG31) -> 6049052 | D31: =CONCATENATE(BJ31," - ",BK31,IF(BO31="","",CONCATENATE(" (",BO31,")"))," ",BS31) -> Ipari és kollaboratív robotika - Palotai Péter (gépterem, web) 45 | E31: =CONCATENATE(BK31,BF31,BG31) -> Palotai Péter9052 | F31: =CONCATENATE(BJ31," (",IF(OR(BM31="",BO31="Tb.-ről web"),"",CONCATENATE("Bp. ",BM31)),IF(OR(BN31="",BO31="Bp.-ről web"),"",CONCATENATE("Tb. ",BN31)),IF(BO31="","",CONCATENATE(", ",BO31)),")") -> Ipari és kollaboratív robotika (Tb. 604, gépterem, web) | G31: =IF(BT31="","",CONCATENATE($BF31,$BG31)) | H31: =IF(BU31="","",CONCATENATE($BF31,$BG31)) | I31: =IF(BV31="","",CONCATENATE($BF31,$BG31)) | J31: =IF(BW31="","",CONCATENATE($BF31,$BG31)) | K31: =IF(BX31="","",CONCATENATE($BF31,$BG31)) | L31: =IF(BY31="","",CONCATENATE($BF31,$BG31)) | M31: =IF(BZ31="","",CONCATENATE($BF31,$BG31)) | N31: =IF(CA31="","",CONCATENATE($BF31,$BG31)) | ... Z31: =IF(CM31="","",CONCATENATE($BF31,$BG31)) | AA31: =CONCATENATE(BJ31," (",BM31,IF(BO31="","",CONCATENATE(", ",BO31)),")") -> Ipari és kollaboratív robotika (, gépterem, web) | AB31: =IF(CN31="","",CONCATENATE($BF31,$BG31)) | AC31: =IF(CO31="","",CONCATENATE($BF31,$BG31)) | AD31: =IF(CP31="","",CONCATENATE($BF31,$BG31)) | AE31: =IF(CQ31="","",CONCATENATE($BF31,$BG31)) | AF31: =IF(CR31="","",CONCATENATE($BF31,$BG31)) | AG31: =IF(CS31="","",CONCATENATE($BF31,$BG31)) | AH31: =IF(CT31="","",CONCATENATE($BF31,$BG31)) | AI31: =IF(CU31="","",CONCATENATE($BF31,$BG31)) | ... BD31: =IF(DP31="","",CONCATENATE($BF31,$BG31)) | BE31: =CONCATENATE(BJ31," (",BN31,IF(BO31="","",CONCATENATE(", ",BO31)),")") -> Ipari és kollaboratív robotika (604, gépterem, web) | BF31: 905 | BG31: 2 | BH31: =VLOOKUP(BF31,segéd!$F$9:$G$41,2,FALSE) -> 46270 | BI31: =VLOOKUP(BG31,segéd!$F$1:$G$7,2,FALSE) -> 9.45-11.15 | BJ31: Ipari és kollaboratív robotika | BK31: Palotai Péter | BL31: tatabányai alapképzés | BN31: 604 | BO31: gépterem, web | BP31: https://teams.microsoft.com/meet/370408766798143?p=r7pXKBZvjaySaOeb3N | BQ31: =IF(BR31="",0,BR31)+IF(BS31="",0,BS31) -> 45 | BR31: =IF(BM31="","",IFERROR(VLOOKUP(BJ31,segéd!T:U,2,FALSE),"x")) | BS31: =IF(BN31="","",IFERROR(VLOOKUP(BJ31,segéd!O:P,2,FALSE),"x")) -> 45 | DJ31: 44
A32: =CONCATENATE(BM32,BF32,BG32) -> 9052 | B32: =CONCATENATE(BJ32," - ",BK32,IF(BO32="","",CONCATENATE(" (",BO32,")"))," ",BR32) -> Ipari szabályozás - Varga István (web) | C32: =CONCATENATE(BN32,BF32,BG32) -> 69052 | D32: =CONCATENATE(BJ32," - ",BK32,IF(BO32="","",CONCATENATE(" (",BO32,")"))," ",BS32) -> Ipari szabályozás - Varga István (web) 13 | E32: =CONCATENATE(BK32,BF32,BG32) -> Varga István9052 | F32: =CONCATENATE(BJ32," (",IF(OR(BM32="",BO32="Tb.-ről web"),"",CONCATENATE("Bp. ",BM32)),IF(OR(BN32="",BO32="Bp.-ről web"),"",CONCATENATE("Tb. ",BN32)),IF(BO32="","",CONCATENATE(", ",BO32)),")") -> Ipari szabályozás (Tb. 6, web) | G32: =IF(BT32="","",CONCATENATE($BF32,$BG32)) | H32: =IF(BU32="","",CONCATENATE($BF32,$BG32)) | I32: =IF(BV32="","",CONCATENATE($BF32,$BG32)) | J32: =IF(BW32="","",CONCATENATE($BF32,$BG32)) | K32: =IF(BX32="","",CONCATENATE($BF32,$BG32)) | L32: =IF(BY32="","",CONCATENATE($BF32,$BG32)) | M32: =IF(BZ32="","",CONCATENATE($BF32,$BG32)) | N32: =IF(CA32="","",CONCATENATE($BF32,$BG32)) | ... Z32: =IF(CM32="","",CONCATENATE($BF32,$BG32)) | AA32: =CONCATENATE(BJ32," (",BM32,IF(BO32="","",CONCATENATE(", ",BO32)),")") -> Ipari szabályozás (, web) | AB32: =IF(CN32="","",CONCATENATE($BF32,$BG32)) | AC32: =IF(CO32="","",CONCATENATE($BF32,$BG32)) | AD32: =IF(CP32="","",CONCATENATE($BF32,$BG32)) | AE32: =IF(CQ32="","",CONCATENATE($BF32,$BG32)) | AF32: =IF(CR32="","",CONCATENATE($BF32,$BG32)) | AG32: =IF(CS32="","",CONCATENATE($BF32,$BG32)) | AH32: =IF(CT32="","",CONCATENATE($BF32,$BG32)) | AI32: =IF(CU32="","",CONCATENATE($BF32,$BG32)) | ... BD32: =IF(DP32="","",CONCATENATE($BF32,$BG32)) | BE32: =CONCATENATE(BJ32," (",BN32,IF(BO32="","",CONCATENATE(", ",BO32)),")") -> Ipari szabályozás (6, web) | BF32: 905 | BG32: 2 | BH32: =VLOOKUP(BF32,segéd!$F$9:$G$41,2,FALSE) -> 46270 | BI32: =VLOOKUP(BG32,segéd!$F$1:$G$7,2,FALSE) -> 9.45-11.15 | BJ32: Ipari szabályozás | BK32: Varga István | BL32: tatabányai alapképzés | BN32: 6 | BO32: web | BP32: https://teams.microsoft.com/meet/333810419523860?p=HU00FhmP84Ej4cd7cR | BQ32: =IF(BR32="",0,BR32)+IF(BS32="",0,BS32) -> 13 | BR32: =IF(BM32="","",IFERROR(VLOOKUP(BJ32,segéd!T:U,2,FALSE),"x")) | BS32: =IF(BN32="","",IFERROR(VLOOKUP(BJ32,segéd!O:P,2,FALSE),"x")) -> 13 | DI32: 14
A33: =CONCATENATE(BM33,BF33,BG33) -> 2099052 | B33: =CONCATENATE(BJ33," - ",BK33,IF(BO33="","",CONCATENATE(" (",BO33,")"))," ",BR33) -> Kommunikáció és média - Néveri Varagya Szilvia (Bp.-ről web) 20 | C33: =CONCATENATE(BN33,BF33,BG33) -> 4039052 | D33: =CONCATENATE(BJ33," - ",BK33,IF(BO33="","",CONCATENATE(" (",BO33,")"))," ",BS33) -> Kommunikáció és média - Néveri Varagya Szilvia (Bp.-ről web) 10 | E33: =CONCATENATE(BK33,BF33,BG33) -> Néveri Varagya Szilvia9052 | F33: =CONCATENATE(BJ33," (",IF(OR(BM33="",BO33="Tb.-ről web"),"",CONCATENATE("Bp. ",BM33)),IF(OR(BN33="",BO33="Bp.-ről web"),"",CONCATENATE("Tb. ",BN33)),IF(BO33="","",CONCATENATE(", ",BO33)),")") -> Kommunikáció és média (Bp. 209, Bp.-ről web) | G33: =IF(BT33="","",CONCATENATE($BF33,$BG33)) | H33: =IF(BU33="","",CONCATENATE($BF33,$BG33)) | I33: =IF(BV33="","",CONCATENATE($BF33,$BG33)) | J33: =IF(BW33="","",CONCATENATE($BF33,$BG33)) | K33: =IF(BX33="","",CONCATENATE($BF33,$BG33)) | L33: =IF(BY33="","",CONCATENATE($BF33,$BG33)) | M33: =IF(BZ33="","",CONCATENATE($BF33,$BG33)) | N33: =IF(CA33="","",CONCATENATE($BF33,$BG33)) | ... Z33: =IF(CM33="","",CONCATENATE($BF33,$BG33)) | AA33: =CONCATENATE(BJ33," (",BM33,IF(BO33="","",CONCATENATE(", ",BO33)),")") -> Kommunikáció és média (209, Bp.-ről web) | AB33: =IF(CN33="","",CONCATENATE($BF33,$BG33)) | AC33: =IF(CO33="","",CONCATENATE($BF33,$BG33)) | AD33: =IF(CP33="","",CONCATENATE($BF33,$BG33)) | AE33: =IF(CQ33="","",CONCATENATE($BF33,$BG33)) | AF33: =IF(CR33="","",CONCATENATE($BF33,$BG33)) | AG33: =IF(CS33="","",CONCATENATE($BF33,$BG33)) | AH33: =IF(CT33="","",CONCATENATE($BF33,$BG33)) | AI33: =IF(CU33="","",CONCATENATE($BF33,$BG33)) | ... BD33: =IF(DP33="","",CONCATENATE($BF33,$BG33)) | BE33: =CONCATENATE(BJ33," (",BN33,IF(BO33="","",CONCATENATE(", ",BO33)),")") -> Kommunikáció és média (403, Bp.-ről web) | BF33: 905 | BG33: 2 | BH33: =VLOOKUP(BF33,segéd!$F$9:$G$41,2,FALSE) -> 46270 | BI33: =VLOOKUP(BG33,segéd!$F$1:$G$7,2,FALSE) -> 9.45-11.15 | BJ33: Kommunikáció és média | BK33: Néveri Varagya Szilvia | BL33: budapesti, tatabányai alapképzés | BM33: 209 | BN33: 403 | BO33: Bp.-ről web | BP33: https://teams.microsoft.com/meet/391558951406836?p=8VxI51kgIYmzsbbGAc | BQ33: =IF(BR33="",0,BR33)+IF(BS33="",0,BS33) -> 30 | BR33: =IF(BM33="","",IFERROR(VLOOKUP(BJ33,segéd!T:U,2,FALSE),"x")) -> 20 | BS33: =IF(BN33="","",IFERROR(VLOOKUP(BJ33,segéd!O:P,2,FALSE),"x")) -> 10 | CJ33: 6 | CK33: 13 | CL33: 4 | DC33: 3 | DD33: 2 | DE33: 6
A34: =CONCATENATE(BM34,BF34,BG34) -> 9052 | B34: =CONCATENATE(BJ34," - ",BK34,IF(BO34="","",CONCATENATE(" (",BO34,")"))," ",BR34) -> Matematika III. - Kovács Gergely (web) | C34: =CONCATENATE(BN34,BF34,BG34) -> 2129052 | D34: =CONCATENATE(BJ34," - ",BK34,IF(BO34="","",CONCATENATE(" (",BO34,")"))," ",BS34) -> Matematika III. - Kovács Gergely (web) 41 | E34: =CONCATENATE(BK34,BF34,BG34) -> Kovács Gergely9052 | F34: =CONCATENATE(BJ34," (",IF(OR(BM34="",BO34="Tb.-ről web"),"",CONCATENATE("Bp. ",BM34)),IF(OR(BN34="",BO34="Bp.-ről web"),"",CONCATENATE("Tb. ",BN34)),IF(BO34="","",CONCATENATE(", ",BO34)),")") -> Matematika III. (Tb. 212, web) | G34: =IF(BT34="","",CONCATENATE($BF34,$BG34)) | H34: =IF(BU34="","",CONCATENATE($BF34,$BG34)) | I34: =IF(BV34="","",CONCATENATE($BF34,$BG34)) | J34: =IF(BW34="","",CONCATENATE($BF34,$BG34)) | K34: =IF(BX34="","",CONCATENATE($BF34,$BG34)) | L34: =IF(BY34="","",CONCATENATE($BF34,$BG34)) | M34: =IF(BZ34="","",CONCATENATE($BF34,$BG34)) | N34: =IF(CA34="","",CONCATENATE($BF34,$BG34)) | ... Z34: =IF(CM34="","",CONCATENATE($BF34,$BG34)) | AA34: =CONCATENATE(BJ34," (",BM34,IF(BO34="","",CONCATENATE(", ",BO34)),")") -> Matematika III. (, web) | AB34: =IF(CN34="","",CONCATENATE($BF34,$BG34)) | AC34: =IF(CO34="","",CONCATENATE($BF34,$BG34)) | AD34: =IF(CP34="","",CONCATENATE($BF34,$BG34)) | AE34: =IF(CQ34="","",CONCATENATE($BF34,$BG34)) | AF34: =IF(CR34="","",CONCATENATE($BF34,$BG34)) | AG34: =IF(CS34="","",CONCATENATE($BF34,$BG34)) | AH34: =IF(CT34="","",CONCATENATE($BF34,$BG34)) | AI34: =IF(CU34="","",CONCATENATE($BF34,$BG34)) | ... BD34: =IF(DP34="","",CONCATENATE($BF34,$BG34)) | BE34: =CONCATENATE(BJ34," (",BN34,IF(BO34="","",CONCATENATE(", ",BO34)),")") -> Matematika III. (212, web) | BF34: 905 | BG34: 2 | BH34: =VLOOKUP(BF34,segéd!$F$9:$G$41,2,FALSE) -> 46270 | BI34: =VLOOKUP(BG34,segéd!$F$1:$G$7,2,FALSE) -> 9.45-11.15 | BJ34: Matematika III. | BK34: Kovács Gergely | BL34: tatabányai alapképzés | BN34: 212 | BO34: web | BP34: https://teams.microsoft.com/meet/333965195025584?p=9sDlREtq9C0FCPhPg2 | BQ34: =IF(BR34="",0,BR34)+IF(BS34="",0,BS34) -> 41 | BR34: =IF(BM34="","",IFERROR(VLOOKUP(BJ34,segéd!T:U,2,FALSE),"x")) | BS34: =IF(BN34="","",IFERROR(VLOOKUP(BJ34,segéd!O:P,2,FALSE),"x")) -> 41 | CW34: 37
A35: =CONCATENATE(BM35,BF35,BG35) -> 4639052 | B35: =CONCATENATE(BJ35," - ",BK35,IF(BO35="","",CONCATENATE(" (",BO35,")"))," ",BR35) -> Német általános nyelv I. (II. nyelv) - Peres Anna 6 | C35: =CONCATENATE(BN35,BF35,BG35) -> 9052 | D35: =CONCATENATE(BJ35," - ",BK35,IF(BO35="","",CONCATENATE(" (",BO35,")"))," ",BS35) -> Német általános nyelv I. (II. nyelv) - Peres Anna | E35: =CONCATENATE(BK35,BF35,BG35) -> Peres Anna9052 | F35: =CONCATENATE(BJ35," (",IF(OR(BM35="",BO35="Tb.-ről web"),"",CONCATENATE("Bp. ",BM35)),IF(OR(BN35="",BO35="Bp.-ről web"),"",CONCATENATE("Tb. ",BN35)),IF(BO35="","",CONCATENATE(", ",BO35)),")") -> Német általános nyelv I. (II. nyelv) (Bp. 463) | G35: =IF(BT35="","",CONCATENATE($BF35,$BG35)) | H35: =IF(BU35="","",CONCATENATE($BF35,$BG35)) | I35: =IF(BV35="","",CONCATENATE($BF35,$BG35)) | J35: =IF(BW35="","",CONCATENATE($BF35,$BG35)) | K35: =IF(BX35="","",CONCATENATE($BF35,$BG35)) | L35: =IF(BY35="","",CONCATENATE($BF35,$BG35)) | M35: =IF(BZ35="","",CONCATENATE($BF35,$BG35)) | N35: =IF(CA35="","",CONCATENATE($BF35,$BG35)) | ... Z35: =IF(CM35="","",CONCATENATE($BF35,$BG35)) | AA35: =CONCATENATE(BJ35," (",BM35,IF(BO35="","",CONCATENATE(", ",BO35)),")") -> Német általános nyelv I. (II. nyelv) (463) | AB35: =IF(CN35="","",CONCATENATE($BF35,$BG35)) | AC35: =IF(CO35="","",CONCATENATE($BF35,$BG35)) | AD35: =IF(CP35="","",CONCATENATE($BF35,$BG35)) | AE35: =IF(CQ35="","",CONCATENATE($BF35,$BG35)) | AF35: =IF(CR35="","",CONCATENATE($BF35,$BG35)) | AG35: =IF(CS35="","",CONCATENATE($BF35,$BG35)) | AH35: =IF(CT35="","",CONCATENATE($BF35,$BG35)) | AI35: =IF(CU35="","",CONCATENATE($BF35,$BG35)) | ... BD35: =IF(DP35="","",CONCATENATE($BF35,$BG35)) | BE35: =CONCATENATE(BJ35," (",BN35,IF(BO35="","",CONCATENATE(", ",BO35)),")") -> Német általános nyelv I. (II. nyelv) () | BF35: 905 | BG35: 2 | BH35: =VLOOKUP(BF35,segéd!$F$9:$G$41,2,FALSE) -> 46270 | BI35: =VLOOKUP(BG35,segéd!$F$1:$G$7,2,FALSE) -> 9.45-11.15 | BJ35: Német általános nyelv I. (II. nyelv) | BK35: Peres Anna | BL35: budapesti alapképzés | BM35: 463 | BQ35: =IF(BR35="",0,BR35)+IF(BS35="",0,BS35) -> 6 | BR35: =IF(BM35="","",IFERROR(VLOOKUP(BJ35,segéd!T:U,2,FALSE),"x")) -> 6 | BS35: =IF(BN35="","",IFERROR(VLOOKUP(BJ35,segéd!O:P,2,FALSE),"x")) | CB35: 6
A36: =CONCATENATE(BM36,BF36,BG36) -> 2029052 | B36: =CONCATENATE(BJ36," - ",BK36,IF(BO36="","",CONCATENATE(" (",BO36,")"))," ",BR36) -> Pénzügyi piacok - Antalík Imrich (Tb.-ről web) 16 | C36: =CONCATENATE(BN36,BF36,BG36) -> 2149052 | D36: =CONCATENATE(BJ36," - ",BK36,IF(BO36="","",CONCATENATE(" (",BO36,")"))," ",BS36) -> Pénzügyi piacok - Antalík Imrich (Tb.-ről web) 20 | E36: =CONCATENATE(BK36,BF36,BG36) -> Antalík Imrich9052 | F36: =CONCATENATE(BJ36," (",IF(OR(BM36="",BO36="Tb.-ről web"),"",CONCATENATE("Bp. ",BM36)),IF(OR(BN36="",BO36="Bp.-ről web"),"",CONCATENATE("Tb. ",BN36)),IF(BO36="","",CONCATENATE(", ",BO36)),")") -> Pénzügyi piacok (Tb. 214, Tb.-ről web) | G36: =IF(BT36="","",CONCATENATE($BF36,$BG36)) | H36: =IF(BU36="","",CONCATENATE($BF36,$BG36)) | I36: =IF(BV36="","",CONCATENATE($BF36,$BG36)) | J36: =IF(BW36="","",CONCATENATE($BF36,$BG36)) | K36: =IF(BX36="","",CONCATENATE($BF36,$BG36)) | L36: =IF(BY36="","",CONCATENATE($BF36,$BG36)) | M36: =IF(BZ36="","",CONCATENATE($BF36,$BG36)) -> 9052 | N36: =IF(CA36="","",CONCATENATE($BF36,$BG36)) | ... Z36: =IF(CM36="","",CONCATENATE($BF36,$BG36)) | AA36: =CONCATENATE(BJ36," (",BM36,IF(BO36="","",CONCATENATE(", ",BO36)),")") -> Pénzügyi piacok (202, Tb.-ről web) | AB36: =IF(CN36="","",CONCATENATE($BF36,$BG36)) | AC36: =IF(CO36="","",CONCATENATE($BF36,$BG36)) | AD36: =IF(CP36="","",CONCATENATE($BF36,$BG36)) | AE36: =IF(CQ36="","",CONCATENATE($BF36,$BG36)) | AF36: =IF(CR36="","",CONCATENATE($BF36,$BG36)) | AG36: =IF(CS36="","",CONCATENATE($BF36,$BG36)) | AH36: =IF(CT36="","",CONCATENATE($BF36,$BG36)) -> 9052 | AI36: =IF(CU36="","",CONCATENATE($BF36,$BG36)) | ... BD36: =IF(DP36="","",CONCATENATE($BF36,$BG36)) | BE36: =CONCATENATE(BJ36," (",BN36,IF(BO36="","",CONCATENATE(", ",BO36)),")") -> Pénzügyi piacok (214, Tb.-ről web) | BF36: 905 | BG36: 2 | BH36: =VLOOKUP(BF36,segéd!$F$9:$G$41,2,FALSE) -> 46270 | BI36: =VLOOKUP(BG36,segéd!$F$1:$G$7,2,FALSE) -> 9.45-11.15 | BJ36: Pénzügyi piacok | BK36: Antalík Imrich | BL36: budapesti, tatabányai alapképzés | BM36: 202 | BN36: 214 | BO36: Tb.-ről web | BP36: https://teams.microsoft.com/meet/383109192093472?p=7g1ia3OOVghG4xYHx7 | BQ36: =IF(BR36="",0,BR36)+IF(BS36="",0,BS36) -> 36 | BR36: =IF(BM36="","",IFERROR(VLOOKUP(BJ36,segéd!T:U,2,FALSE),"x")) -> 16 | BS36: =IF(BN36="","",IFERROR(VLOOKUP(BJ36,segéd!O:P,2,FALSE),"x")) -> 20 | BZ36: 15 | CT36: 31
A37: =CONCATENATE(BM37,BF37,BG37) -> 9052 | B37: =CONCATENATE(BJ37," - ",BK37,IF(BO37="","",CONCATENATE(" (",BO37,")"))," ",BR37) -> Számítógéppel segített gy. és m. alapjai - Molnár László (web) | C37: =CONCATENATE(BN37,BF37,BG37) -> 39052 | D37: =CONCATENATE(BJ37," - ",BK37,IF(BO37="","",CONCATENATE(" (",BO37,")"))," ",BS37) -> Számítógéppel segített gy. és m. alapjai - Molnár László (web) 9 | E37: =CONCATENATE(BK37,BF37,BG37) -> Molnár László9052 | F37: =CONCATENATE(BJ37," (",IF(OR(BM37="",BO37="Tb.-ről web"),"",CONCATENATE("Bp. ",BM37)),IF(OR(BN37="",BO37="Bp.-ről web"),"",CONCATENATE("Tb. ",BN37)),IF(BO37="","",CONCATENATE(", ",BO37)),")") -> Számítógéppel segített gy. és m. alapjai (Tb. 3, web) | G37: =IF(BT37="","",CONCATENATE($BF37,$BG37)) | H37: =IF(BU37="","",CONCATENATE($BF37,$BG37)) | I37: =IF(BV37="","",CONCATENATE($BF37,$BG37)) | J37: =IF(BW37="","",CONCATENATE($BF37,$BG37)) | K37: =IF(BX37="","",CONCATENATE($BF37,$BG37)) | L37: =IF(BY37="","",CONCATENATE($BF37,$BG37)) | M37: =IF(BZ37="","",CONCATENATE($BF37,$BG37)) | N37: =IF(CA37="","",CONCATENATE($BF37,$BG37)) | ... Z37: =IF(CM37="","",CONCATENATE($BF37,$BG37)) | AA37: =CONCATENATE(BJ37," (",BM37,IF(BO37="","",CONCATENATE(", ",BO37)),")") -> Számítógéppel segített gy. és m. alapjai (, web) | AB37: =IF(CN37="","",CONCATENATE($BF37,$BG37)) | AC37: =IF(CO37="","",CONCATENATE($BF37,$BG37)) | AD37: =IF(CP37="","",CONCATENATE($BF37,$BG37)) | AE37: =IF(CQ37="","",CONCATENATE($BF37,$BG37)) | AF37: =IF(CR37="","",CONCATENATE($BF37,$BG37)) | AG37: =IF(CS37="","",CONCATENATE($BF37,$BG37)) | AH37: =IF(CT37="","",CONCATENATE($BF37,$BG37)) | AI37: =IF(CU37="","",CONCATENATE($BF37,$BG37)) | ... BD37: =IF(DP37="","",CONCATENATE($BF37,$BG37)) | BE37: =CONCATENATE(BJ37," (",BN37,IF(BO37="","",CONCATENATE(", ",BO37)),")") -> Számítógéppel segített gy. és m. alapjai (3, web) | BF37: 905 | BG37: 2 | BH37: =VLOOKUP(BF37,segéd!$F$9:$G$41,2,FALSE) -> 46270 | BI37: =VLOOKUP(BG37,segéd!$F$1:$G$7,2,FALSE) -> 9.45-11.15 | BJ37: Számítógéppel segített gy. és m. alapjai | BK37: Molnár László | BL37: tatabányai FOKSZ | BN37: 3 | BO37: web | BP37: https://teams.microsoft.com/meet/315954212246681?p=2E81Y4LwDInMdYyFrB | BQ37: =IF(BR37="",0,BR37)+IF(BS37="",0,BS37) -> 9 | BR37: =IF(BM37="","",IFERROR(VLOOKUP(BJ37,segéd!T:U,2,FALSE),"x")) | BS37: =IF(BN37="","",IFERROR(VLOOKUP(BJ37,segéd!O:P,2,FALSE),"x")) -> 9 | CV37: 7
A38: =CONCATENATE(BM38,BF38,BG38) -> 9052 | B38: =CONCATENATE(BJ38," - ",BK38,IF(BO38="","",CONCATENATE(" (",BO38,")"))," ",BR38) -> Számvitel III. - Labossa Ildikó (web) | C38: =CONCATENATE(BN38,BF38,BG38) -> 2179052 | D38: =CONCATENATE(BJ38," - ",BK38,IF(BO38="","",CONCATENATE(" (",BO38,")"))," ",BS38) -> Számvitel III. - Labossa Ildikó (web) 24 | E38: =CONCATENATE(BK38,BF38,BG38) -> Labossa Ildikó9052 | F38: =CONCATENATE(BJ38," (",IF(OR(BM38="",BO38="Tb.-ről web"),"",CONCATENATE("Bp. ",BM38)),IF(OR(BN38="",BO38="Bp.-ről web"),"",CONCATENATE("Tb. ",BN38)),IF(BO38="","",CONCATENATE(", ",BO38)),")") -> Számvitel III. (Tb. 217, web) | G38: =IF(BT38="","",CONCATENATE($BF38,$BG38)) | H38: =IF(BU38="","",CONCATENATE($BF38,$BG38)) | I38: =IF(BV38="","",CONCATENATE($BF38,$BG38)) | J38: =IF(BW38="","",CONCATENATE($BF38,$BG38)) | K38: =IF(BX38="","",CONCATENATE($BF38,$BG38)) | L38: =IF(BY38="","",CONCATENATE($BF38,$BG38)) | M38: =IF(BZ38="","",CONCATENATE($BF38,$BG38)) | N38: =IF(CA38="","",CONCATENATE($BF38,$BG38)) | ... Z38: =IF(CM38="","",CONCATENATE($BF38,$BG38)) | AA38: =CONCATENATE(BJ38," (",BM38,IF(BO38="","",CONCATENATE(", ",BO38)),")") -> Számvitel III. (, web) | AB38: =IF(CN38="","",CONCATENATE($BF38,$BG38)) | AC38: =IF(CO38="","",CONCATENATE($BF38,$BG38)) | AD38: =IF(CP38="","",CONCATENATE($BF38,$BG38)) | AE38: =IF(CQ38="","",CONCATENATE($BF38,$BG38)) | AF38: =IF(CR38="","",CONCATENATE($BF38,$BG38)) | AG38: =IF(CS38="","",CONCATENATE($BF38,$BG38)) | AH38: =IF(CT38="","",CONCATENATE($BF38,$BG38)) | AI38: =IF(CU38="","",CONCATENATE($BF38,$BG38)) | ... BD38: =IF(DP38="","",CONCATENATE($BF38,$BG38)) | BE38: =CONCATENATE(BJ38," (",BN38,IF(BO38="","",CONCATENATE(", ",BO38)),")") -> Számvitel III. (217, web) | BF38: 905 | BG38: 2 | BH38: =VLOOKUP(BF38,segéd!$F$9:$G$41,2,FALSE) -> 46270 | BI38: =VLOOKUP(BG38,segéd!$F$1:$G$7,2,FALSE) -> 9.45-11.15 | BJ38: Számvitel III. | BK38: Labossa Ildikó | BL38: tatabányai alapképzés | BN38: 217 | BO38: web | BP38: https://teams.microsoft.com/meet/322533074245749?p=bjEGujLuHOFDTOsFmF | BQ38: =IF(BR38="",0,BR38)+IF(BS38="",0,BS38) -> 24 | BR38: =IF(BM38="","",IFERROR(VLOOKUP(BJ38,segéd!T:U,2,FALSE),"x")) | BS38: =IF(BN38="","",IFERROR(VLOOKUP(BJ38,segéd!O:P,2,FALSE),"x")) -> 24 | CZ38: 3 | DA38: 7 | DB38: 8
A39: =CONCATENATE(BM39,BF39,BG39) -> 2059052 | B39: =CONCATENATE(BJ39," - ",BK39,IF(BO39="","",CONCATENATE(" (",BO39,")"))," ",BR39) -> Számvitel III. - Péter Sára (web) 24 | C39: =CONCATENATE(BN39,BF39,BG39) -> 9052 | D39: =CONCATENATE(BJ39," - ",BK39,IF(BO39="","",CONCATENATE(" (",BO39,")"))," ",BS39) -> Számvitel III. - Péter Sára (web) | E39: =CONCATENATE(BK39,BF39,BG39) -> Péter Sára9052 | F39: =CONCATENATE(BJ39," (",IF(OR(BM39="",BO39="Tb.-ről web"),"",CONCATENATE("Bp. ",BM39)),IF(OR(BN39="",BO39="Bp.-ről web"),"",CONCATENATE("Tb. ",BN39)),IF(BO39="","",CONCATENATE(", ",BO39)),")") -> Számvitel III. (Bp. 205, web) | G39: =IF(BT39="","",CONCATENATE($BF39,$BG39)) | H39: =IF(BU39="","",CONCATENATE($BF39,$BG39)) | I39: =IF(BV39="","",CONCATENATE($BF39,$BG39)) | J39: =IF(BW39="","",CONCATENATE($BF39,$BG39)) | K39: =IF(BX39="","",CONCATENATE($BF39,$BG39)) | L39: =IF(BY39="","",CONCATENATE($BF39,$BG39)) | M39: =IF(BZ39="","",CONCATENATE($BF39,$BG39)) | N39: =IF(CA39="","",CONCATENATE($BF39,$BG39)) | ... Z39: =IF(CM39="","",CONCATENATE($BF39,$BG39)) | AA39: =CONCATENATE(BJ39," (",BM39,IF(BO39="","",CONCATENATE(", ",BO39)),")") -> Számvitel III. (205, web) | AB39: =IF(CN39="","",CONCATENATE($BF39,$BG39)) | AC39: =IF(CO39="","",CONCATENATE($BF39,$BG39)) | AD39: =IF(CP39="","",CONCATENATE($BF39,$BG39)) | AE39: =IF(CQ39="","",CONCATENATE($BF39,$BG39)) | AF39: =IF(CR39="","",CONCATENATE($BF39,$BG39)) | AG39: =IF(CS39="","",CONCATENATE($BF39,$BG39)) | AH39: =IF(CT39="","",CONCATENATE($BF39,$BG39)) | AI39: =IF(CU39="","",CONCATENATE($BF39,$BG39)) | ... BD39: =IF(DP39="","",CONCATENATE($BF39,$BG39)) | BE39: =CONCATENATE(BJ39," (",BN39,IF(BO39="","",CONCATENATE(", ",BO39)),")") -> Számvitel III. (, web) | BF39: 905 | BG39: 2 | BH39: =VLOOKUP(BF39,segéd!$F$9:$G$41,2,FALSE) -> 46270 | BI39: =VLOOKUP(BG39,segéd!$F$1:$G$7,2,FALSE) -> 9.45-11.15 | BJ39: Számvitel III. | BK39: Péter Sára | BL39: budapesti alapképzés | BM39: 205 | BO39: web | BP39: https://teams.microsoft.com/meet/368532288625794?p=cyKgVsrWxWVq6jtbWe | BQ39: =IF(BR39="",0,BR39)+IF(BS39="",0,BS39) -> 24 | BR39: =IF(BM39="","",IFERROR(VLOOKUP(BJ39,segéd!T:U,2,FALSE),"x")) -> 24 | BS39: =IF(BN39="","",IFERROR(VLOOKUP(BJ39,segéd!O:P,2,FALSE),"x")) | CG39: 6 | CH39: 6 | CI39: 7
A40: =CONCATENATE(BM40,BF40,BG40) -> 2079052 | B40: =CONCATENATE(BJ40," - ",BK40,IF(BO40="","",CONCATENATE(" (",BO40,")"))," ",BR40) -> Turisztikai szoftverek - Krompaszky Gábor (gépterem, web) 3 | C40: =CONCATENATE(BN40,BF40,BG40) -> 9052 | D40: =CONCATENATE(BJ40," - ",BK40,IF(BO40="","",CONCATENATE(" (",BO40,")"))," ",BS40) -> Turisztikai szoftverek - Krompaszky Gábor (gépterem, web) | E40: =CONCATENATE(BK40,BF40,BG40) -> Krompaszky Gábor9052 | F40: =CONCATENATE(BJ40," (",IF(OR(BM40="",BO40="Tb.-ről web"),"",CONCATENATE("Bp. ",BM40)),IF(OR(BN40="",BO40="Bp.-ről web"),"",CONCATENATE("Tb. ",BN40)),IF(BO40="","",CONCATENATE(", ",BO40)),")") -> Turisztikai szoftverek (Bp. 207, gépterem, web) | G40: =IF(BT40="","",CONCATENATE($BF40,$BG40)) | H40: =IF(BU40="","",CONCATENATE($BF40,$BG40)) | I40: =IF(BV40="","",CONCATENATE($BF40,$BG40)) | J40: =IF(BW40="","",CONCATENATE($BF40,$BG40)) | K40: =IF(BX40="","",CONCATENATE($BF40,$BG40)) | L40: =IF(BY40="","",CONCATENATE($BF40,$BG40)) | M40: =IF(BZ40="","",CONCATENATE($BF40,$BG40)) | N40: =IF(CA40="","",CONCATENATE($BF40,$BG40)) | ... Z40: =IF(CM40="","",CONCATENATE($BF40,$BG40)) -> 9052 | AA40: =CONCATENATE(BJ40," (",BM40,IF(BO40="","",CONCATENATE(", ",BO40)),")") -> Turisztikai szoftverek (207, gépterem, web) | AB40: =IF(CN40="","",CONCATENATE($BF40,$BG40)) | AC40: =IF(CO40="","",CONCATENATE($BF40,$BG40)) | AD40: =IF(CP40="","",CONCATENATE($BF40,$BG40)) | AE40: =IF(CQ40="","",CONCATENATE($BF40,$BG40)) | AF40: =IF(CR40="","",CONCATENATE($BF40,$BG40)) | AG40: =IF(CS40="","",CONCATENATE($BF40,$BG40)) | AH40: =IF(CT40="","",CONCATENATE($BF40,$BG40)) | AI40: =IF(CU40="","",CONCATENATE($BF40,$BG40)) | ... BD40: =IF(DP40="","",CONCATENATE($BF40,$BG40)) | BE40: =CONCATENATE(BJ40," (",BN40,IF(BO40="","",CONCATENATE(", ",BO40)),")") -> Turisztikai szoftverek (, gépterem, web) | BF40: 905 | BG40: 2 | BH40: =VLOOKUP(BF40,segéd!$F$9:$G$41,2,FALSE) -> 46270 | BI40: =VLOOKUP(BG40,segéd!$F$1:$G$7,2,FALSE) -> 9.45-11.15 | BJ40: Turisztikai szoftverek | BK40: Krompaszky Gábor | BL40: budapesti alapképzés | BM40: 207 | BO40: gépterem, web | BP40: https://teams.microsoft.com/meet/394062537319000?p=1ieN2lFezAMJbiy7Hd | BQ40: =IF(BR40="",0,BR40)+IF(BS40="",0,BS40) -> 3 | BR40: =IF(BM40="","",IFERROR(VLOOKUP(BJ40,segéd!T:U,2,FALSE),"x")) -> 3 | BS40: =IF(BN40="","",IFERROR(VLOOKUP(BJ40,segéd!O:P,2,FALSE),"x")) | CM40: 5
A41: =CONCATENATE(BM41,BF41,BG41) -> 9052 | B41: =CONCATENATE(BJ41," - ",BK41,IF(BO41="","",CONCATENATE(" (",BO41,")"))," ",BR41) -> Vállalati gazdaságtan - Kárpáti-Daróczi Judit (web) | C41: =CONCATENATE(BN41,BF41,BG41) -> 5019052 | D41: =CONCATENATE(BJ41," - ",BK41,IF(BO41="","",CONCATENATE(" (",BO41,")"))," ",BS41) -> Vállalati gazdaságtan - Kárpáti-Daróczi Judit (web) 206 | E41: =CONCATENATE(BK41,BF41,BG41) -> Kárpáti-Daróczi Judit9052 | F41: =CONCATENATE(BJ41," (",IF(OR(BM41="",BO41="Tb.-ről web"),"",CONCATENATE("Bp. ",BM41)),IF(OR(BN41="",BO41="Bp.-ről web"),"",CONCATENATE("Tb. ",BN41)),IF(BO41="","",CONCATENATE(", ",BO41)),")") -> Vállalati gazdaságtan (Tb. 501, web) | G41: =IF(BT41="","",CONCATENATE($BF41,$BG41)) | H41: =IF(BU41="","",CONCATENATE($BF41,$BG41)) | I41: =IF(BV41="","",CONCATENATE($BF41,$BG41)) | J41: =IF(BW41="","",CONCATENATE($BF41,$BG41)) | K41: =IF(BX41="","",CONCATENATE($BF41,$BG41)) | L41: =IF(BY41="","",CONCATENATE($BF41,$BG41)) | M41: =IF(BZ41="","",CONCATENATE($BF41,$BG41)) | N41: =IF(CA41="","",CONCATENATE($BF41,$BG41)) | ... Z41: =IF(CM41="","",CONCATENATE($BF41,$BG41)) | AA41: =CONCATENATE(BJ41," (",BM41,IF(BO41="","",CONCATENATE(", ",BO41)),")") -> Vállalati gazdaságtan (, web) | AB41: =IF(CN41="","",CONCATENATE($BF41,$BG41)) -> 9052 | AC41: =IF(CO41="","",CONCATENATE($BF41,$BG41)) -> 9052 | AD41: =IF(CP41="","",CONCATENATE($BF41,$BG41)) | AE41: =IF(CQ41="","",CONCATENATE($BF41,$BG41)) -> 9052 | AF41: =IF(CR41="","",CONCATENATE($BF41,$BG41)) -> 9052 | AG41: =IF(CS41="","",CONCATENATE($BF41,$BG41)) | AH41: =IF(CT41="","",CONCATENATE($BF41,$BG41)) | AI41: =IF(CU41="","",CONCATENATE($BF41,$BG41)) | ... BD41: =IF(DP41="","",CONCATENATE($BF41,$BG41)) | BE41: =CONCATENATE(BJ41," (",BN41,IF(BO41="","",CONCATENATE(", ",BO41)),")") -> Vállalati gazdaságtan (501, web) | BF41: 905 | BG41: 2 | BH41: =VLOOKUP(BF41,segéd!$F$9:$G$41,2,FALSE) -> 46270 | BI41: =VLOOKUP(BG41,segéd!$F$1:$G$7,2,FALSE) -> 9.45-11.15 | BJ41: Vállalati gazdaságtan | BK41: Kárpáti-Daróczi Judit | BL41: tatabányai alapképzés, FOKSZ | BN41: 501 | BO41: web | BP41: https://teams.microsoft.com/meet/356481038554071?p=P5F28LD02gCGcRenM4 | BQ41: =IF(BR41="",0,BR41)+IF(BS41="",0,BS41) -> 206 | BR41: =IF(BM41="","",IFERROR(VLOOKUP(BJ41,segéd!T:U,2,FALSE),"x")) | BS41: =IF(BN41="","",IFERROR(VLOOKUP(BJ41,segéd!O:P,2,FALSE),"x")) -> 206 | CN41: 53 | CO41: 6 | CQ41: 74 | CR41: 48
A42: =CONCATENATE(BM42,BF42,BG42) -> 9053 | B42: =CONCATENATE(BJ42," - ",BK42,IF(BO42="","",CONCATENATE(" (",BO42,")"))," ",BR42) -> Anyagismeret a gyakorlatban - Szabó Veronika Anna (web) | C42: =CONCATENATE(BN42,BF42,BG42) -> 2169053 | D42: =CONCATENATE(BJ42," - ",BK42,IF(BO42="","",CONCATENATE(" (",BO42,")"))," ",BS42) -> Anyagismeret a gyakorlatban - Szabó Veronika Anna (web) 15 | E42: =CONCATENATE(BK42,BF42,BG42) -> Szabó Veronika Anna9053 | F42: =CONCATENATE(BJ42," (",IF(OR(BM42="",BO42="Tb.-ről web"),"",CONCATENATE("Bp. ",BM42)),IF(OR(BN42="",BO42="Bp.-ről web"),"",CONCATENATE("Tb. ",BN42)),IF(BO42="","",CONCATENATE(", ",BO42)),")") -> Anyagismeret a gyakorlatban (Tb. 216, web) | G42: =IF(BT42="","",CONCATENATE($BF42,$BG42)) | H42: =IF(BU42="","",CONCATENATE($BF42,$BG42)) | I42: =IF(BV42="","",CONCATENATE($BF42,$BG42)) | J42: =IF(BW42="","",CONCATENATE($BF42,$BG42)) | K42: =IF(BX42="","",CONCATENATE($BF42,$BG42)) | L42: =IF(BY42="","",CONCATENATE($BF42,$BG42)) | M42: =IF(BZ42="","",CONCATENATE($BF42,$BG42)) | N42: =IF(CA42="","",CONCATENATE($BF42,$BG42)) | ... Z42: =IF(CM42="","",CONCATENATE($BF42,$BG42)) | AA42: =CONCATENATE(BJ42," (",BM42,IF(BO42="","",CONCATENATE(", ",BO42)),")") -> Anyagismeret a gyakorlatban (, web) | AB42: =IF(CN42="","",CONCATENATE($BF42,$BG42)) | AC42: =IF(CO42="","",CONCATENATE($BF42,$BG42)) | AD42: =IF(CP42="","",CONCATENATE($BF42,$BG42)) -> 9053 | AE42: =IF(CQ42="","",CONCATENATE($BF42,$BG42)) | AF42: =IF(CR42="","",CONCATENATE($BF42,$BG42)) | AG42: =IF(CS42="","",CONCATENATE($BF42,$BG42)) | AH42: =IF(CT42="","",CONCATENATE($BF42,$BG42)) | AI42: =IF(CU42="","",CONCATENATE($BF42,$BG42)) | ... BD42: =IF(DP42="","",CONCATENATE($BF42,$BG42)) | BE42: =CONCATENATE(BJ42," (",BN42,IF(BO42="","",CONCATENATE(", ",BO42)),")") -> Anyagismeret a gyakorlatban (216, web) | BF42: 905 | BG42: 3 | BH42: =VLOOKUP(BF42,segéd!$F$9:$G$41,2,FALSE) -> 46270 | BI42: =VLOOKUP(BG42,segéd!$F$1:$G$7,2,FALSE) -> 11.30-13.00 | BJ42: Anyagismeret a gyakorlatban | BK42: Szabó Veronika Anna | BL42: tatabányai FOKSZ | BN42: 216 | BO42: web | BP42: https://teams.microsoft.com/meet/34639359141876?p=etExkaqXHS07iyTcLI | BQ42: =IF(BR42="",0,BR42)+IF(BS42="",0,BS42) -> 15 | BR42: =IF(BM42="","",IFERROR(VLOOKUP(BJ42,segéd!T:U,2,FALSE),"x")) | BS42: =IF(BN42="","",IFERROR(VLOOKUP(BJ42,segéd!O:P,2,FALSE),"x")) -> 15 | CP42: 8
A43: =CONCATENATE(BM43,BF43,BG43) -> 9053 | B43: =CONCATENATE(BJ43," - ",BK43,IF(BO43="","",CONCATENATE(" (",BO43,")"))," ",BR43) -> Emberi erőf. gazd. term. váll. - Gyalogos Norbert (web) | C43: =CONCATENATE(BN43,BF43,BG43) -> 4019053 | D43: =CONCATENATE(BJ43," - ",BK43,IF(BO43="","",CONCATENATE(" (",BO43,")"))," ",BS43) -> Emberi erőf. gazd. term. váll. - Gyalogos Norbert (web) 4 | E43: =CONCATENATE(BK43,BF43,BG43) -> Gyalogos Norbert9053 | F43: =CONCATENATE(BJ43," (",IF(OR(BM43="",BO43="Tb.-ről web"),"",CONCATENATE("Bp. ",BM43)),IF(OR(BN43="",BO43="Bp.-ről web"),"",CONCATENATE("Tb. ",BN43)),IF(BO43="","",CONCATENATE(", ",BO43)),")") -> Emberi erőf. gazd. term. váll. (Tb. 401, web) | G43: =IF(BT43="","",CONCATENATE($BF43,$BG43)) | H43: =IF(BU43="","",CONCATENATE($BF43,$BG43)) | I43: =IF(BV43="","",CONCATENATE($BF43,$BG43)) | J43: =IF(BW43="","",CONCATENATE($BF43,$BG43)) | K43: =IF(BX43="","",CONCATENATE($BF43,$BG43)) | L43: =IF(BY43="","",CONCATENATE($BF43,$BG43)) | M43: =IF(BZ43="","",CONCATENATE($BF43,$BG43)) | N43: =IF(CA43="","",CONCATENATE($BF43,$BG43)) | ... Z43: =IF(CM43="","",CONCATENATE($BF43,$BG43)) | AA43: =CONCATENATE(BJ43," (",BM43,IF(BO43="","",CONCATENATE(", ",BO43)),")") -> Emberi erőf. gazd. term. váll. (, web) | AB43: =IF(CN43="","",CONCATENATE($BF43,$BG43)) | AC43: =IF(CO43="","",CONCATENATE($BF43,$BG43)) | AD43: =IF(CP43="","",CONCATENATE($BF43,$BG43)) | AE43: =IF(CQ43="","",CONCATENATE($BF43,$BG43)) | AF43: =IF(CR43="","",CONCATENATE($BF43,$BG43)) | AG43: =IF(CS43="","",CONCATENATE($BF43,$BG43)) | AH43: =IF(CT43="","",CONCATENATE($BF43,$BG43)) | AI43: =IF(CU43="","",CONCATENATE($BF43,$BG43)) | ... BD43: =IF(DP43="","",CONCATENATE($BF43,$BG43)) | BE43: =CONCATENATE(BJ43," (",BN43,IF(BO43="","",CONCATENATE(", ",BO43)),")") -> Emberi erőf. gazd. term. váll. (401, web) | BF43: 905 | BG43: 3 | BH43: =VLOOKUP(BF43,segéd!$F$9:$G$41,2,FALSE) -> 46270 | BI43: =VLOOKUP(BG43,segéd!$F$1:$G$7,2,FALSE) -> 11.30-13.00 | BJ43: Emberi erőf. gazd. term. váll. | BK43: Gyalogos Norbert | BL43: tatabányai mesterképzés | BN43: 401 | BO43: web | BP43: https://teams.microsoft.com/meet/326136277069436?p=wvcgQ8astKQJxuEsnK | BQ43: =IF(BR43="",0,BR43)+IF(BS43="",0,BS43) -> 4 | BR43: =IF(BM43="","",IFERROR(VLOOKUP(BJ43,segéd!T:U,2,FALSE),"x")) | BS43: =IF(BN43="","",IFERROR(VLOOKUP(BJ43,segéd!O:P,2,FALSE),"x")) -> 4 | CY43: 3
A44: =CONCATENATE(BM44,BF44,BG44) -> 9053 | B44: =CONCATENATE(BJ44," - ",BK44,IF(BO44="","",CONCATENATE(" (",BO44,")"))," ",BR44) -> Épületvillamosság és világítástechnika - Baksa Dániel (web) | C44: =CONCATENATE(BN44,BF44,BG44) -> 69053 | D44: =CONCATENATE(BJ44," - ",BK44,IF(BO44="","",CONCATENATE(" (",BO44,")"))," ",BS44) -> Épületvillamosság és világítástechnika - Baksa Dániel (web) 8 | E44: =CONCATENATE(BK44,BF44,BG44) -> Baksa Dániel9053 | F44: =CONCATENATE(BJ44," (",IF(OR(BM44="",BO44="Tb.-ről web"),"",CONCATENATE("Bp. ",BM44)),IF(OR(BN44="",BO44="Bp.-ről web"),"",CONCATENATE("Tb. ",BN44)),IF(BO44="","",CONCATENATE(", ",BO44)),")") -> Épületvillamosság és világítástechnika (Tb. 6, web) | G44: =IF(BT44="","",CONCATENATE($BF44,$BG44)) | H44: =IF(BU44="","",CONCATENATE($BF44,$BG44)) | I44: =IF(BV44="","",CONCATENATE($BF44,$BG44)) | J44: =IF(BW44="","",CONCATENATE($BF44,$BG44)) | K44: =IF(BX44="","",CONCATENATE($BF44,$BG44)) | L44: =IF(BY44="","",CONCATENATE($BF44,$BG44)) | M44: =IF(BZ44="","",CONCATENATE($BF44,$BG44)) | N44: =IF(CA44="","",CONCATENATE($BF44,$BG44)) | ... Z44: =IF(CM44="","",CONCATENATE($BF44,$BG44)) | AA44: =CONCATENATE(BJ44," (",BM44,IF(BO44="","",CONCATENATE(", ",BO44)),")") -> Épületvillamosság és világítástechnika (, web) | AB44: =IF(CN44="","",CONCATENATE($BF44,$BG44)) | AC44: =IF(CO44="","",CONCATENATE($BF44,$BG44)) | AD44: =IF(CP44="","",CONCATENATE($BF44,$BG44)) | AE44: =IF(CQ44="","",CONCATENATE($BF44,$BG44)) | AF44: =IF(CR44="","",CONCATENATE($BF44,$BG44)) | AG44: =IF(CS44="","",CONCATENATE($BF44,$BG44)) | AH44: =IF(CT44="","",CONCATENATE($BF44,$BG44)) | AI44: =IF(CU44="","",CONCATENATE($BF44,$BG44)) | ... BD44: =IF(DP44="","",CONCATENATE($BF44,$BG44)) | BE44: =CONCATENATE(BJ44," (",BN44,IF(BO44="","",CONCATENATE(", ",BO44)),")") -> Épületvillamosság és világítástechnika (6, web) | BF44: 905 | BG44: 3 | BH44: =VLOOKUP(BF44,segéd!$F$9:$G$41,2,FALSE) -> 46270 | BI44: =VLOOKUP(BG44,segéd!$F$1:$G$7,2,FALSE) -> 11.30-13.00 | BJ44: Épületvillamosság és világítástechnika | BK44: Baksa Dániel | BL44: tatabányai alapképzés | BN44: 6 | BO44: web | BP44: https://teams.microsoft.com/meet/319963400749355?p=Y4VgouXFrLPY1JNkXq | BQ44: =IF(BR44="",0,BR44)+IF(BS44="",0,BS44) -> 8 | BR44: =IF(BM44="","",IFERROR(VLOOKUP(BJ44,segéd!T:U,2,FALSE),"x")) | BS44: =IF(BN44="","",IFERROR(VLOOKUP(BJ44,segéd!O:P,2,FALSE),"x")) -> 8 | DG44: 8
A45: =CONCATENATE(BM45,BF45,BG45) -> 2059053 | B45: =CONCATENATE(BJ45," - ",BK45,IF(BO45="","",CONCATENATE(" (",BO45,")"))," ",BR45) -> Értékalapú vezetés - Barna Zsolt (Bp.-ről web) 7 | C45: =CONCATENATE(BN45,BF45,BG45) -> 4029053 | D45: =CONCATENATE(BJ45," - ",BK45,IF(BO45="","",CONCATENATE(" (",BO45,")"))," ",BS45) -> Értékalapú vezetés - Barna Zsolt (Bp.-ről web) 8 | E45: =CONCATENATE(BK45,BF45,BG45) -> Barna Zsolt9053 | F45: =CONCATENATE(BJ45," (",IF(OR(BM45="",BO45="Tb.-ről web"),"",CONCATENATE("Bp. ",BM45)),IF(OR(BN45="",BO45="Bp.-ről web"),"",CONCATENATE("Tb. ",BN45)),IF(BO45="","",CONCATENATE(", ",BO45)),")") -> Értékalapú vezetés (Bp. 205, Bp.-ről web) | G45: =IF(BT45="","",CONCATENATE($BF45,$BG45)) | H45: =IF(BU45="","",CONCATENATE($BF45,$BG45)) | I45: =IF(BV45="","",CONCATENATE($BF45,$BG45)) | J45: =IF(BW45="","",CONCATENATE($BF45,$BG45)) | K45: =IF(BX45="","",CONCATENATE($BF45,$BG45)) | L45: =IF(BY45="","",CONCATENATE($BF45,$BG45)) | M45: =IF(BZ45="","",CONCATENATE($BF45,$BG45)) | N45: =IF(CA45="","",CONCATENATE($BF45,$BG45)) | ... Z45: =IF(CM45="","",CONCATENATE($BF45,$BG45)) | AA45: =CONCATENATE(BJ45," (",BM45,IF(BO45="","",CONCATENATE(", ",BO45)),")") -> Értékalapú vezetés (205, Bp.-ről web) | AB45: =IF(CN45="","",CONCATENATE($BF45,$BG45)) | AC45: =IF(CO45="","",CONCATENATE($BF45,$BG45)) | AD45: =IF(CP45="","",CONCATENATE($BF45,$BG45)) | AE45: =IF(CQ45="","",CONCATENATE($BF45,$BG45)) | AF45: =IF(CR45="","",CONCATENATE($BF45,$BG45)) | AG45: =IF(CS45="","",CONCATENATE($BF45,$BG45)) | AH45: =IF(CT45="","",CONCATENATE($BF45,$BG45)) | AI45: =IF(CU45="","",CONCATENATE($BF45,$BG45)) | ... BD45: =IF(DP45="","",CONCATENATE($BF45,$BG45)) | BE45: =CONCATENATE(BJ45," (",BN45,IF(BO45="","",CONCATENATE(", ",BO45)),")") -> Értékalapú vezetés (402, Bp.-ről web) | BF45: 905 | BG45: 3 | BH45: =VLOOKUP(BF45,segéd!$F$9:$G$41,2,FALSE) -> 46270 | BI45: =VLOOKUP(BG45,segéd!$F$1:$G$7,2,FALSE) -> 11.30-13.00 | BJ45: Értékalapú vezetés | BK45: Barna Zsolt | BL45: budapesti, tatabányai alapképzés | BM45: 205 | BN45: 402 | BO45: Bp.-ről web | BP45: https://teams.microsoft.com/meet/331623708175952?p=QRuUUZ8d4qqcG4hVfR | BQ45: =IF(BR45="",0,BR45)+IF(BS45="",0,BS45) -> 15 | BR45: =IF(BM45="","",IFERROR(VLOOKUP(BJ45,segéd!T:U,2,FALSE),"x")) -> 7 | BS45: =IF(BN45="","",IFERROR(VLOOKUP(BJ45,segéd!O:P,2,FALSE),"x")) -> 8 | CH45: 6 | DA45: 7
A46: =CONCATENATE(BM46,BF46,BG46) -> 2179053 | B46: =CONCATENATE(BJ46," - ",BK46,IF(BO46="","",CONCATENATE(" (",BO46,")"))," ",BR46) -> Fenntarthatóság - Nagy Judit (web) 11 | C46: =CONCATENATE(BN46,BF46,BG46) -> 9053 | D46: =CONCATENATE(BJ46," - ",BK46,IF(BO46="","",CONCATENATE(" (",BO46,")"))," ",BS46) -> Fenntarthatóság - Nagy Judit (web) | E46: =CONCATENATE(BK46,BF46,BG46) -> Nagy Judit9053 | F46: =CONCATENATE(BJ46," (",IF(OR(BM46="",BO46="Tb.-ről web"),"",CONCATENATE("Bp. ",BM46)),IF(OR(BN46="",BO46="Bp.-ről web"),"",CONCATENATE("Tb. ",BN46)),IF(BO46="","",CONCATENATE(", ",BO46)),")") -> Fenntarthatóság (Bp. 217, web) | G46: =IF(BT46="","",CONCATENATE($BF46,$BG46)) | H46: =IF(BU46="","",CONCATENATE($BF46,$BG46)) | I46: =IF(BV46="","",CONCATENATE($BF46,$BG46)) | J46: =IF(BW46="","",CONCATENATE($BF46,$BG46)) | K46: =IF(BX46="","",CONCATENATE($BF46,$BG46)) | L46: =IF(BY46="","",CONCATENATE($BF46,$BG46)) -> 9053 | M46: =IF(BZ46="","",CONCATENATE($BF46,$BG46)) | N46: =IF(CA46="","",CONCATENATE($BF46,$BG46)) | ... Z46: =IF(CM46="","",CONCATENATE($BF46,$BG46)) | AA46: =CONCATENATE(BJ46," (",BM46,IF(BO46="","",CONCATENATE(", ",BO46)),")") -> Fenntarthatóság (217, web) | AB46: =IF(CN46="","",CONCATENATE($BF46,$BG46)) | AC46: =IF(CO46="","",CONCATENATE($BF46,$BG46)) | AD46: =IF(CP46="","",CONCATENATE($BF46,$BG46)) | AE46: =IF(CQ46="","",CONCATENATE($BF46,$BG46)) | AF46: =IF(CR46="","",CONCATENATE($BF46,$BG46)) | AG46: =IF(CS46="","",CONCATENATE($BF46,$BG46)) | AH46: =IF(CT46="","",CONCATENATE($BF46,$BG46)) | AI46: =IF(CU46="","",CONCATENATE($BF46,$BG46)) | ... BD46: =IF(DP46="","",CONCATENATE($BF46,$BG46)) | BE46: =CONCATENATE(BJ46," (",BN46,IF(BO46="","",CONCATENATE(", ",BO46)),")") -> Fenntarthatóság (, web) | BF46: 905 | BG46: 3 | BH46: =VLOOKUP(BF46,segéd!$F$9:$G$41,2,FALSE) -> 46270 | BI46: =VLOOKUP(BG46,segéd!$F$1:$G$7,2,FALSE) -> 11.30-13.00 | BJ46: Fenntarthatóság | BK46: Nagy Judit | BL46: budapesti mesterképzés | BM46: 217 | BO46: web | BP46: https://teams.microsoft.com/meet/399208632652194?p=IwC0g7wl0y9ya9vpS0 | BQ46: =IF(BR46="",0,BR46)+IF(BS46="",0,BS46) -> 11 | BR46: =IF(BM46="","",IFERROR(VLOOKUP(BJ46,segéd!T:U,2,FALSE),"x")) -> 11 | BS46: =IF(BN46="","",IFERROR(VLOOKUP(BJ46,segéd!O:P,2,FALSE),"x")) | BY46: 12
A47: =CONCATENATE(BM47,BF47,BG47) -> 2109053 | B47: =CONCATENATE(BJ47," - ",BK47,IF(BO47="","",CONCATENATE(" (",BO47,")"))," ",BR47) -> Gazdasági és versenyjog - Zalahegyi Zoltán (web) 6 | C47: =CONCATENATE(BN47,BF47,BG47) -> 9053 | D47: =CONCATENATE(BJ47," - ",BK47,IF(BO47="","",CONCATENATE(" (",BO47,")"))," ",BS47) -> Gazdasági és versenyjog - Zalahegyi Zoltán (web) | E47: =CONCATENATE(BK47,BF47,BG47) -> Zalahegyi Zoltán9053 | F47: =CONCATENATE(BJ47," (",IF(OR(BM47="",BO47="Tb.-ről web"),"",CONCATENATE("Bp. ",BM47)),IF(OR(BN47="",BO47="Bp.-ről web"),"",CONCATENATE("Tb. ",BN47)),IF(BO47="","",CONCATENATE(", ",BO47)),")") -> Gazdasági és versenyjog (Bp. 210, web) | G47: =IF(BT47="","",CONCATENATE($BF47,$BG47)) | H47: =IF(BU47="","",CONCATENATE($BF47,$BG47)) | I47: =IF(BV47="","",CONCATENATE($BF47,$BG47)) | J47: =IF(BW47="","",CONCATENATE($BF47,$BG47)) -> 9053 | K47: =IF(BX47="","",CONCATENATE($BF47,$BG47)) | L47: =IF(BY47="","",CONCATENATE($BF47,$BG47)) | M47: =IF(BZ47="","",CONCATENATE($BF47,$BG47)) | N47: =IF(CA47="","",CONCATENATE($BF47,$BG47)) | ... Z47: =IF(CM47="","",CONCATENATE($BF47,$BG47)) | AA47: =CONCATENATE(BJ47," (",BM47,IF(BO47="","",CONCATENATE(", ",BO47)),")") -> Gazdasági és versenyjog (210, web) | AB47: =IF(CN47="","",CONCATENATE($BF47,$BG47)) | AC47: =IF(CO47="","",CONCATENATE($BF47,$BG47)) | AD47: =IF(CP47="","",CONCATENATE($BF47,$BG47)) | AE47: =IF(CQ47="","",CONCATENATE($BF47,$BG47)) | AF47: =IF(CR47="","",CONCATENATE($BF47,$BG47)) | AG47: =IF(CS47="","",CONCATENATE($BF47,$BG47)) | AH47: =IF(CT47="","",CONCATENATE($BF47,$BG47)) | AI47: =IF(CU47="","",CONCATENATE($BF47,$BG47)) | ... BD47: =IF(DP47="","",CONCATENATE($BF47,$BG47)) | BE47: =CONCATENATE(BJ47," (",BN47,IF(BO47="","",CONCATENATE(", ",BO47)),")") -> Gazdasági és versenyjog (, web) | BF47: 905 | BG47: 3 | BH47: =VLOOKUP(BF47,segéd!$F$9:$G$41,2,FALSE) -> 46270 | BI47: =VLOOKUP(BG47,segéd!$F$1:$G$7,2,FALSE) -> 11.30-13.00 | BJ47: Gazdasági és versenyjog | BK47: Zalahegyi Zoltán | BL47: budapesti mesterképzés | BM47: 210 | BO47: web | BP47: https://teams.microsoft.com/meet/366381367125937?p=fOIJyBpYI9FJiygcqg | BQ47: =IF(BR47="",0,BR47)+IF(BS47="",0,BS47) -> 6 | BR47: =IF(BM47="","",IFERROR(VLOOKUP(BJ47,segéd!T:U,2,FALSE),"x")) -> 6 | BS47: =IF(BN47="","",IFERROR(VLOOKUP(BJ47,segéd!O:P,2,FALSE),"x")) | BW47: 8 | CD47: 5
A48: =CONCATENATE(BM48,BF48,BG48) -> 2019053 | B48: =CONCATENATE(BJ48," - ",BK48,IF(BO48="","",CONCATENATE(" (",BO48,")"))," ",BR48) -> Gazdasági matematika I. - Szabó Tünde (web) 119 | C48: =CONCATENATE(BN48,BF48,BG48) -> 9053 | D48: =CONCATENATE(BJ48," - ",BK48,IF(BO48="","",CONCATENATE(" (",BO48,")"))," ",BS48) -> Gazdasági matematika I. - Szabó Tünde (web) | E48: =CONCATENATE(BK48,BF48,BG48) -> Szabó Tünde9053 | F48: =CONCATENATE(BJ48," (",IF(OR(BM48="",BO48="Tb.-ről web"),"",CONCATENATE("Bp. ",BM48)),IF(OR(BN48="",BO48="Bp.-ről web"),"",CONCATENATE("Tb. ",BN48)),IF(BO48="","",CONCATENATE(", ",BO48)),")") -> Gazdasági matematika I. (Bp. 201, web) | G48: =IF(BT48="","",CONCATENATE($BF48,$BG48)) -> 9053 | H48: =IF(BU48="","",CONCATENATE($BF48,$BG48)) -> 9053 | I48: =IF(BV48="","",CONCATENATE($BF48,$BG48)) | J48: =IF(BW48="","",CONCATENATE($BF48,$BG48)) | K48: =IF(BX48="","",CONCATENATE($BF48,$BG48)) | L48: =IF(BY48="","",CONCATENATE($BF48,$BG48)) | M48: =IF(BZ48="","",CONCATENATE($BF48,$BG48)) | N48: =IF(CA48="","",CONCATENATE($BF48,$BG48)) | ... Z48: =IF(CM48="","",CONCATENATE($BF48,$BG48)) | AA48: =CONCATENATE(BJ48," (",BM48,IF(BO48="","",CONCATENATE(", ",BO48)),")") -> Gazdasági matematika I. (201, web) | AB48: =IF(CN48="","",CONCATENATE($BF48,$BG48)) | AC48: =IF(CO48="","",CONCATENATE($BF48,$BG48)) | AD48: =IF(CP48="","",CONCATENATE($BF48,$BG48)) | AE48: =IF(CQ48="","",CONCATENATE($BF48,$BG48)) | AF48: =IF(CR48="","",CONCATENATE($BF48,$BG48)) | AG48: =IF(CS48="","",CONCATENATE($BF48,$BG48)) | AH48: =IF(CT48="","",CONCATENATE($BF48,$BG48)) | AI48: =IF(CU48="","",CONCATENATE($BF48,$BG48)) | ... BD48: =IF(DP48="","",CONCATENATE($BF48,$BG48)) | BE48: =CONCATENATE(BJ48," (",BN48,IF(BO48="","",CONCATENATE(", ",BO48)),")") -> Gazdasági matematika I. (, web) | BF48: 905 | BG48: 3 | BH48: =VLOOKUP(BF48,segéd!$F$9:$G$41,2,FALSE) -> 46270 | BI48: =VLOOKUP(BG48,segéd!$F$1:$G$7,2,FALSE) -> 11.30-13.00 | BJ48: Gazdasági matematika I. | BK48: Szabó Tünde | BL48: budapesti alapképzés | BM48: 201 | BO48: web | BP48: https://teams.microsoft.com/meet/363361429620218?p=LVlh7I8oSxSNwsPLgs | BQ48: =IF(BR48="",0,BR48)+IF(BS48="",0,BS48) -> 119 | BR48: =IF(BM48="","",IFERROR(VLOOKUP(BJ48,segéd!T:U,2,FALSE),"x")) -> 119 | BS48: =IF(BN48="","",IFERROR(VLOOKUP(BJ48,segéd!O:P,2,FALSE),"x")) | BT48: 67 | BU48: 18
A49: =CONCATENATE(BM49,BF49,BG49) -> 2089053 | B49: =CONCATENATE(BJ49," - ",BK49,IF(BO49="","",CONCATENATE(" (",BO49,")"))," ",BR49) -> Gazdasági számítások - Piroska László (web) 11 | C49: =CONCATENATE(BN49,BF49,BG49) -> 9053 | D49: =CONCATENATE(BJ49," - ",BK49,IF(BO49="","",CONCATENATE(" (",BO49,")"))," ",BS49) -> Gazdasági számítások - Piroska László (web) | E49: =CONCATENATE(BK49,BF49,BG49) -> Piroska László9053 | F49: =CONCATENATE(BJ49," (",IF(OR(BM49="",BO49="Tb.-ről web"),"",CONCATENATE("Bp. ",BM49)),IF(OR(BN49="",BO49="Bp.-ről web"),"",CONCATENATE("Tb. ",BN49)),IF(BO49="","",CONCATENATE(", ",BO49)),")") -> Gazdasági számítások (Bp. 208, web) | G49: =IF(BT49="","",CONCATENATE($BF49,$BG49)) | H49: =IF(BU49="","",CONCATENATE($BF49,$BG49)) | I49: =IF(BV49="","",CONCATENATE($BF49,$BG49)) -> 9053 | J49: =IF(BW49="","",CONCATENATE($BF49,$BG49)) | K49: =IF(BX49="","",CONCATENATE($BF49,$BG49)) | L49: =IF(BY49="","",CONCATENATE($BF49,$BG49)) | M49: =IF(BZ49="","",CONCATENATE($BF49,$BG49)) | N49: =IF(CA49="","",CONCATENATE($BF49,$BG49)) | ... Z49: =IF(CM49="","",CONCATENATE($BF49,$BG49)) | AA49: =CONCATENATE(BJ49," (",BM49,IF(BO49="","",CONCATENATE(", ",BO49)),")") -> Gazdasági számítások (208, web) | AB49: =IF(CN49="","",CONCATENATE($BF49,$BG49)) | AC49: =IF(CO49="","",CONCATENATE($BF49,$BG49)) | AD49: =IF(CP49="","",CONCATENATE($BF49,$BG49)) | AE49: =IF(CQ49="","",CONCATENATE($BF49,$BG49)) | AF49: =IF(CR49="","",CONCATENATE($BF49,$BG49)) | AG49: =IF(CS49="","",CONCATENATE($BF49,$BG49)) | AH49: =IF(CT49="","",CONCATENATE($BF49,$BG49)) | AI49: =IF(CU49="","",CONCATENATE($BF49,$BG49)) | ... BD49: =IF(DP49="","",CONCATENATE($BF49,$BG49)) | BE49: =CONCATENATE(BJ49," (",BN49,IF(BO49="","",CONCATENATE(", ",BO49)),")") -> Gazdasági számítások (, web) | BF49: 905 | BG49: 3 | BH49: =VLOOKUP(BF49,segéd!$F$9:$G$41,2,FALSE) -> 46270 | BI49: =VLOOKUP(BG49,segéd!$F$1:$G$7,2,FALSE) -> 11.30-13.00 | BJ49: Gazdasági számítások | BK49: Piroska László | BL49: budapesti FOKSZ | BM49: 208 | BO49: web | BP49: https://teams.microsoft.com/meet/373707262827408?p=44YbJb36d2x85VUdpX | BQ49: =IF(BR49="",0,BR49)+IF(BS49="",0,BS49) -> 11 | BR49: =IF(BM49="","",IFERROR(VLOOKUP(BJ49,segéd!T:U,2,FALSE),"x")) -> 11 | BS49: =IF(BN49="","",IFERROR(VLOOKUP(BJ49,segéd!O:P,2,FALSE),"x")) | BV49: 9
A50: =CONCATENATE(BM50,BF50,BG50) -> 9053 | B50: =CONCATENATE(BJ50," - ",BK50,IF(BO50="","",CONCATENATE(" (",BO50,")"))," ",BR50) -> Hegesztéstechnológia - Palotai Péter (web) | C50: =CONCATENATE(BN50,BF50,BG50) -> 39053 | D50: =CONCATENATE(BJ50," - ",BK50,IF(BO50="","",CONCATENATE(" (",BO50,")"))," ",BS50) -> Hegesztéstechnológia - Palotai Péter (web) 6 | E50: =CONCATENATE(BK50,BF50,BG50) -> Palotai Péter9053 | F50: =CONCATENATE(BJ50," (",IF(OR(BM50="",BO50="Tb.-ről web"),"",CONCATENATE("Bp. ",BM50)),IF(OR(BN50="",BO50="Bp.-ről web"),"",CONCATENATE("Tb. ",BN50)),IF(BO50="","",CONCATENATE(", ",BO50)),")") -> Hegesztéstechnológia (Tb. 3, web) | G50: =IF(BT50="","",CONCATENATE($BF50,$BG50)) | H50: =IF(BU50="","",CONCATENATE($BF50,$BG50)) | I50: =IF(BV50="","",CONCATENATE($BF50,$BG50)) | J50: =IF(BW50="","",CONCATENATE($BF50,$BG50)) | K50: =IF(BX50="","",CONCATENATE($BF50,$BG50)) | L50: =IF(BY50="","",CONCATENATE($BF50,$BG50)) | M50: =IF(BZ50="","",CONCATENATE($BF50,$BG50)) | N50: =IF(CA50="","",CONCATENATE($BF50,$BG50)) | ... Z50: =IF(CM50="","",CONCATENATE($BF50,$BG50)) | AA50: =CONCATENATE(BJ50," (",BM50,IF(BO50="","",CONCATENATE(", ",BO50)),")") -> Hegesztéstechnológia (, web) | AB50: =IF(CN50="","",CONCATENATE($BF50,$BG50)) | AC50: =IF(CO50="","",CONCATENATE($BF50,$BG50)) | AD50: =IF(CP50="","",CONCATENATE($BF50,$BG50)) | AE50: =IF(CQ50="","",CONCATENATE($BF50,$BG50)) | AF50: =IF(CR50="","",CONCATENATE($BF50,$BG50)) | AG50: =IF(CS50="","",CONCATENATE($BF50,$BG50)) | AH50: =IF(CT50="","",CONCATENATE($BF50,$BG50)) | AI50: =IF(CU50="","",CONCATENATE($BF50,$BG50)) | ... BD50: =IF(DP50="","",CONCATENATE($BF50,$BG50)) | BE50: =CONCATENATE(BJ50," (",BN50,IF(BO50="","",CONCATENATE(", ",BO50)),")") -> Hegesztéstechnológia (3, web) | BF50: 905 | BG50: 3 | BH50: =VLOOKUP(BF50,segéd!$F$9:$G$41,2,FALSE) -> 46270 | BI50: =VLOOKUP(BG50,segéd!$F$1:$G$7,2,FALSE) -> 11.30-13.00 | BJ50: Hegesztéstechnológia | BK50: Palotai Péter | BL50: tatabányai alapképzés | BN50: 3 | BO50: web | BP50: https://teams.microsoft.com/meet/313381499077703?p=lWBVBdWfdNm4NI9gIR | BQ50: =IF(BR50="",0,BR50)+IF(BS50="",0,BS50) -> 6 | BR50: =IF(BM50="","",IFERROR(VLOOKUP(BJ50,segéd!T:U,2,FALSE),"x")) | BS50: =IF(BN50="","",IFERROR(VLOOKUP(BJ50,segéd!O:P,2,FALSE),"x")) -> 6 | DO50: 5
A51: =CONCATENATE(BM51,BF51,BG51) -> 9053 | B51: =CONCATENATE(BJ51," - ",BK51,IF(BO51="","",CONCATENATE(" (",BO51,")"))," ",BR51) -> Informatikai projektsz. (dupla terem) - Böcz Gábor (gépterem, web) | C51: =CONCATENATE(BN51,BF51,BG51) -> 6059053 | D51: =CONCATENATE(BJ51," - ",BK51,IF(BO51="","",CONCATENATE(" (",BO51,")"))," ",BS51) -> Informatikai projektsz. (dupla terem) - Böcz Gábor (gépterem, web) | E51: =CONCATENATE(BK51,BF51,BG51) -> Böcz Gábor9053 | F51: =CONCATENATE(BJ51," (",IF(OR(BM51="",BO51="Tb.-ről web"),"",CONCATENATE("Bp. ",BM51)),IF(OR(BN51="",BO51="Bp.-ről web"),"",CONCATENATE("Tb. ",BN51)),IF(BO51="","",CONCATENATE(", ",BO51)),")") -> Informatikai projektsz. (dupla terem) (Tb. 605, gépterem, web) | G51: =IF(BT51="","",CONCATENATE($BF51,$BG51)) | H51: =IF(BU51="","",CONCATENATE($BF51,$BG51)) | I51: =IF(BV51="","",CONCATENATE($BF51,$BG51)) | J51: =IF(BW51="","",CONCATENATE($BF51,$BG51)) | K51: =IF(BX51="","",CONCATENATE($BF51,$BG51)) | L51: =IF(BY51="","",CONCATENATE($BF51,$BG51)) | M51: =IF(BZ51="","",CONCATENATE($BF51,$BG51)) | N51: =IF(CA51="","",CONCATENATE($BF51,$BG51)) | ... Z51: =IF(CM51="","",CONCATENATE($BF51,$BG51)) | AA51: =CONCATENATE(BJ51," (",BM51,IF(BO51="","",CONCATENATE(", ",BO51)),")") -> Informatikai projektsz. (dupla terem) (, gépterem, web) | AB51: =IF(CN51="","",CONCATENATE($BF51,$BG51)) | AC51: =IF(CO51="","",CONCATENATE($BF51,$BG51)) | AD51: =IF(CP51="","",CONCATENATE($BF51,$BG51)) | AE51: =IF(CQ51="","",CONCATENATE($BF51,$BG51)) | AF51: =IF(CR51="","",CONCATENATE($BF51,$BG51)) | AG51: =IF(CS51="","",CONCATENATE($BF51,$BG51)) | AH51: =IF(CT51="","",CONCATENATE($BF51,$BG51)) | AI51: =IF(CU51="","",CONCATENATE($BF51,$BG51)) | ... BD51: =IF(DP51="","",CONCATENATE($BF51,$BG51)) | BE51: =CONCATENATE(BJ51," (",BN51,IF(BO51="","",CONCATENATE(", ",BO51)),")") -> Informatikai projektsz. (dupla terem) (605, gépterem, web) | BF51: 905 | BG51: 3 | BH51: =VLOOKUP(BF51,segéd!$F$9:$G$41,2,FALSE) -> 46270 | BI51: =VLOOKUP(BG51,segéd!$F$1:$G$7,2,FALSE) -> 11.30-13.00 | BJ51: Informatikai projektsz. (dupla terem) | BK51: Böcz Gábor | BL51: tatabányai alapképzés | BN51: 605 | BO51: gépterem, web | BP51: https://teams.microsoft.com/meet/397269406424083?p=2Ktma8VPbFQRCMfR40 | BQ51: =IF(BR51="",0,BR51)+IF(BS51="",0,BS51) -> 0 | BR51: =IF(BM51="","",IFERROR(VLOOKUP(BJ51,segéd!T:U,2,FALSE),"x"))
