Workbook
Name Oktató: [1]segéd!$A$1:$A$57
Name Oktató: segéd!$A$1:$A$77
Name oktatók: segéd!$A$1:$A$77
Name tbterem: [1]segéd!$D$1:$D$21
Name tbterem: segéd!$D$1:$D$22
Name Terem: [1]segéd!$C$1:$C$12
Name Terem: segéd!$C$1:$C$11
Name xy: [2]segéd!$A$1:$A$70

Sheet segéd
A1: Aschenbrenner Jószef | C1: 201 | D1: 1 | F1: 1 | G1: 8.00-9.30 | I1: szeptember 4-5. | J1: 904 | K1: 905 | N1: TED-OO-003LE0 | O1: Félév eleji tájékoztató - általános | P1: =VLOOKUP(N1,kurzusok!E:G,3,FALSE) -> 198 | S1: BED-OO-003LE0 | T1: Félév eleji tájékoztató - általános | U1: =VLOOKUP(S1,kurzusok!E:G,3,FALSE) -> 146
A2: Antalík Imrich | C2: 202 | D2: 3 | F2: 2 | G2: 9.45-11.15 | I2: szeptember 11-12. | J2: 911 | K2: 912 | N2: TB-8-K001LE0 | O2: Tanulás, kreativitás és MI | P2: =VLOOKUP(N2,kurzusok!E:G,3,FALSE)+P3 -> 216 | S2: BB-8-K001LE0 | T2: Tanulás, kreativitás és MI | U2: =VLOOKUP(S2,kurzusok!E:G,3,FALSE)+U3 -> 158
A3: Baksa Dániel | C3: 203 | D3: 4 | F3: 3 | G3: 11.30-13.00 | I3: szeptember 18-19. | J3: 918 | K3: 919 | N3: TM-8-S101LE0 | O3: Tanulás, kreativitás és MI | P3: =VLOOKUP(N3,kurzusok!E:G,3,FALSE) -> 8 | S3: BM-8-S101LE0 | T3: Tanulás, kreativitás és MI | U3: =VLOOKUP(S3,kurzusok!E:G,3,FALSE) -> 47
A4: Balog Mónika | C4: 205 | D4: 6 | F4: 4 | G4: 13.30-15.00 | I4: szeptember 25-26. | J4: 925 | K4: 926 | N4: TB-0-A102LE0 | O4: Gazdasági matematika I. | P4: =VLOOKUP(N4,kurzusok!E:G,3,FALSE) -> 69 | S4: BB-0-A102LE0 | T4: Gazdasági matematika I. | U4: =VLOOKUP(S4,kurzusok!E:G,3,FALSE) -> 119
A5: Barna Zsolt | C5: 206 | D5: 212 | F5: 5 | G5: 15.15-16.45 | I5: október 2-3. | J5: 1002 | K5: 1003 | N5: TB-0-A102LS1 | O5: Gazdasági matematika I. | P5: =VLOOKUP(N5,kurzusok!E:G,3,FALSE) -> 69 | S5: BB-0-A102LS1 | T5: Gazdasági matematika I., 1. csoport | U5: =VLOOKUP(S5,kurzusok!E:G,3,FALSE) -> 20
A6: Barócsi Zoltán | C6: 207 | D6: 213 | F6: 6 | G6: 17.00-18.30 | I6: október 9-10. | J6: 1009 | K6: 1010 | N6: TB-0-A107LS1 | O6: Informatika, 1. csoport | P6: =VLOOKUP(N6,kurzusok!E:G,3,FALSE)+P8 -> 49 | S6: BB-0-A102LS2 | T6: Gazdasági matematika I., 2. csoport | U6: =VLOOKUP(S6,kurzusok!E:G,3,FALSE) -> 2
A7: Barta Krisztina | C7: 208 | D7: 214 | F7: 7 | G7: 18.45-20.15 | I7: október 16-17. | J7: 1016 | K7: 1017 | N7: TB-0-A107LS2 | O7: Informatika, 2. csoport | P7: =VLOOKUP(N7,kurzusok!E:G,3,FALSE)+P9 -> 29 | S7: BB-0-A107LS1 | T7: Informatika, 1. csoport | U7: =VLOOKUP(S7,kurzusok!E:G,3,FALSE) -> 6
A8: Belyó Pál | C8: 209 | D8: 215 | I8: október 23-24. | J8: 1023 | K8: 1024 | N8: TF-0-A102LS1 | O8: Informatika alapjai | P8: =VLOOKUP(N8,kurzusok!E:G,3,FALSE) -> 12 | S8: BB-0-A107LS2 | T8: Informatika, 2. csoport | U8: =VLOOKUP(S8,kurzusok!E:G,3,FALSE)+U9 -> 12
A9: Borbás Lajos | C9: 210 | D9: 216 | F9: 904 | G9: 46269 | I9: október 30-31. | J9: 1030 | K9: 1031 | N9: TF-0-A102LS2 | O9: Informatika alapjai | P9: =VLOOKUP(N9,kurzusok!E:G,3,FALSE) -> 7 | S9: BF-0-A102LS2 | T9: Informatika alapjai | U9: =VLOOKUP(S9,kurzusok!E:G,3,FALSE) -> 11
A10: Böcz Gábor | C10: 214 | D10: 217 | F10: 905 | G10: 46270 | I10: november 6-7. | J10: 1106 | K10: 1107 | N10: TB-0-A108LE0 | O10: Közgazdaságtan I. | P10: =VLOOKUP(N10,kurzusok!E:G,3,FALSE) -> 165 | S10: BB-0-A108LE0 | T10: Közgazdaságtan I. | U10: =VLOOKUP(S10,kurzusok!E:G,3,FALSE) -> 120
A11: Böröczki Ágoston | C11: 217 | D11: 401 | F11: 911 | G11: 46276 | I11: november 13-14. | J11: 1113 | K11: 1114 | N11: TB-0-A108LS1 | O11: Közgazdaságtan I. | P11: =VLOOKUP(N11,kurzusok!E:G,3,FALSE) -> 165 | S11: BB-0-A108LS1 | T11: Közgazdaságtan I. | U11: =VLOOKUP(S11,kurzusok!E:G,3,FALSE) -> 120
A12: Brunner Zsuzsanna | D12: 402 | F12: 912 | G12: 46277 | I12: november 20-21. | J12: 1120 | K12: 1121 | N12: TB-0-A101LE0 | O12: Általános és gazdasági jog | P12: =VLOOKUP(N12,kurzusok!E:G,3,FALSE)+P13 -> 171 | S12: BB-0-A101LE0 | T12: Általános és gazdasági jog | U12: =VLOOKUP(S12,kurzusok!E:G,3,FALSE) -> 92
A13: Buda Lorina | D13: 403 | F13: 918 | G13: 46283 | I13: november 27-28. | J13: 1127 | K13: 1128 | N13: TB-0-M509LE0 | O13: Jogi ismeretek | P13: =VLOOKUP(N13,kurzusok!E:G,3,FALSE) -> 117 | S13: BB-0-A207LE0 | T13: Marketing | U13: =VLOOKUP(S13,kurzusok!E:G,3,FALSE) -> 115
A14: Csrenkovics Antónia | D14: 404 | F14: 919 | G14: 46284 | I14: december 4-5. | J14: 1204 | K14: 1205 | N14: TB-0-A207LE0 | O14: Marketing | P14: =VLOOKUP(N14,kurzusok!E:G,3,FALSE) -> 81 | S14: BB-0-A207LS1 | T14: Marketing | U14: =VLOOKUP(S14,kurzusok!E:G,3,FALSE) -> 115
A15: Dobos Ádám | D15: 408 | F15: 925 | G15: 46290 | I15: december 11-12. | J15: 1211 | K15: 1212 | N15: TB-0-A207LS1 | O15: Marketing | P15: =VLOOKUP(N15,kurzusok!E:G,3,FALSE) -> 81 | S15: BB-0-A110LE0 | T15: Vállalati gazdaságtan | U15: =VLOOKUP(S15,kurzusok!E:G,3,FALSE) -> 113
A16: Duga Zsófia | D16: 501 | F16: 926 | G16: 46291 | N16: TB-0-A110LE0 | O16: Vállalati gazdaságtan | P16: =VLOOKUP(N16,kurzusok!E:G,3,FALSE) -> 206 | S16: BB-0-A110LS1 | T16: Vállalati gazdaságtan | U16: =VLOOKUP(S16,kurzusok!E:G,3,FALSE) -> 113
A17: Gaál Béla | D17: 601 | F17: 1002 | G17: 46297 | N17: TB-0-A110LS1 | O17: Vállalati gazdaságtan | P17: =VLOOKUP(N17,kurzusok!E:G,3,FALSE) -> 206 | S17: BB-1-A103LS0 | T17: Angol gazdasági szaknyelv I. | U17: =VLOOKUP(S17,kurzusok!E:G,3,FALSE) -> 0
A18: Gellért Judit Márta | D18: 603 | F18: 1003 | G18: 46298 | N18: TB-1-A103LS0 | O18: Angol gazdasági szaknyelv I. | P18: =VLOOKUP(N18,kurzusok!E:G,3,FALSE) -> 0 | S18: BB-1-A103LS1 | T18: Angol gazdasági szaknyelv I., 1. csoport | U18: =VLOOKUP(S18,kurzusok!E:G,3,FALSE) -> 21
A19: Gondos Borbála | D19: 604 | F19: 1009 | G19: 46304 | N19: TB-1-A103LS1 | O19: Angol gazdasági szaknyelv I., 1. csoport | P19: =VLOOKUP(N19,kurzusok!E:G,3,FALSE) -> 0 | S19: BB-1-A103LS2 | T19: Angol gazdasági szaknyelv I., 2. csoport | U19: =VLOOKUP(S19,kurzusok!E:G,3,FALSE) -> 19
A20: Gyalogos Norbert | D20: 605 | F20: 1010 | G20: 46305 | N20: TB-1-A103LS2 | O20: Angol gazdasági szaknyelv I., 2. csoport | P20: =VLOOKUP(N20,kurzusok!E:G,3,FALSE) -> 22 | S20: BB-4-C105LS1 angol | T20: Nyelvi szintfelmérő - előkészítő | U20: =VLOOKUP(S20,kurzusok!E:G,3,FALSE) -> 13
A21: Janóczki Mihály | D21: A/Nae. | F21: 1016 | G21: 46311 | N21: TB-4-C105LS1 angol | O21: Nyelvi szintfelmérő - előkészítő | P21: =VLOOKUP(N21,kurzusok!E:G,3,FALSE) -> 13 | S21: BB-1-A104LS1 | T21: Német gazdasági szaknyelv I. | U21: =VLOOKUP(S21,kurzusok!E:G,3,FALSE) -> #N/A
A22: Juhász Krisztina | D22: Passzív | F22: 1017 | G22: 46312 | N22: TB-1-A104LS1 | O22: Német gazdasági szaknyelv I. | P22: =VLOOKUP(N22,kurzusok!E:G,3,FALSE) -> 6 | S22: BB-0-C201LE0 | T22: Utazástörténet | U22: =VLOOKUP(S22,kurzusok!E:G,3,FALSE) -> 14
A23: Kasza József | F23: 1023 | G23: 46318 | N23: TB-1-A202LS1 | O23: Angol gazdasági szaknyelv II. | P23: =VLOOKUP(N23,kurzusok!E:G,3,FALSE) -> 10 | S23: BB-1-A202LS1 | T23: Angol gazdasági szaknyelv II. | U23: =VLOOKUP(S23,kurzusok!E:G,3,FALSE) -> 20
A24: Kárpáti-Daróczi Judit | F24: 1024 | G24: 46319 | N24: TB-0-A206LE0 | O24: Közgazdaságtan II. | P24: =VLOOKUP(N24,kurzusok!E:G,3,FALSE) -> 20 | S24: BB-0-A206LE0 | T24: Közgazdaságtan II. | U24: =VLOOKUP(S24,kurzusok!E:G,3,FALSE) -> 3
A25: Keszthelyi Csaba | F25: 1030 | G25: 46325 | N25: TB-0-A206LS1 | O25: Közgazdaságtan II. | P25: =VLOOKUP(N25,kurzusok!E:G,3,FALSE) -> 20 | S25: BB-0-A206LS1 | T25: Közgazdaságtan II. | U25: =VLOOKUP(S25,kurzusok!E:G,3,FALSE) -> 3
A26: Korcz Miklós | F26: 1031 | G26: 46326 | N26: TB-0-A303LE0 | O26: Statisztika II. | P26: =VLOOKUP(N26,kurzusok!E:G,3,FALSE) -> 41 | S26: BB-0-A303LE0 | T26: Statisztika II. | U26: =VLOOKUP(S26,kurzusok!E:G,3,FALSE) -> 45
A27: Kovács Gergely | F27: 1106 | G27: 46332 | N27: TB-0-A303LS1 | O27: Statisztika II. | P27: =VLOOKUP(N27,kurzusok!E:G,3,FALSE) -> 41 | S27: BB-0-A303LS1 | T27: Statisztika II. | U27: =VLOOKUP(S27,kurzusok!E:G,3,FALSE) -> 45
A28: Köbli Ádám | F28: 1107 | G28: 46333 | N28: TB-0-A302LE0 | O28: Nemzetközi gazd. ism. | P28: =VLOOKUP(N28,kurzusok!E:G,3,FALSE) -> 44 | S28: BB-0-A302LE0 | T28: Nemzetközi gazd. ism. | U28: =VLOOKUP(S28,kurzusok!E:G,3,FALSE) -> 45
A29: Krompaszky Gábor | F29: 1113 | G29: 46339 | N29: TB-0-A304LE0 | O29: Számvitel I. | P29: =VLOOKUP(N29,kurzusok!E:G,3,FALSE) -> 35 | S29: BB-0-A304LE0 | T29: Számvitel I. | U29: =VLOOKUP(S29,kurzusok!E:G,3,FALSE) -> 44
A30: Krupánszki Kornél | F30: 1114 | G30: 46340 | N30: TB-0-A304LS1 | O30: Számvitel I. | P30: =VLOOKUP(N30,kurzusok!E:G,3,FALSE) -> 35 | S30: BB-0-A304LS1 | T30: Számvitel I. | U30: =VLOOKUP(S30,kurzusok!E:G,3,FALSE) -> 44
A31: Krupánszkyné Léhárt Marianna | F31: 1120 | G31: 46346 | N31: TB-0-A301LE0 | O31: Logisztika | P31: =VLOOKUP(N31,kurzusok!E:G,3,FALSE) -> 63 | S31: BB-0-A301LE0 | T31: Logisztika | U31: =VLOOKUP(S31,kurzusok!E:G,3,FALSE) -> 56
A32: Labossa Ildikó | F32: 1121 | G32: 46347 | N32: TB-0-A301LS1 | O32: Logisztika | P32: =VLOOKUP(N32,kurzusok!E:G,3,FALSE) -> 63 | S32: BB-0-A301LS1 | T32: Logisztika | U32: =VLOOKUP(S32,kurzusok!E:G,3,FALSE) -> 56
A33: Lakatos Péter | F33: 1127 | G33: 46353 | N33: TB-5-B301LE0 | O33: EU tanulmányok | P33: =VLOOKUP(N33,kurzusok!E:G,3,FALSE) -> 48 | S33: BB-5-B301LE0 | T33: EU tanulmányok | U33: =VLOOKUP(S33,kurzusok!E:G,3,FALSE) -> 48
A34: Láng László | F34: 1128 | G34: 46354 | N34: TB-0-C303LE0 | O34: Pénzügyi piacok | P34: =VLOOKUP(N34,kurzusok!E:G,3,FALSE) -> 20 | S34: BB-0-C303LE0 | T34: Pénzügyi piacok | U34: =VLOOKUP(S34,kurzusok!E:G,3,FALSE) -> 16
... A41: Molnár László | F41: 1027 | G41: 46322 | N41: TB-0-C526LE0 | O41: Stratégiai és üzleti tervezés | P41: =VLOOKUP(N41,kurzusok!E:G,3,FALSE) -> 36 | S41: BB-2-B304LE0 | T41: Szociológia | U41: =VLOOKUP(S41,kurzusok!E:G,3,FALSE) -> 22
A42: Molnárné Dőry Zsófia | N42: TB-0-C526LS1 | O42: Stratégiai és üzleti tervezés | P42: =VLOOKUP(N42,kurzusok!E:G,3,FALSE) -> 36 | S42: BB-2-B302LE0 | T42: Gazdaságpszichológia | U42: =VLOOKUP(S42,kurzusok!E:G,3,FALSE) -> 38
A43: Nagy Judit | N43: TB-0-C529LE0 | O43: Számvitel III. | P43: =VLOOKUP(N43,kurzusok!E:G,3,FALSE) -> 24 | S43: BB-0-C526LE0 | T43: Stratégiai és üzleti tervezés | U43: =VLOOKUP(S43,kurzusok!E:G,3,FALSE) -> 41
A44: Nagy Mónika | N44: TB-0-C529LS1 | O44: Számvitel III. | P44: =VLOOKUP(N44,kurzusok!E:G,3,FALSE) -> 24 | S44: BB-0-C526LS1 | T44: Stratégiai és üzleti tervezés | U44: =VLOOKUP(S44,kurzusok!E:G,3,FALSE) -> 41
A45: Nagyné Csóti Beáta | N45: TB-5-C523LE0 | O45: Projektmenedzsment | P45: =VLOOKUP(N45,kurzusok!E:G,3,FALSE)+P47 -> 119 | S45: BB-0-C529LE0 | T45: Számvitel III. | U45: =VLOOKUP(S45,kurzusok!E:G,3,FALSE) -> 24
A46: Nemes Ágnes | N46: TB-5-C523LS1 | O46: Projektmenedzsment | P46: =VLOOKUP(N46,kurzusok!E:G,3,FALSE) -> 41 | S46: BB-0-C529LS1 | T46: Számvitel III. | U46: =VLOOKUP(S46,kurzusok!E:G,3,FALSE) -> 24
...

Sheet kurzusok
A1: Tárgykód | B1: Tárgynév | C1: Félév | D1: Oktatók | E1: Kurzuskód | F1: Kurzustípus | G1: Létszám | H1: Maximális létszám
A2: SZ-M-4-C307T | B2: A content marketing eszköztára | C2: 2026/27/1 | D2: Dr. Deés Szilvia | E2: SZ-M-4-C307LE0 | F2: Elmélet | G2: 6 | H2: 30
A3: SZ-M-4-C307T | B3: A content marketing eszköztára | C3: 2026/27/1 | D3: Dr. Deés Szilvia | E3: SZ-M-4-C307LS1 | F3: Gyakorlat | G3: 6 | H3: 30
A4: B-3-C549T | B4: A kontrolling és a vezetői számvitel információtechnológiája | C4: 2026/27/1 | D4: Dr. Barna Zsolt | E4: TB-3-C549LE0 | F4: Elmélet | G4: 8 | H4: 100
A5: B-3-C549T | B5: A kontrolling és a vezetői számvitel információtechnológiája | C5: 2026/27/1 | D5: Dr. Barna Zsolt | E5: TB-3-C549LS1 | F5: Gyakorlat | G5: 8 | H5: 100
A6: B-3-C549T | B6: A kontrolling és a vezetői számvitel információtechnológiája | C6: 2026/27/1 | D6: Dr. Barna Zsolt | E6: BB-3-C549LE0 | F6: Elmélet | G6: 7 | H6: 100
A7: B-3-C549T | B7: A kontrolling és a vezetői számvitel információtechnológiája | C7: 2026/27/1 | D7: Dr. Barna Zsolt | E7: BB-3-C549LS1 | F7: Gyakorlat | G7: 7 | H7: 100
A8: K-M-0-C301T | B8: A nemzetközi kereskedelem és piac aktualitásai és trendjei | C8: 2026/27/1 | D8: Dr. Miklós Ilona | E8: BK-M-0-C301NE0 | F8: Elmélet | G8: 8 | H8: 40
A9: K-M-0-C301T | B9: A nemzetközi kereskedelem és piac aktualitásai és trendjei | C9: 2026/27/1 | D9: Dr. Miklós Ilona | E9: BK-M-0-C301NS1 | F9: Gyakorlat | G9: 8 | H9: 40
A10: M-0-C301T | B10: A nemzetközi kereskedelem és piac aktualitásai és trendjei | C10: 2026/27/1 | D10: Buda Lorina | E10: BM-0-C301LE0 | F10: Elmélet | G10: 3 | H10: 100
A11: M-0-C301T | B11: A nemzetközi kereskedelem és piac aktualitásai és trendjei | C11: 2026/27/1 | D11: Buda Lorina | E11: BM-0-C301LS1 | F11: Gyakorlat | G11: 3 | H11: 100
A12: SZ-M-0-C301T | B12: A nemzetközi kereskedelem és piac aktualitásai és trendjei | C12: 2026/27/1 | D12: Dr. Vigh László | E12: SZ-M-0-C301LE0 | F12: Elmélet | G12: 6 | H12: 30
A13: SZ-M-0-C301T | B13: A nemzetközi kereskedelem és piac aktualitásai és trendjei | C13: 2026/27/1 | D13: Dr. Vigh László | E13: SZ-M-0-C301LS1 | F13: Gyakorlat | G13: 6 | H13: 30
... A36: B-4-C201T | B36: Általános nyelv III. | C36: 2026/27/1 | D36: Dr. Keszthelyi Csaba László | E36: BB-4-C201NS1 | F36: Gyakorlat | G36: 3 | H36: 15
A37: B-0-M301T | B37: Analóg és digitális elektronika | C37: 2026/27/1 | E37: TB-0-M301NE0 | F37: Elmélet | G37: 14 | H37: 20
A38: B-0-M301T | B38: Analóg és digitális elektronika | C38: 2026/27/1 | E38: TB-0-M301NS1 | F38: Gyakorlat | G38: 14 | H38: 20
A39: B-0-M301T | B39: Analóg és digitális elektronika | C39: 2026/27/1 | E39: TB-0-M301NL1 | F39: Labor | G39: 14 | H39: 20
A40: B-0-M301T | B40: Analóg és digitális elektronika | C40: 2026/27/1 | D40: Böcz Gábor | E40: TB-0-M301LE0 | F40: Elmélet | G40: 103 | H40: 200
A41: B-0-M301T | B41: Analóg és digitális elektronika | C41: 2026/27/1 | D41: Böcz Gábor | E41: TB-0-M301LS1 | F41: Gyakorlat | G41: 103 | H41: 200
A42: B-1-A103T | B42: Angol gazdasági szaknyelv I. | C42: 2026/27/1 | D42: Balog Mónika | E42: TB-1-A103NS1 | F42: Gyakorlat | G42: 16 | H42: 18
A43: B-1-A103T | B43: Angol gazdasági szaknyelv I. | C43: 2026/27/1 | D43: Balog Mónika | E43: TB-1-A103NS2 | F43: Gyakorlat | G43: 0 | H43: 0
A44: B-1-A103T | B44: Angol gazdasági szaknyelv I. | C44: 2026/27/1 | D44: Gellért Judit Márta | E44: BB-1-A103NS1 | F44: Gyakorlat | G44: 24 | H44: 25
A45: B-1-A103T | B45: Angol gazdasági szaknyelv I. | C45: 2026/27/1 | D45: Gellért Judit Márta | E45: BB-1-A103NS2 | F45: Gyakorlat | G45: 21 | H45: 25
A46: B-1-A103T | B46: Angol gazdasági szaknyelv I. | C46: 2026/27/1 | D46: Gellért Judit Márta | E46: BB-1-A103NS3 | F46: Gyakorlat | G46: 21 | H46: 25
A47: B-1-A103T | B47: Angol gazdasági szaknyelv I. | C47: 2026/27/1 | D47: Gellért Judit Márta | E47: BB-1-A103NS4 | F47: Gyakorlat | G47: 24 | H47: 25
A48: B-1-A103T | B48: Angol gazdasági szaknyelv I. | C48: 2026/27/1 | D48: Gellért Judit Márta | E48: BB-1-A103NS5 | F48: Gyakorlat | G48: 16 | H48: 25
A49: K-B-1-A103T | B49: Angol gazdasági szaknyelv I. | C49: 2026/27/1 | D49: Balog Mónika | E49: BK-B-1-A103NS1 | F49: Gyakorlat | G49: 1 | H49: 20
A50: B-1-A103T | B50: Angol gazdasági szaknyelv I. | C50: 2026/27/1 | E50: TB-1-A103LS0 | F50: Elmélet | G50: 0 | H50: 100
A51: B-1-A103T | B51: Angol gazdasági szaknyelv I. | C51: 2026/27/1 | D51: Nagy Mónika | E51: TB-1-A103LS1 | F51: Gyakorlat | G51: 0 | H51: 100
A52: B-1-A103T | B52: Angol gazdasági szaknyelv I. | C52: 2026/27/1 | D52: Krupánszkyné Léhárt Marianna | E52: TB-1-A103LS2 | F52: Gyakorlat | G52: 22 | H52: 100
A53: B-1-A103T | B53: Angol gazdasági szaknyelv I. | C53: 2026/27/1 | E53: BB-1-A103LS0 | F53: Gyakorlat | G53: 0 | H53: 100
A54: B-1-A103T | B54: Angol gazdasági szaknyelv I. | C54: 2026/27/1 | D54: Steiner Imre | E54: BB-1-A103LS1 | F54: Gyakorlat | G54: 21 | H54: 100
A55: B-1-A103T | B55: Angol gazdasági szaknyelv I. | C55: 2026/27/1 | D55: Steiner Imre | E55: BB-1-A103LS2 | F55: Gyakorlat | G55: 19 | H55: 100
A56: SZ-B-1-A103T | B56: Angol gazdasági szaknyelv I. | C56: 2026/27/1 | D56: Márton Mária | E56: SZ-B-1-A103LS1 angol | F56: Szeminárium | G56: 22 | H56: 50
A57: B-1-A103T | B57: Angol gazdasági szaknyelv I. | C57: 2026/27/1 | D57: Steiner Imre | E57: BB-1-A103NS6 | F57: Gyakorlat | G57: 16 | H57: 25
A58: B-1-A103T | B58: Angol gazdasági szaknyelv I. | C58: 2026/27/1 | D58: Steiner Imre | E58: BB-1-A103NS7 | F58: Gyakorlat | G58: 12 | H58: 25
A59: B-1-A103T | B59: Angol gazdasági szaknyelv I. | C59: 2026/27/1 | D59: Steiner Imre | E59: BB-1-A103LS3 | F59: Gyakorlat | G59: 17 | H59: 100
A60: B-1-A103T | B60: Angol gazdasági szaknyelv I. | C60: 2026/27/1 | D60: Steiner Imre | E60: TB-1-A103LS3 | F60: Gyakorlat | G60: 4 | H60: 100
A61: B-1-A202T | B61: Angol gazdasági szaknyelv II. | C61: 2026/27/1 | D61: Balog Mónika | E61: TB-1-A202LS1 | F61: Gyakorlat | G61: 10 | H61: 100
A62: B-1-A202T | B62: Angol gazdasági szaknyelv II. | C62: 2026/27/1 | D62: Balog Mónika | E62: BB-1-A202LS1 | F62: Gyakorlat | G62: 20 | H62: 100
...

Sheet Bp. terem
A1: 207 | D1: szombat
B2: 905 | C2: 912 | D2: 919 | E2: 926 | F2: 1003 | G2: 1010 | H2: 1017 | I2: 1024 | J2: 1031 | K2: 1107 | L2: 1114 | M2: 1121 | N2: 1128 | O2: 1205 | P2: 1212
A3: sáv | B3: szept. 5. | C3: szept. 12. | D3: szept. 19. | E3: szept. 26. | F3: október 3. | G3: október 10. | H3: október 17. | I3: október 24. | J3: október 31. | K3: nov. 7. | L3: nov. 14. | M3: nov. 21. | N3: nov. 28. | O3: dec. 5. | P3: dec. 12.
A4: 8.00 - 9.30 | B4: =IFERROR(VLOOKUP(CONCATENATE($A$1,B$2,$Q4),Alap!$A:$B,2,FALSE),"") -> Turisztikai szoftverek - Krompaszky Gábor (gépterem, web) 3 | C4: =IFERROR(VLOOKUP(CONCATENATE($A$1,C$2,$Q4),Alap!$A:$B,2,FALSE),"") -> Kutatásmódszertan - Tóth Zsuzsanna (gépterem, web) 32 | D4: =IFERROR(VLOOKUP(CONCATENATE($A$1,D$2,$Q4),Alap!$A:$B,2,FALSE),"") -> Business Intelligence - Dobos Ádám (Bp.-ről web) 12 | E4: =IFERROR(VLOOKUP(CONCATENATE($A$1,E$2,$Q4),Alap!$A:$B,2,FALSE),"") -> Informatika, 2. csoport - Dobos Ádám (gépterem, web) 12 | F4: =IFERROR(VLOOKUP(CONCATENATE($A$1,F$2,$Q4),Alap!$A:$B,2,FALSE),"") -> Modern ipari IT megoldások - Sas Zoltán (gépterem, web) 14 | G4: =IFERROR(VLOOKUP(CONCATENATE($A$1,G$2,$Q4),Alap!$A:$B,2,FALSE),"") -> Informatika, 1. csoport - Dobos Ádám (gépterem, web) 6 | H4: =IFERROR(VLOOKUP(CONCATENATE($A$1,H$2,$Q4),Alap!$A:$B,2,FALSE),"") -> Business Intelligence - Dobos Ádám (Tb.-ről web) 12 | I4: =IFERROR(VLOOKUP(CONCATENATE($A$1,I$2,$Q4),Alap!$A:$B,2,FALSE),"") | ... P4: =IFERROR(VLOOKUP(CONCATENATE($A$1,P$2,$Q4),Alap!$A:$B,2,FALSE),"") -> Információs rendszerek fejl. az ell. - Szabó László (gépterem, web) 13 | Q4: 1
A5: 9.45 - 11.15 | B5: =IFERROR(VLOOKUP(CONCATENATE($A$1,B$2,$Q5),Alap!$A:$B,2,FALSE),"") -> Turisztikai szoftverek - Krompaszky Gábor (gépterem, web) 3 | C5: =IFERROR(VLOOKUP(CONCATENATE($A$1,C$2,$Q5),Alap!$A:$B,2,FALSE),"") -> Kutatásmódszertan - Tóth Zsuzsanna (gépterem, web) 32 | D5: =IFERROR(VLOOKUP(CONCATENATE($A$1,D$2,$Q5),Alap!$A:$B,2,FALSE),"") -> Business Intelligence - Dobos Ádám (Bp.-ről web) 12 | E5: =IFERROR(VLOOKUP(CONCATENATE($A$1,E$2,$Q5),Alap!$A:$B,2,FALSE),"") -> Informatika, 2. csoport - Dobos Ádám (gépterem, web) 12 | F5: =IFERROR(VLOOKUP(CONCATENATE($A$1,F$2,$Q5),Alap!$A:$B,2,FALSE),"") -> Modern ipari IT megoldások - Sas Zoltán (gépterem, web) 14 | G5: =IFERROR(VLOOKUP(CONCATENATE($A$1,G$2,$Q5),Alap!$A:$B,2,FALSE),"") -> Informatika, 1. csoport - Dobos Ádám (gépterem, web) 6 | H5: =IFERROR(VLOOKUP(CONCATENATE($A$1,H$2,$Q5),Alap!$A:$B,2,FALSE),"") -> Business Intelligence - Dobos Ádám (Tb.-ről web) 12 | I5: =IFERROR(VLOOKUP(CONCATENATE($A$1,I$2,$Q5),Alap!$A:$B,2,FALSE),"") | ... P5: =IFERROR(VLOOKUP(CONCATENATE($A$1,P$2,$Q5),Alap!$A:$B,2,FALSE),"") -> Információs rendszerek fejl. az ell. - Szabó László (gépterem, web) 13 | Q5: 2
A6: 11.30 - 13.00 | B6: =IFERROR(VLOOKUP(CONCATENATE($A$1,B$2,$Q6),Alap!$A:$B,2,FALSE),"") -> Szálloda fejlesztés és üzem. - Krompaszky Gábor (web) 4 | C6: =IFERROR(VLOOKUP(CONCATENATE($A$1,C$2,$Q6),Alap!$A:$B,2,FALSE),"") | D6: =IFERROR(VLOOKUP(CONCATENATE($A$1,D$2,$Q6),Alap!$A:$B,2,FALSE),"") | E6: =IFERROR(VLOOKUP(CONCATENATE($A$1,E$2,$Q6),Alap!$A:$B,2,FALSE),"") -> Informatika, 1. csoport - Dobos Ádám (gépterem, web) 6 | F6: =IFERROR(VLOOKUP(CONCATENATE($A$1,F$2,$Q6),Alap!$A:$B,2,FALSE),"") -> Ökológiai gazdaságtan - Barócsi Zoltán (web) 7 | G6: =IFERROR(VLOOKUP(CONCATENATE($A$1,G$2,$Q6),Alap!$A:$B,2,FALSE),"") -> Informatika, 2. csoport - Dobos Ádám (gépterem, web) 12 | H6: =IFERROR(VLOOKUP(CONCATENATE($A$1,H$2,$Q6),Alap!$A:$B,2,FALSE),"") -> Turisztikai szoftverek - Krompaszky Gábor (gépterem, web) 3 | I6: =IFERROR(VLOOKUP(CONCATENATE($A$1,I$2,$Q6),Alap!$A:$B,2,FALSE),"") | ... P6: =IFERROR(VLOOKUP(CONCATENATE($A$1,P$2,$Q6),Alap!$A:$B,2,FALSE),"") -> Információs rendszerek fejl. az ell. - Szabó László (gépterem, web) 13 | Q6: 3
A7: 13.30 - 15.00 | B7: =IFERROR(VLOOKUP(CONCATENATE($A$1,B$2,$Q7),Alap!$A:$B,2,FALSE),"") | C7: =IFERROR(VLOOKUP(CONCATENATE($A$1,C$2,$Q7),Alap!$A:$B,2,FALSE),"") | D7: =IFERROR(VLOOKUP(CONCATENATE($A$1,D$2,$Q7),Alap!$A:$B,2,FALSE),"") -> Döntéselmélet és módszertan - Kovács Gergely (gépterem, web) 8 | E7: =IFERROR(VLOOKUP(CONCATENATE($A$1,E$2,$Q7),Alap!$A:$B,2,FALSE),"") -> Informatika, 1. csoport - Dobos Ádám (gépterem, web) 6 | F7: =IFERROR(VLOOKUP(CONCATENATE($A$1,F$2,$Q7),Alap!$A:$B,2,FALSE),"") | G7: =IFERROR(VLOOKUP(CONCATENATE($A$1,G$2,$Q7),Alap!$A:$B,2,FALSE),"") -> Informatika, 2. csoport - Dobos Ádám (gépterem, web) 12 | H7: =IFERROR(VLOOKUP(CONCATENATE($A$1,H$2,$Q7),Alap!$A:$B,2,FALSE),"") -> Turisztikai szoftverek - Krompaszky Gábor (gépterem, web) 3 | I7: =IFERROR(VLOOKUP(CONCATENATE($A$1,I$2,$Q7),Alap!$A:$B,2,FALSE),"") | ... P7: =IFERROR(VLOOKUP(CONCATENATE($A$1,P$2,$Q7),Alap!$A:$B,2,FALSE),"") | Q7: 4
A8: 15.15 - 16.45 | B8: =IFERROR(VLOOKUP(CONCATENATE($A$1,B$2,$Q8),Alap!$A:$B,2,FALSE),"") | C8: =IFERROR(VLOOKUP(CONCATENATE($A$1,C$2,$Q8),Alap!$A:$B,2,FALSE),"") | D8: =IFERROR(VLOOKUP(CONCATENATE($A$1,D$2,$Q8),Alap!$A:$B,2,FALSE),"") -> Döntéselmélet és módszertan - Kovács Gergely (gépterem, web) 8 | E8: =IFERROR(VLOOKUP(CONCATENATE($A$1,E$2,$Q8),Alap!$A:$B,2,FALSE),"") | F8: =IFERROR(VLOOKUP(CONCATENATE($A$1,F$2,$Q8),Alap!$A:$B,2,FALSE),"") | G8: =IFERROR(VLOOKUP(CONCATENATE($A$1,G$2,$Q8),Alap!$A:$B,2,FALSE),"") | H8: =IFERROR(VLOOKUP(CONCATENATE($A$1,H$2,$Q8),Alap!$A:$B,2,FALSE),"") -> Döntéselmélet és módszertan - Kovács Gergely (gépterem, web) 8 | I8: =IFERROR(VLOOKUP(CONCATENATE($A$1,I$2,$Q8),Alap!$A:$B,2,FALSE),"") | ... P8: =IFERROR(VLOOKUP(CONCATENATE($A$1,P$2,$Q8),Alap!$A:$B,2,FALSE),"") | Q8: 5
A9: 17.00 - 18.30 | B9: =IFERROR(VLOOKUP(CONCATENATE($A$1,B$2,$Q9),Alap!$A:$B,2,FALSE),"") | C9: =IFERROR(VLOOKUP(CONCATENATE($A$1,C$2,$Q9),Alap!$A:$B,2,FALSE),"") | D9: =IFERROR(VLOOKUP(CONCATENATE($A$1,D$2,$Q9),Alap!$A:$B,2,FALSE),"") | E9: =IFERROR(VLOOKUP(CONCATENATE($A$1,E$2,$Q9),Alap!$A:$B,2,FALSE),"") | F9: =IFERROR(VLOOKUP(CONCATENATE($A$1,F$2,$Q9),Alap!$A:$B,2,FALSE),"") | G9: =IFERROR(VLOOKUP(CONCATENATE($A$1,G$2,$Q9),Alap!$A:$B,2,FALSE),"") | H9: =IFERROR(VLOOKUP(CONCATENATE($A$1,H$2,$Q9),Alap!$A:$B,2,FALSE),"") | I9: =IFERROR(VLOOKUP(CONCATENATE($A$1,I$2,$Q9),Alap!$A:$B,2,FALSE),"") | ... P9: =IFERROR(VLOOKUP(CONCATENATE($A$1,P$2,$Q9),Alap!$A:$B,2,FALSE),"") | Q9: 6
B10: =B2-1 -> 904 | C10: =C2-1 -> 911 | D10: =D2-1 -> 918 | E10: =E2-1 -> 925 | F10: =F2-1 -> 1002 | G10: =G2-1 -> 1009 | H10: =H2-1 -> 1016 | I10: =I2-1 -> 1023 | ... P10: =P2-1 -> 1211
A11: péntek
A12: sáv | B12: szept. 4. | C12: szept. 11. | D12: szept. 18. | E12: szept. 25. | F12: október 2. | G12: október 9. | H12: október 16. | I12: október 23. | J12: október 30. | K12: nov. 6. | L12: nov. 13. | M12: nov. 20. | N12: nov. 27. | O12: dec. 4. | P12: dec. 11.
A13: 13.30 - 15.00 | B13: =IFERROR(VLOOKUP(CONCATENATE($A$1,B$10,$Q13),Alap!$A:$B,2,FALSE),"") | C13: =IFERROR(VLOOKUP(CONCATENATE($A$1,C$10,$Q13),Alap!$A:$B,2,FALSE),"") | D13: =IFERROR(VLOOKUP(CONCATENATE($A$1,D$10,$Q13),Alap!$A:$B,2,FALSE),"") | E13: =IFERROR(VLOOKUP(CONCATENATE($A$1,E$10,$Q13),Alap!$A:$B,2,FALSE),"") | F13: =IFERROR(VLOOKUP(CONCATENATE($A$1,F$10,$Q13),Alap!$A:$B,2,FALSE),"") | G13: =IFERROR(VLOOKUP(CONCATENATE($A$1,G$10,$Q13),Alap!$A:$B,2,FALSE),"") | H13: =IFERROR(VLOOKUP(CONCATENATE($A$1,H$10,$Q13),Alap!$A:$B,2,FALSE),"") | I13: =IFERROR(VLOOKUP(CONCATENATE($A$1,I$10,$Q13),Alap!$A:$B,2,FALSE),"") | ... P13: =IFERROR(VLOOKUP(CONCATENATE($A$1,P$10,$Q13),Alap!$A:$B,2,FALSE),"") | Q13: 4
A14: 15.15 - 16.45 | B14: =IFERROR(VLOOKUP(CONCATENATE($A$1,B$10,$Q14),Alap!$A:$B,2,FALSE),"") | C14: =IFERROR(VLOOKUP(CONCATENATE($A$1,C$10,$Q14),Alap!$A:$B,2,FALSE),"") | D14: =IFERROR(VLOOKUP(CONCATENATE($A$1,D$10,$Q14),Alap!$A:$B,2,FALSE),"") | E14: =IFERROR(VLOOKUP(CONCATENATE($A$1,E$10,$Q14),Alap!$A:$B,2,FALSE),"") | F14: =IFERROR(VLOOKUP(CONCATENATE($A$1,F$10,$Q14),Alap!$A:$B,2,FALSE),"") | G14: =IFERROR(VLOOKUP(CONCATENATE($A$1,G$10,$Q14),Alap!$A:$B,2,FALSE),"") | H14: =IFERROR(VLOOKUP(CONCATENATE($A$1,H$10,$Q14),Alap!$A:$B,2,FALSE),"") | I14: =IFERROR(VLOOKUP(CONCATENATE($A$1,I$10,$Q14),Alap!$A:$B,2,FALSE),"") | ... P14: =IFERROR(VLOOKUP(CONCATENATE($A$1,P$10,$Q14),Alap!$A:$B,2,FALSE),"") | Q14: 5
A15: 17.00 - 18.30 | B15: =IFERROR(VLOOKUP(CONCATENATE($A$1,B$10,$Q15),Alap!$A:$B,2,FALSE),"") | C15: =IFERROR(VLOOKUP(CONCATENATE($A$1,C$10,$Q15),Alap!$A:$B,2,FALSE),"") | D15: =IFERROR(VLOOKUP(CONCATENATE($A$1,D$10,$Q15),Alap!$A:$B,2,FALSE),"") | E15: =IFERROR(VLOOKUP(CONCATENATE($A$1,E$10,$Q15),Alap!$A:$B,2,FALSE),"") | F15: =IFERROR(VLOOKUP(CONCATENATE($A$1,F$10,$Q15),Alap!$A:$B,2,FALSE),"") | G15: =IFERROR(VLOOKUP(CONCATENATE($A$1,G$10,$Q15),Alap!$A:$B,2,FALSE),"") | H15: =IFERROR(VLOOKUP(CONCATENATE($A$1,H$10,$Q15),Alap!$A:$B,2,FALSE),"") | I15: =IFERROR(VLOOKUP(CONCATENATE($A$1,I$10,$Q15),Alap!$A:$B,2,FALSE),"") | ... P15: =IFERROR(VLOOKUP(CONCATENATE($A$1,P$10,$Q15),Alap!$A:$B,2,FALSE),"") | Q15: 6
A16: 18.45 - 20.15 | B16: =IFERROR(VLOOKUP(CONCATENATE($A$1,B$10,$Q16),Alap!$A:$B,2,FALSE),"") | C16: =IFERROR(VLOOKUP(CONCATENATE($A$1,C$10,$Q16),Alap!$A:$B,2,FALSE),"") | D16: =IFERROR(VLOOKUP(CONCATENATE($A$1,D$10,$Q16),Alap!$A:$B,2,FALSE),"") | E16: =IFERROR(VLOOKUP(CONCATENATE($A$1,E$10,$Q16),Alap!$A:$B,2,FALSE),"") | F16: =IFERROR(VLOOKUP(CONCATENATE($A$1,F$10,$Q16),Alap!$A:$B,2,FALSE),"") | G16: =IFERROR(VLOOKUP(CONCATENATE($A$1,G$10,$Q16),Alap!$A:$B,2,FALSE),"") | H16: =IFERROR(VLOOKUP(CONCATENATE($A$1,H$10,$Q16),Alap!$A:$B,2,FALSE),"") | I16: =IFERROR(VLOOKUP(CONCATENATE($A$1,I$10,$Q16),Alap!$A:$B,2,FALSE),"") | ... P16: =IFERROR(VLOOKUP(CONCATENATE($A$1,P$10,$Q16),Alap!$A:$B,2,FALSE),"") | Q16: 7

Sheet Tb. terem
A1: 1 | D1: szombat
B2: 905 | C2: 912 | D2: 919 | E2: 926 | F2: 1003 | G2: 1010 | H2: 1017 | I2: 1024 | J2: 1031 | K2: 1107 | L2: 1114 | M2: 1121 | N2: 1128 | O2: 1205 | P2: 1212
A3: sáv | B3: szept. 5. | C3: szept. 12. | D3: szept. 19. | E3: szept. 26. | F3: október 3. | G3: október 10. | H3: október 17. | I3: október 24. | J3: október 31. | K3: nov. 7. | L3: nov. 14. | M3: nov. 21. | N3: nov. 28. | O3: dec. 5. | P3: dec. 12.
A4: 8.00 - 9.30 | B4: =IFERROR(VLOOKUP(CONCATENATE($A$1,B$2,$Q4),Alap!$C:$D,2,FALSE),"") | C4: =IFERROR(VLOOKUP(CONCATENATE($A$1,C$2,$Q4),Alap!$C:$D,2,FALSE),"") | D4: =IFERROR(VLOOKUP(CONCATENATE($A$1,D$2,$Q4),Alap!$C:$D,2,FALSE),"") | E4: =IFERROR(VLOOKUP(CONCATENATE($A$1,E$2,$Q4),Alap!$C:$D,2,FALSE),"") | F4: =IFERROR(VLOOKUP(CONCATENATE($A$1,F$2,$Q4),Alap!$C:$D,2,FALSE),"") -> Hidraulika, pneumatika alapjai - Baksa Dániel 12 | G4: =IFERROR(VLOOKUP(CONCATENATE($A$1,G$2,$Q4),Alap!$C:$D,2,FALSE),"") | H4: =IFERROR(VLOOKUP(CONCATENATE($A$1,H$2,$Q4),Alap!$C:$D,2,FALSE),"") | I4: =IFERROR(VLOOKUP(CONCATENATE($A$1,I$2,$Q4),Alap!$C:$D,2,FALSE),"") | ... P4: =IFERROR(VLOOKUP(CONCATENATE($A$1,P$2,$Q4),Alap!$C:$D,2,FALSE),"") | Q4: 1
A5: 9.45 - 11.15 | B5: =IFERROR(VLOOKUP(CONCATENATE($A$1,B$2,$Q5),Alap!$C:$D,2,FALSE),"") | C5: =IFERROR(VLOOKUP(CONCATENATE($A$1,C$2,$Q5),Alap!$C:$D,2,FALSE),"") | D5: =IFERROR(VLOOKUP(CONCATENATE($A$1,D$2,$Q5),Alap!$C:$D,2,FALSE),"") | E5: =IFERROR(VLOOKUP(CONCATENATE($A$1,E$2,$Q5),Alap!$C:$D,2,FALSE),"") | F5: =IFERROR(VLOOKUP(CONCATENATE($A$1,F$2,$Q5),Alap!$C:$D,2,FALSE),"") -> Hidraulika, pneumatika alapjai - Baksa Dániel 12 | G5: =IFERROR(VLOOKUP(CONCATENATE($A$1,G$2,$Q5),Alap!$C:$D,2,FALSE),"") | H5: =IFERROR(VLOOKUP(CONCATENATE($A$1,H$2,$Q5),Alap!$C:$D,2,FALSE),"") | I5: =IFERROR(VLOOKUP(CONCATENATE($A$1,I$2,$Q5),Alap!$C:$D,2,FALSE),"") | ... P5: =IFERROR(VLOOKUP(CONCATENATE($A$1,P$2,$Q5),Alap!$C:$D,2,FALSE),"") | Q5: 2
A6: 11.30 - 13.00 | B6: =IFERROR(VLOOKUP(CONCATENATE($A$1,B$2,$Q6),Alap!$C:$D,2,FALSE),"") | C6: =IFERROR(VLOOKUP(CONCATENATE($A$1,C$2,$Q6),Alap!$C:$D,2,FALSE),"") | D6: =IFERROR(VLOOKUP(CONCATENATE($A$1,D$2,$Q6),Alap!$C:$D,2,FALSE),"") | E6: =IFERROR(VLOOKUP(CONCATENATE($A$1,E$2,$Q6),Alap!$C:$D,2,FALSE),"") | F6: =IFERROR(VLOOKUP(CONCATENATE($A$1,F$2,$Q6),Alap!$C:$D,2,FALSE),"") | G6: =IFERROR(VLOOKUP(CONCATENATE($A$1,G$2,$Q6),Alap!$C:$D,2,FALSE),"") | H6: =IFERROR(VLOOKUP(CONCATENATE($A$1,H$2,$Q6),Alap!$C:$D,2,FALSE),"") | I6: =IFERROR(VLOOKUP(CONCATENATE($A$1,I$2,$Q6),Alap!$C:$D,2,FALSE),"") | ... P6: =IFERROR(VLOOKUP(CONCATENATE($A$1,P$2,$Q6),Alap!$C:$D,2,FALSE),"") | Q6: 3
A7: 13.30 - 15.00 | B7: =IFERROR(VLOOKUP(CONCATENATE($A$1,B$2,$Q7),Alap!$C:$D,2,FALSE),"") | C7: =IFERROR(VLOOKUP(CONCATENATE($A$1,C$2,$Q7),Alap!$C:$D,2,FALSE),"") | D7: =IFERROR(VLOOKUP(CONCATENATE($A$1,D$2,$Q7),Alap!$C:$D,2,FALSE),"") | E7: =IFERROR(VLOOKUP(CONCATENATE($A$1,E$2,$Q7),Alap!$C:$D,2,FALSE),"") | F7: =IFERROR(VLOOKUP(CONCATENATE($A$1,F$2,$Q7),Alap!$C:$D,2,FALSE),"") | G7: =IFERROR(VLOOKUP(CONCATENATE($A$1,G$2,$Q7),Alap!$C:$D,2,FALSE),"") -> Hidraulika, pneumatika alapjai - Baksa Dániel 12 | H7: =IFERROR(VLOOKUP(CONCATENATE($A$1,H$2,$Q7),Alap!$C:$D,2,FALSE),"") | I7: =IFERROR(VLOOKUP(CONCATENATE($A$1,I$2,$Q7),Alap!$C:$D,2,FALSE),"") | ... P7: =IFERROR(VLOOKUP(CONCATENATE($A$1,P$2,$Q7),Alap!$C:$D,2,FALSE),"") | Q7: 4
A8: 15.15 - 16.45 | B8: =IFERROR(VLOOKUP(CONCATENATE($A$1,B$2,$Q8),Alap!$C:$D,2,FALSE),"") | C8: =IFERROR(VLOOKUP(CONCATENATE($A$1,C$2,$Q8),Alap!$C:$D,2,FALSE),"") | D8: =IFERROR(VLOOKUP(CONCATENATE($A$1,D$2,$Q8),Alap!$C:$D,2,FALSE),"") | E8: =IFERROR(VLOOKUP(CONCATENATE($A$1,E$2,$Q8),Alap!$C:$D,2,FALSE),"") | F8: =IFERROR(VLOOKUP(CONCATENATE($A$1,F$2,$Q8),Alap!$C:$D,2,FALSE),"") | G8: =IFERROR(VLOOKUP(CONCATENATE($A$1,G$2,$Q8),Alap!$C:$D,2,FALSE),"") | H8: =IFERROR(VLOOKUP(CONCATENATE($A$1,H$2,$Q8),Alap!$C:$D,2,FALSE),"") | I8: =IFERROR(VLOOKUP(CONCATENATE($A$1,I$2,$Q8),Alap!$C:$D,2,FALSE),"") | ... P8: =IFERROR(VLOOKUP(CONCATENATE($A$1,P$2,$Q8),Alap!$C:$D,2,FALSE),"") | Q8: 5
A9: 17.00 - 18.30 | B9: =IFERROR(VLOOKUP(CONCATENATE($A$1,B$2,$Q9),Alap!$C:$D,2,FALSE),"") | C9: =IFERROR(VLOOKUP(CONCATENATE($A$1,C$2,$Q9),Alap!$C:$D,2,FALSE),"") | D9: =IFERROR(VLOOKUP(CONCATENATE($A$1,D$2,$Q9),Alap!$C:$D,2,FALSE),"") | E9: =IFERROR(VLOOKUP(CONCATENATE($A$1,E$2,$Q9),Alap!$C:$D,2,FALSE),"") | F9: =IFERROR(VLOOKUP(CONCATENATE($A$1,F$2,$Q9),Alap!$C:$D,2,FALSE),"") | G9: =IFERROR(VLOOKUP(CONCATENATE($A$1,G$2,$Q9),Alap!$C:$D,2,FALSE),"") | H9: =IFERROR(VLOOKUP(CONCATENATE($A$1,H$2,$Q9),Alap!$C:$D,2,FALSE),"") | I9: =IFERROR(VLOOKUP(CONCATENATE($A$1,I$2,$Q9),Alap!$C:$D,2,FALSE),"") | ... P9: =IFERROR(VLOOKUP(CONCATENATE($A$1,P$2,$Q9),Alap!$C:$D,2,FALSE),"") | Q9: 6
B10: =B2-1 -> 904 | C10: =C2-1 -> 911 | D10: =D2-1 -> 918 | E10: =E2-1 -> 925 | F10: =F2-1 -> 1002 | G10: =G2-1 -> 1009 | H10: =H2-1 -> 1016 | I10: =I2-1 -> 1023 | ... P10: =P2-1 -> 1211
A11: péntek
A12: sáv | B12: szept. 4. | C12: szept. 11. | D12: szept. 18. | E12: szept. 25. | F12: október 2. | G12: október 9. | H12: október 16. | I12: október 23. | J12: október 30. | K12: nov. 6. | L12: nov. 13. | M12: nov. 20. | N12: nov. 27. | O12: dec. 4. | P12: dec. 11.
A13: 13.30 - 15.00 | B13: =IFERROR(VLOOKUP(CONCATENATE($A$1,B$10,$Q13),Alap!$C:$D,2,FALSE),"") | C13: =IFERROR(VLOOKUP(CONCATENATE($A$1,C$10,$Q13),Alap!$C:$D,2,FALSE),"") | D13: =IFERROR(VLOOKUP(CONCATENATE($A$1,D$10,$Q13),Alap!$C:$D,2,FALSE),"") | E13: =IFERROR(VLOOKUP(CONCATENATE($A$1,E$10,$Q13),Alap!$C:$D,2,FALSE),"") | F13: =IFERROR(VLOOKUP(CONCATENATE($A$1,F$10,$Q13),Alap!$C:$D,2,FALSE),"") | G13: =IFERROR(VLOOKUP(CONCATENATE($A$1,G$10,$Q13),Alap!$C:$D,2,FALSE),"") | H13: =IFERROR(VLOOKUP(CONCATENATE($A$1,H$10,$Q13),Alap!$C:$D,2,FALSE),"") | I13: =IFERROR(VLOOKUP(CONCATENATE($A$1,I$10,$Q13),Alap!$C:$D,2,FALSE),"") | ... P13: =IFERROR(VLOOKUP(CONCATENATE($A$1,P$10,$Q13),Alap!$C:$D,2,FALSE),"") | Q13: 4
A14: 15.15 - 16.45 | B14: =IFERROR(VLOOKUP(CONCATENATE($A$1,B$10,$Q14),Alap!$C:$D,2,FALSE),"") | C14: =IFERROR(VLOOKUP(CONCATENATE($A$1,C$10,$Q14),Alap!$C:$D,2,FALSE),"") | D14: =IFERROR(VLOOKUP(CONCATENATE($A$1,D$10,$Q14),Alap!$C:$D,2,FALSE),"") | E14: =IFERROR(VLOOKUP(CONCATENATE($A$1,E$10,$Q14),Alap!$C:$D,2,FALSE),"") | F14: =IFERROR(VLOOKUP(CONCATENATE($A$1,F$10,$Q14),Alap!$C:$D,2,FALSE),"") | G14: =IFERROR(VLOOKUP(CONCATENATE($A$1,G$10,$Q14),Alap!$C:$D,2,FALSE),"") | H14: =IFERROR(VLOOKUP(CONCATENATE($A$1,H$10,$Q14),Alap!$C:$D,2,FALSE),"") | I14: =IFERROR(VLOOKUP(CONCATENATE($A$1,I$10,$Q14),Alap!$C:$D,2,FALSE),"") | ... P14: =IFERROR(VLOOKUP(CONCATENATE($A$1,P$10,$Q14),Alap!$C:$D,2,FALSE),"") | Q14: 5
A15: 17.00 - 18.30 | B15: =IFERROR(VLOOKUP(CONCATENATE($A$1,B$10,$Q15),Alap!$C:$D,2,FALSE),"") | C15: =IFERROR(VLOOKUP(CONCATENATE($A$1,C$10,$Q15),Alap!$C:$D,2,FALSE),"") | D15: =IFERROR(VLOOKUP(CONCATENATE($A$1,D$10,$Q15),Alap!$C:$D,2,FALSE),"") | E15: =IFERROR(VLOOKUP(CONCATENATE($A$1,E$10,$Q15),Alap!$C:$D,2,FALSE),"") | F15: =IFERROR(VLOOKUP(CONCATENATE($A$1,F$10,$Q15),Alap!$C:$D,2,FALSE),"") | G15: =IFERROR(VLOOKUP(CONCATENATE($A$1,G$10,$Q15),Alap!$C:$D,2,FALSE),"") | H15: =IFERROR(VLOOKUP(CONCATENATE($A$1,H$10,$Q15),Alap!$C:$D,2,FALSE),"") | I15: =IFERROR(VLOOKUP(CONCATENATE($A$1,I$10,$Q15),Alap!$C:$D,2,FALSE),"") | ... P15: =IFERROR(VLOOKUP(CONCATENATE($A$1,P$10,$Q15),Alap!$C:$D,2,FALSE),"") | Q15: 6
A16: 18.45 - 20.15 | B16: =IFERROR(VLOOKUP(CONCATENATE($A$1,B$10,$Q16),Alap!$C:$D,2,FALSE),"") | C16: =IFERROR(VLOOKUP(CONCATENATE($A$1,C$10,$Q16),Alap!$C:$D,2,FALSE),"") | D16: =IFERROR(VLOOKUP(CONCATENATE($A$1,D$10,$Q16),Alap!$C:$D,2,FALSE),"") | E16: =IFERROR(VLOOKUP(CONCATENATE($A$1,E$10,$Q16),Alap!$C:$D,2,FALSE),"") | F16: =IFERROR(VLOOKUP(CONCATENATE($A$1,F$10,$Q16),Alap!$C:$D,2,FALSE),"") | G16: =IFERROR(VLOOKUP(CONCATENATE($A$1,G$10,$Q16),Alap!$C:$D,2,FALSE),"") | H16: =IFERROR(VLOOKUP(CONCATENATE($A$1,H$10,$Q16),Alap!$C:$D,2,FALSE),"") | I16: =IFERROR(VLOOKUP(CONCATENATE($A$1,I$10,$Q16),Alap!$C:$D,2,FALSE),"") | ... P16: =IFERROR(VLOOKUP(CONCATENATE($A$1,P$10,$Q16),Alap!$C:$D,2,FALSE),"") | Q16: 7

Sheet Bp.
A1: szeptember 18-19. | D1: szombat
A2: sáv | B2: 201 | C2: 202 | D2: 203 | E2: 205 | F2: 206 | G2: 207 | H2: 208 | I2: 209 | J2: 210 | K2: 214 | L2: 217 | M2: 463
A3: 8.00 - 9.30 | B3: =IFERROR(VLOOKUP(CONCATENATE(B$10,VLOOKUP($A$1,segéd!$I$1:$K$15,3,FALSE),$N3),Alap!$A:$B,2,FALSE),"") -> Gazdasági matematika I. - Szabó Tünde (web) 119 | C3: =IFERROR(VLOOKUP(CONCATENATE(C$10,VLOOKUP($A$1,segéd!$I$1:$K$15,3,FALSE),$N3),Alap!$A:$B,2,FALSE),"") | D3: =IFERROR(VLOOKUP(CONCATENATE(D$10,VLOOKUP($A$1,segéd!$I$1:$K$15,3,FALSE),$N3),Alap!$A:$B,2,FALSE),"") -> Értékalapú vezetés - Barna Zsolt (Tb.-ről web) 7 | E3: =IFERROR(VLOOKUP(CONCATENATE(E$10,VLOOKUP($A$1,segéd!$I$1:$K$15,3,FALSE),$N3),Alap!$A:$B,2,FALSE),"") -> Közgazdaságtan - Barócsi Zoltán (Bp.-ről web) 11 | F3: =IFERROR(VLOOKUP(CONCATENATE(F$10,VLOOKUP($A$1,segéd!$I$1:$K$15,3,FALSE),$N3),Alap!$A:$B,2,FALSE),"") -> Szállítmányozás, fuvarozás - Barta Krisztina (Bp.-ről web) 6 | G3: =IFERROR(VLOOKUP(CONCATENATE(G$10,VLOOKUP($A$1,segéd!$I$1:$K$15,3,FALSE),$N3),Alap!$A:$B,2,FALSE),"") -> Business Intelligence - Dobos Ádám (Bp.-ről web) 12 | H3: =IFERROR(VLOOKUP(CONCATENATE(H$10,VLOOKUP($A$1,segéd!$I$1:$K$15,3,FALSE),$N3),Alap!$A:$B,2,FALSE),"") -> Nemzetközi gazd. ism. - Juhász Krisztina (web) 45 | I3: =IFERROR(VLOOKUP(CONCATENATE(I$10,VLOOKUP($A$1,segéd!$I$1:$K$15,3,FALSE),$N3),Alap!$A:$B,2,FALSE),"") -> Modern közg. és piacelm. - Sárkány Péter (web) 31 | ... M3: =IFERROR(VLOOKUP(CONCATENATE(M$10,VLOOKUP($A$1,segéd!$I$1:$K$15,3,FALSE),$N3),Alap!$A:$B,2,FALSE),"") | N3: 1
A4: 9.45 - 11.15 | B4: =IFERROR(VLOOKUP(CONCATENATE(B$10,VLOOKUP($A$1,segéd!$I$1:$K$15,3,FALSE),$N4),Alap!$A:$B,2,FALSE),"") -> Gazdasági matematika I. - Szabó Tünde (web) 119 | C4: =IFERROR(VLOOKUP(CONCATENATE(C$10,VLOOKUP($A$1,segéd!$I$1:$K$15,3,FALSE),$N4),Alap!$A:$B,2,FALSE),"") -> Számviteli alapok - Péter Sára (web) 6 | D4: =IFERROR(VLOOKUP(CONCATENATE(D$10,VLOOKUP($A$1,segéd!$I$1:$K$15,3,FALSE),$N4),Alap!$A:$B,2,FALSE),"") -> Értékalapú vezetés - Barna Zsolt (Tb.-ről web) 7 | E4: =IFERROR(VLOOKUP(CONCATENATE(E$10,VLOOKUP($A$1,segéd!$I$1:$K$15,3,FALSE),$N4),Alap!$A:$B,2,FALSE),"") -> Közgazdaságtan - Barócsi Zoltán (Bp.-ről web) 11 | F4: =IFERROR(VLOOKUP(CONCATENATE(F$10,VLOOKUP($A$1,segéd!$I$1:$K$15,3,FALSE),$N4),Alap!$A:$B,2,FALSE),"") -> Szállítmányozás, fuvarozás - Barta Krisztina (Bp.-ről web) 6 | G4: =IFERROR(VLOOKUP(CONCATENATE(G$10,VLOOKUP($A$1,segéd!$I$1:$K$15,3,FALSE),$N4),Alap!$A:$B,2,FALSE),"") -> Business Intelligence - Dobos Ádám (Bp.-ről web) 12 | H4: =IFERROR(VLOOKUP(CONCATENATE(H$10,VLOOKUP($A$1,segéd!$I$1:$K$15,3,FALSE),$N4),Alap!$A:$B,2,FALSE),"") -> Nemzetközi gazd. ism. - Juhász Krisztina (web) 45 | I4: =IFERROR(VLOOKUP(CONCATENATE(I$10,VLOOKUP($A$1,segéd!$I$1:$K$15,3,FALSE),$N4),Alap!$A:$B,2,FALSE),"") -> Modern közg. és piacelm. - Sárkány Péter (web) 31 | ... M4: =IFERROR(VLOOKUP(CONCATENATE(M$10,VLOOKUP($A$1,segéd!$I$1:$K$15,3,FALSE),$N4),Alap!$A:$B,2,FALSE),"") | N4: 2
A5: 11.30 - 13.00 | B5: =IFERROR(VLOOKUP(CONCATENATE(B$10,VLOOKUP($A$1,segéd!$I$1:$K$15,3,FALSE),$N5),Alap!$A:$B,2,FALSE),"") -> Vállalati gazdaságtan - Kárpáti-Daróczi Judit (web) 113 | C5: =IFERROR(VLOOKUP(CONCATENATE(C$10,VLOOKUP($A$1,segéd!$I$1:$K$15,3,FALSE),$N5),Alap!$A:$B,2,FALSE),"") -> Számviteli alapok - Péter Sára (web) 6 | D5: =IFERROR(VLOOKUP(CONCATENATE(D$10,VLOOKUP($A$1,segéd!$I$1:$K$15,3,FALSE),$N5),Alap!$A:$B,2,FALSE),"") | E5: =IFERROR(VLOOKUP(CONCATENATE(E$10,VLOOKUP($A$1,segéd!$I$1:$K$15,3,FALSE),$N5),Alap!$A:$B,2,FALSE),"") -> Gazdasági és versenyjog - Zalahegyi Zoltán (web) 6 | F5: =IFERROR(VLOOKUP(CONCATENATE(F$10,VLOOKUP($A$1,segéd!$I$1:$K$15,3,FALSE),$N5),Alap!$A:$B,2,FALSE),"") | G5: =IFERROR(VLOOKUP(CONCATENATE(G$10,VLOOKUP($A$1,segéd!$I$1:$K$15,3,FALSE),$N5),Alap!$A:$B,2,FALSE),"") | H5: =IFERROR(VLOOKUP(CONCATENATE(H$10,VLOOKUP($A$1,segéd!$I$1:$K$15,3,FALSE),$N5),Alap!$A:$B,2,FALSE),"") -> Nemzetközi gazd. ism. - Juhász Krisztina (web) 45 | I5: =IFERROR(VLOOKUP(CONCATENATE(I$10,VLOOKUP($A$1,segéd!$I$1:$K$15,3,FALSE),$N5),Alap!$A:$B,2,FALSE),"") -> Viselkedéskultúra és protokoll (szv.) - Gondos Borbála (Bp.-ről web) 22 | ... M5: =IFERROR(VLOOKUP(CONCATENATE(M$10,VLOOKUP($A$1,segéd!$I$1:$K$15,3,FALSE),$N5),Alap!$A:$B,2,FALSE),"") | N5: 3
A6: 13.30 - 15.00 | B6: =IFERROR(VLOOKUP(CONCATENATE(B$10,VLOOKUP($A$1,segéd!$I$1:$K$15,3,FALSE),$N6),Alap!$A:$B,2,FALSE),"") -> Vállalati gazdaságtan - Kárpáti-Daróczi Judit (web) 113 | C6: =IFERROR(VLOOKUP(CONCATENATE(C$10,VLOOKUP($A$1,segéd!$I$1:$K$15,3,FALSE),$N6),Alap!$A:$B,2,FALSE),"") -> Ellátási lánc menedzsment - Póka Viktor (web) 8 | D6: =IFERROR(VLOOKUP(CONCATENATE(D$10,VLOOKUP($A$1,segéd!$I$1:$K$15,3,FALSE),$N6),Alap!$A:$B,2,FALSE),"") | E6: =IFERROR(VLOOKUP(CONCATENATE(E$10,VLOOKUP($A$1,segéd!$I$1:$K$15,3,FALSE),$N6),Alap!$A:$B,2,FALSE),"") | F6: =IFERROR(VLOOKUP(CONCATENATE(F$10,VLOOKUP($A$1,segéd!$I$1:$K$15,3,FALSE),$N6),Alap!$A:$B,2,FALSE),"") | G6: =IFERROR(VLOOKUP(CONCATENATE(G$10,VLOOKUP($A$1,segéd!$I$1:$K$15,3,FALSE),$N6),Alap!$A:$B,2,FALSE),"") -> Döntéselmélet és módszertan - Kovács Gergely (gépterem, web) 8 | H6: =IFERROR(VLOOKUP(CONCATENATE(H$10,VLOOKUP($A$1,segéd!$I$1:$K$15,3,FALSE),$N6),Alap!$A:$B,2,FALSE),"") -> Számvitel I. - Péter Sára (web) 44 | I6: =IFERROR(VLOOKUP(CONCATENATE(I$10,VLOOKUP($A$1,segéd!$I$1:$K$15,3,FALSE),$N6),Alap!$A:$B,2,FALSE),"") -> Viselkedéskultúra és protokoll (szv.) - Gondos Borbála (Bp.-ről web) 22 | ... M6: =IFERROR(VLOOKUP(CONCATENATE(M$10,VLOOKUP($A$1,segéd!$I$1:$K$15,3,FALSE),$N6),Alap!$A:$B,2,FALSE),"") | N6: 4
A7: 15.15 - 16.45 | B7: =IFERROR(VLOOKUP(CONCATENATE(B$10,VLOOKUP($A$1,segéd!$I$1:$K$15,3,FALSE),$N7),Alap!$A:$B,2,FALSE),"") -> Vállalati gazdaságtan - Kárpáti-Daróczi Judit (web) 113 | C7: =IFERROR(VLOOKUP(CONCATENATE(C$10,VLOOKUP($A$1,segéd!$I$1:$K$15,3,FALSE),$N7),Alap!$A:$B,2,FALSE),"") -> Ellátási lánc menedzsment - Póka Viktor (web) 8 | D7: =IFERROR(VLOOKUP(CONCATENATE(D$10,VLOOKUP($A$1,segéd!$I$1:$K$15,3,FALSE),$N7),Alap!$A:$B,2,FALSE),"") | E7: =IFERROR(VLOOKUP(CONCATENATE(E$10,VLOOKUP($A$1,segéd!$I$1:$K$15,3,FALSE),$N7),Alap!$A:$B,2,FALSE),"") | F7: =IFERROR(VLOOKUP(CONCATENATE(F$10,VLOOKUP($A$1,segéd!$I$1:$K$15,3,FALSE),$N7),Alap!$A:$B,2,FALSE),"") | G7: =IFERROR(VLOOKUP(CONCATENATE(G$10,VLOOKUP($A$1,segéd!$I$1:$K$15,3,FALSE),$N7),Alap!$A:$B,2,FALSE),"") -> Döntéselmélet és módszertan - Kovács Gergely (gépterem, web) 8 | H7: =IFERROR(VLOOKUP(CONCATENATE(H$10,VLOOKUP($A$1,segéd!$I$1:$K$15,3,FALSE),$N7),Alap!$A:$B,2,FALSE),"") | I7: =IFERROR(VLOOKUP(CONCATENATE(I$10,VLOOKUP($A$1,segéd!$I$1:$K$15,3,FALSE),$N7),Alap!$A:$B,2,FALSE),"") | ... M7: =IFERROR(VLOOKUP(CONCATENATE(M$10,VLOOKUP($A$1,segéd!$I$1:$K$15,3,FALSE),$N7),Alap!$A:$B,2,FALSE),"") | N7: 5
A8: 17.00 - 18.30 | B8: =IFERROR(VLOOKUP(CONCATENATE(B$10,VLOOKUP($A$1,segéd!$I$1:$K$15,3,FALSE),$N8),Alap!$A:$B,2,FALSE),"") | C8: =IFERROR(VLOOKUP(CONCATENATE(C$10,VLOOKUP($A$1,segéd!$I$1:$K$15,3,FALSE),$N8),Alap!$A:$B,2,FALSE),"") -> Ellátási lánc menedzsment - Póka Viktor (web) 8 | D8: =IFERROR(VLOOKUP(CONCATENATE(D$10,VLOOKUP($A$1,segéd!$I$1:$K$15,3,FALSE),$N8),Alap!$A:$B,2,FALSE),"") | E8: =IFERROR(VLOOKUP(CONCATENATE(E$10,VLOOKUP($A$1,segéd!$I$1:$K$15,3,FALSE),$N8),Alap!$A:$B,2,FALSE),"") | F8: =IFERROR(VLOOKUP(CONCATENATE(F$10,VLOOKUP($A$1,segéd!$I$1:$K$15,3,FALSE),$N8),Alap!$A:$B,2,FALSE),"") | G8: =IFERROR(VLOOKUP(CONCATENATE(G$10,VLOOKUP($A$1,segéd!$I$1:$K$15,3,FALSE),$N8),Alap!$A:$B,2,FALSE),"") | H8: =IFERROR(VLOOKUP(CONCATENATE(H$10,VLOOKUP($A$1,segéd!$I$1:$K$15,3,FALSE),$N8),Alap!$A:$B,2,FALSE),"") | I8: =IFERROR(VLOOKUP(CONCATENATE(I$10,VLOOKUP($A$1,segéd!$I$1:$K$15,3,FALSE),$N8),Alap!$A:$B,2,FALSE),"") | ... M8: =IFERROR(VLOOKUP(CONCATENATE(M$10,VLOOKUP($A$1,segéd!$I$1:$K$15,3,FALSE),$N8),Alap!$A:$B,2,FALSE),"") | N8: 6
A9: péntek
A10: sáv | B10: 201 | C10: 202 | D10: 203 | E10: 205 | F10: 206 | G10: 207 | H10: 208 | I10: 209 | J10: 210 | K10: 214 | L10: 217 | M10: 463
A11: 13.30 - 15.00 | B11: =IFERROR(VLOOKUP(CONCATENATE(B$10,VLOOKUP($A$1,segéd!$I$1:$K$15,2,FALSE),$N11),Alap!$A:$B,2,FALSE),"") | C11: =IFERROR(VLOOKUP(CONCATENATE(C$10,VLOOKUP($A$1,segéd!$I$1:$K$15,2,FALSE),$N11),Alap!$A:$B,2,FALSE),"") | D11: =IFERROR(VLOOKUP(CONCATENATE(D$10,VLOOKUP($A$1,segéd!$I$1:$K$15,2,FALSE),$N11),Alap!$A:$B,2,FALSE),"") | E11: =IFERROR(VLOOKUP(CONCATENATE(E$10,VLOOKUP($A$1,segéd!$I$1:$K$15,2,FALSE),$N11),Alap!$A:$B,2,FALSE),"") | F11: =IFERROR(VLOOKUP(CONCATENATE(F$10,VLOOKUP($A$1,segéd!$I$1:$K$15,2,FALSE),$N11),Alap!$A:$B,2,FALSE),"") | G11: =IFERROR(VLOOKUP(CONCATENATE(G$10,VLOOKUP($A$1,segéd!$I$1:$K$15,2,FALSE),$N11),Alap!$A:$B,2,FALSE),"") | H11: =IFERROR(VLOOKUP(CONCATENATE(H$10,VLOOKUP($A$1,segéd!$I$1:$K$15,2,FALSE),$N11),Alap!$A:$B,2,FALSE),"") | I11: =IFERROR(VLOOKUP(CONCATENATE(I$10,VLOOKUP($A$1,segéd!$I$1:$K$15,2,FALSE),$N11),Alap!$A:$B,2,FALSE),"") | ... M11: =IFERROR(VLOOKUP(CONCATENATE(M$10,VLOOKUP($A$1,segéd!$I$1:$K$15,2,FALSE),$N11),Alap!$A:$B,2,FALSE),"") | N11: 4
A12: 15.15 - 16.45 | B12: =IFERROR(VLOOKUP(CONCATENATE(B$10,VLOOKUP($A$1,segéd!$I$1:$K$15,2,FALSE),$N12),Alap!$A:$B,2,FALSE),"") | C12: =IFERROR(VLOOKUP(CONCATENATE(C$10,VLOOKUP($A$1,segéd!$I$1:$K$15,2,FALSE),$N12),Alap!$A:$B,2,FALSE),"") | D12: =IFERROR(VLOOKUP(CONCATENATE(D$10,VLOOKUP($A$1,segéd!$I$1:$K$15,2,FALSE),$N12),Alap!$A:$B,2,FALSE),"") | E12: =IFERROR(VLOOKUP(CONCATENATE(E$10,VLOOKUP($A$1,segéd!$I$1:$K$15,2,FALSE),$N12),Alap!$A:$B,2,FALSE),"") | F12: =IFERROR(VLOOKUP(CONCATENATE(F$10,VLOOKUP($A$1,segéd!$I$1:$K$15,2,FALSE),$N12),Alap!$A:$B,2,FALSE),"") | G12: =IFERROR(VLOOKUP(CONCATENATE(G$10,VLOOKUP($A$1,segéd!$I$1:$K$15,2,FALSE),$N12),Alap!$A:$B,2,FALSE),"") | H12: =IFERROR(VLOOKUP(CONCATENATE(H$10,VLOOKUP($A$1,segéd!$I$1:$K$15,2,FALSE),$N12),Alap!$A:$B,2,FALSE),"") | I12: =IFERROR(VLOOKUP(CONCATENATE(I$10,VLOOKUP($A$1,segéd!$I$1:$K$15,2,FALSE),$N12),Alap!$A:$B,2,FALSE),"") | ... M12: =IFERROR(VLOOKUP(CONCATENATE(M$10,VLOOKUP($A$1,segéd!$I$1:$K$15,2,FALSE),$N12),Alap!$A:$B,2,FALSE),"") | N12: 5
A13: 17.00 - 18.30 | B13: =IFERROR(VLOOKUP(CONCATENATE(B$10,VLOOKUP($A$1,segéd!$I$1:$K$15,2,FALSE),$N13),Alap!$A:$B,2,FALSE),"") | C13: =IFERROR(VLOOKUP(CONCATENATE(C$10,VLOOKUP($A$1,segéd!$I$1:$K$15,2,FALSE),$N13),Alap!$A:$B,2,FALSE),"") | D13: =IFERROR(VLOOKUP(CONCATENATE(D$10,VLOOKUP($A$1,segéd!$I$1:$K$15,2,FALSE),$N13),Alap!$A:$B,2,FALSE),"") | E13: =IFERROR(VLOOKUP(CONCATENATE(E$10,VLOOKUP($A$1,segéd!$I$1:$K$15,2,FALSE),$N13),Alap!$A:$B,2,FALSE),"") | F13: =IFERROR(VLOOKUP(CONCATENATE(F$10,VLOOKUP($A$1,segéd!$I$1:$K$15,2,FALSE),$N13),Alap!$A:$B,2,FALSE),"") | G13: =IFERROR(VLOOKUP(CONCATENATE(G$10,VLOOKUP($A$1,segéd!$I$1:$K$15,2,FALSE),$N13),Alap!$A:$B,2,FALSE),"") | H13: =IFERROR(VLOOKUP(CONCATENATE(H$10,VLOOKUP($A$1,segéd!$I$1:$K$15,2,FALSE),$N13),Alap!$A:$B,2,FALSE),"") | I13: =IFERROR(VLOOKUP(CONCATENATE(I$10,VLOOKUP($A$1,segéd!$I$1:$K$15,2,FALSE),$N13),Alap!$A:$B,2,FALSE),"") | ... M13: =IFERROR(VLOOKUP(CONCATENATE(M$10,VLOOKUP($A$1,segéd!$I$1:$K$15,2,FALSE),$N13),Alap!$A:$B,2,FALSE),"") | N13: 6
A14: 18.45 - 20.15 | B14: =IFERROR(VLOOKUP(CONCATENATE(B$10,VLOOKUP($A$1,segéd!$I$1:$K$15,2,FALSE),$N14),Alap!$A:$B,2,FALSE),"") | C14: =IFERROR(VLOOKUP(CONCATENATE(C$10,VLOOKUP($A$1,segéd!$I$1:$K$15,2,FALSE),$N14),Alap!$A:$B,2,FALSE),"") | D14: =IFERROR(VLOOKUP(CONCATENATE(D$10,VLOOKUP($A$1,segéd!$I$1:$K$15,2,FALSE),$N14),Alap!$A:$B,2,FALSE),"") | E14: =IFERROR(VLOOKUP(CONCATENATE(E$10,VLOOKUP($A$1,segéd!$I$1:$K$15,2,FALSE),$N14),Alap!$A:$B,2,FALSE),"") | F14: =IFERROR(VLOOKUP(CONCATENATE(F$10,VLOOKUP($A$1,segéd!$I$1:$K$15,2,FALSE),$N14),Alap!$A:$B,2,FALSE),"") | G14: =IFERROR(VLOOKUP(CONCATENATE(G$10,VLOOKUP($A$1,segéd!$I$1:$K$15,2,FALSE),$N14),Alap!$A:$B,2,FALSE),"") | H14: =IFERROR(VLOOKUP(CONCATENATE(H$10,VLOOKUP($A$1,segéd!$I$1:$K$15,2,FALSE),$N14),Alap!$A:$B,2,FALSE),"") | I14: =IFERROR(VLOOKUP(CONCATENATE(I$10,VLOOKUP($A$1,segéd!$I$1:$K$15,2,FALSE),$N14),Alap!$A:$B,2,FALSE),"") | ... M14: =IFERROR(VLOOKUP(CONCATENATE(M$10,VLOOKUP($A$1,segéd!$I$1:$K$15,2,FALSE),$N14),Alap!$A:$B,2,FALSE),"") | N14: 7

Sheet Tb.
A1: szeptember 18-19.
A2: sáv | B2: A/Nae. | C2: 1 | D2: 2 | E2: 3 | F2: 4 | G2: 6 | H2: 212 | I2: 213 | J2: 214 | K2: 215 | L2: 216 | M2: 217 | N2: 401 | O2: 402 | P2: 403 | Q2: 404 | R2: 408 | S2: 501 | T2: 601 | U2: 603 | V2: 604 | W2: 605 | X2: Passzív
A3: 8.00 - 9.30 | B3: =IFERROR(VLOOKUP(CONCATENATE(B$10,VLOOKUP($A$1,segéd!$I$1:$K$15,3,FALSE),$Y3),Alap!$C:$D,2,FALSE),"") | C3: =IFERROR(VLOOKUP(CONCATENATE(C$10,VLOOKUP($A$1,segéd!$I$1:$K$15,3,FALSE),$Y3),Alap!$C:$D,2,FALSE),"") | D3: =IFERROR(VLOOKUP(CONCATENATE(D$10,VLOOKUP($A$1,segéd!$I$1:$K$15,3,FALSE),$Y3),Alap!$C:$D,2,FALSE),"") | E3: =IFERROR(VLOOKUP(CONCATENATE(E$10,VLOOKUP($A$1,segéd!$I$1:$K$15,3,FALSE),$Y3),Alap!$C:$D,2,FALSE),"") | F3: =IFERROR(VLOOKUP(CONCATENATE(F$10,VLOOKUP($A$1,segéd!$I$1:$K$15,3,FALSE),$Y3),Alap!$C:$D,2,FALSE),"") | G3: =IFERROR(VLOOKUP(CONCATENATE(G$10,VLOOKUP($A$1,segéd!$I$1:$K$15,3,FALSE),$Y3),Alap!$C:$D,2,FALSE),"") -> Ipari szabályozás - Varga István (web) 13 | H3: =IFERROR(VLOOKUP(CONCATENATE(H$10,VLOOKUP($A$1,segéd!$I$1:$K$15,3,FALSE),$Y3),Alap!$C:$D,2,FALSE),"") -> Számvitel I. - Labossa Ildikó (web) 35 | I3: =IFERROR(VLOOKUP(CONCATENATE(I$10,VLOOKUP($A$1,segéd!$I$1:$K$15,3,FALSE),$Y3),Alap!$C:$D,2,FALSE),"") | ... X3: =IFERROR(VLOOKUP(CONCATENATE(X$10,VLOOKUP($A$1,segéd!$I$1:$K$15,3,FALSE),$Y3),Alap!$C:$D,2,FALSE),"") -> Épületek műszaki szolg. irányítása - Molnárné Dőry Zsófia (web) 5 | Y3: 1
A4: 9.45 - 11.15 | B4: =IFERROR(VLOOKUP(CONCATENATE(B$10,VLOOKUP($A$1,segéd!$I$1:$K$15,3,FALSE),$Y4),Alap!$C:$D,2,FALSE),"") | C4: =IFERROR(VLOOKUP(CONCATENATE(C$10,VLOOKUP($A$1,segéd!$I$1:$K$15,3,FALSE),$Y4),Alap!$C:$D,2,FALSE),"") | D4: =IFERROR(VLOOKUP(CONCATENATE(D$10,VLOOKUP($A$1,segéd!$I$1:$K$15,3,FALSE),$Y4),Alap!$C:$D,2,FALSE),"") | E4: =IFERROR(VLOOKUP(CONCATENATE(E$10,VLOOKUP($A$1,segéd!$I$1:$K$15,3,FALSE),$Y4),Alap!$C:$D,2,FALSE),"") | F4: =IFERROR(VLOOKUP(CONCATENATE(F$10,VLOOKUP($A$1,segéd!$I$1:$K$15,3,FALSE),$Y4),Alap!$C:$D,2,FALSE),"") | G4: =IFERROR(VLOOKUP(CONCATENATE(G$10,VLOOKUP($A$1,segéd!$I$1:$K$15,3,FALSE),$Y4),Alap!$C:$D,2,FALSE),"") -> Ipari szabályozás - Varga István (web) 13 | H4: =IFERROR(VLOOKUP(CONCATENATE(H$10,VLOOKUP($A$1,segéd!$I$1:$K$15,3,FALSE),$Y4),Alap!$C:$D,2,FALSE),"") -> Számvitel I. - Labossa Ildikó (web) 35 | I4: =IFERROR(VLOOKUP(CONCATENATE(I$10,VLOOKUP($A$1,segéd!$I$1:$K$15,3,FALSE),$Y4),Alap!$C:$D,2,FALSE),"") | ... X4: =IFERROR(VLOOKUP(CONCATENATE(X$10,VLOOKUP($A$1,segéd!$I$1:$K$15,3,FALSE),$Y4),Alap!$C:$D,2,FALSE),"") -> Épületek műszaki szolg. irányítása - Molnárné Dőry Zsófia (web) 5 | Y4: 2
A5: 11.30 - 13.00 | B5: =IFERROR(VLOOKUP(CONCATENATE(B$10,VLOOKUP($A$1,segéd!$I$1:$K$15,3,FALSE),$Y5),Alap!$C:$D,2,FALSE),"") | C5: =IFERROR(VLOOKUP(CONCATENATE(C$10,VLOOKUP($A$1,segéd!$I$1:$K$15,3,FALSE),$Y5),Alap!$C:$D,2,FALSE),"") | D5: =IFERROR(VLOOKUP(CONCATENATE(D$10,VLOOKUP($A$1,segéd!$I$1:$K$15,3,FALSE),$Y5),Alap!$C:$D,2,FALSE),"") | E5: =IFERROR(VLOOKUP(CONCATENATE(E$10,VLOOKUP($A$1,segéd!$I$1:$K$15,3,FALSE),$Y5),Alap!$C:$D,2,FALSE),"") -> Mechatronika építőelemei - Molnár László (web) 15 | F5: =IFERROR(VLOOKUP(CONCATENATE(F$10,VLOOKUP($A$1,segéd!$I$1:$K$15,3,FALSE),$Y5),Alap!$C:$D,2,FALSE),"") | G5: =IFERROR(VLOOKUP(CONCATENATE(G$10,VLOOKUP($A$1,segéd!$I$1:$K$15,3,FALSE),$Y5),Alap!$C:$D,2,FALSE),"") | H5: =IFERROR(VLOOKUP(CONCATENATE(H$10,VLOOKUP($A$1,segéd!$I$1:$K$15,3,FALSE),$Y5),Alap!$C:$D,2,FALSE),"") -> Mechatronikai rendszerek I. - Vavra Gábor (web) 68 | I5: =IFERROR(VLOOKUP(CONCATENATE(I$10,VLOOKUP($A$1,segéd!$I$1:$K$15,3,FALSE),$Y5),Alap!$C:$D,2,FALSE),"") | ... X5: =IFERROR(VLOOKUP(CONCATENATE(X$10,VLOOKUP($A$1,segéd!$I$1:$K$15,3,FALSE),$Y5),Alap!$C:$D,2,FALSE),"") -> Létgazd. folyamatok tervezése - Molnárné Dőry Zsófia (web) 5 | Y5: 3
A6: 13.30 - 15.00 | B6: =IFERROR(VLOOKUP(CONCATENATE(B$10,VLOOKUP($A$1,segéd!$I$1:$K$15,3,FALSE),$Y6),Alap!$C:$D,2,FALSE),"") | C6: =IFERROR(VLOOKUP(CONCATENATE(C$10,VLOOKUP($A$1,segéd!$I$1:$K$15,3,FALSE),$Y6),Alap!$C:$D,2,FALSE),"") | D6: =IFERROR(VLOOKUP(CONCATENATE(D$10,VLOOKUP($A$1,segéd!$I$1:$K$15,3,FALSE),$Y6),Alap!$C:$D,2,FALSE),"") | E6: =IFERROR(VLOOKUP(CONCATENATE(E$10,VLOOKUP($A$1,segéd!$I$1:$K$15,3,FALSE),$Y6),Alap!$C:$D,2,FALSE),"") -> Mechatronika építőelemei - Molnár László (web) 15 | F6: =IFERROR(VLOOKUP(CONCATENATE(F$10,VLOOKUP($A$1,segéd!$I$1:$K$15,3,FALSE),$Y6),Alap!$C:$D,2,FALSE),"") | G6: =IFERROR(VLOOKUP(CONCATENATE(G$10,VLOOKUP($A$1,segéd!$I$1:$K$15,3,FALSE),$Y6),Alap!$C:$D,2,FALSE),"") | H6: =IFERROR(VLOOKUP(CONCATENATE(H$10,VLOOKUP($A$1,segéd!$I$1:$K$15,3,FALSE),$Y6),Alap!$C:$D,2,FALSE),"") -> Mechatronikai rendszerek I. - Vavra Gábor (web) 68 | I6: =IFERROR(VLOOKUP(CONCATENATE(I$10,VLOOKUP($A$1,segéd!$I$1:$K$15,3,FALSE),$Y6),Alap!$C:$D,2,FALSE),"") | ... X6: =IFERROR(VLOOKUP(CONCATENATE(X$10,VLOOKUP($A$1,segéd!$I$1:$K$15,3,FALSE),$Y6),Alap!$C:$D,2,FALSE),"") -> Energiamen. és fenntarthatóság - Molnárné Dőry Zsófia (web) 5 | Y6: 4
A7: 15.15 - 16.45 | B7: =IFERROR(VLOOKUP(CONCATENATE(B$10,VLOOKUP($A$1,segéd!$I$1:$K$15,3,FALSE),$Y7),Alap!$C:$D,2,FALSE),"") | C7: =IFERROR(VLOOKUP(CONCATENATE(C$10,VLOOKUP($A$1,segéd!$I$1:$K$15,3,FALSE),$Y7),Alap!$C:$D,2,FALSE),"") | D7: =IFERROR(VLOOKUP(CONCATENATE(D$10,VLOOKUP($A$1,segéd!$I$1:$K$15,3,FALSE),$Y7),Alap!$C:$D,2,FALSE),"") | E7: =IFERROR(VLOOKUP(CONCATENATE(E$10,VLOOKUP($A$1,segéd!$I$1:$K$15,3,FALSE),$Y7),Alap!$C:$D,2,FALSE),"") -> Mechatronika építőelemei - Molnár László (web) 15 | F7: =IFERROR(VLOOKUP(CONCATENATE(F$10,VLOOKUP($A$1,segéd!$I$1:$K$15,3,FALSE),$Y7),Alap!$C:$D,2,FALSE),"") | G7: =IFERROR(VLOOKUP(CONCATENATE(G$10,VLOOKUP($A$1,segéd!$I$1:$K$15,3,FALSE),$Y7),Alap!$C:$D,2,FALSE),"") | H7: =IFERROR(VLOOKUP(CONCATENATE(H$10,VLOOKUP($A$1,segéd!$I$1:$K$15,3,FALSE),$Y7),Alap!$C:$D,2,FALSE),"") -> Mechatronikai rendszerek I. - Vavra Gábor (web) 68 | I7: =IFERROR(VLOOKUP(CONCATENATE(I$10,VLOOKUP($A$1,segéd!$I$1:$K$15,3,FALSE),$Y7),Alap!$C:$D,2,FALSE),"") | ... X7: =IFERROR(VLOOKUP(CONCATENATE(X$10,VLOOKUP($A$1,segéd!$I$1:$K$15,3,FALSE),$Y7),Alap!$C:$D,2,FALSE),"") -> Energiamen. és fenntarthatóság - Molnárné Dőry Zsófia (web) 5 | Y7: 5
A8: 17.00 - 18.30 | B8: =IFERROR(VLOOKUP(CONCATENATE(B$10,VLOOKUP($A$1,segéd!$I$1:$K$15,3,FALSE),$Y8),Alap!$C:$D,2,FALSE),"") | C8: =IFERROR(VLOOKUP(CONCATENATE(C$10,VLOOKUP($A$1,segéd!$I$1:$K$15,3,FALSE),$Y8),Alap!$C:$D,2,FALSE),"") | D8: =IFERROR(VLOOKUP(CONCATENATE(D$10,VLOOKUP($A$1,segéd!$I$1:$K$15,3,FALSE),$Y8),Alap!$C:$D,2,FALSE),"") | E8: =IFERROR(VLOOKUP(CONCATENATE(E$10,VLOOKUP($A$1,segéd!$I$1:$K$15,3,FALSE),$Y8),Alap!$C:$D,2,FALSE),"") | F8: =IFERROR(VLOOKUP(CONCATENATE(F$10,VLOOKUP($A$1,segéd!$I$1:$K$15,3,FALSE),$Y8),Alap!$C:$D,2,FALSE),"") | G8: =IFERROR(VLOOKUP(CONCATENATE(G$10,VLOOKUP($A$1,segéd!$I$1:$K$15,3,FALSE),$Y8),Alap!$C:$D,2,FALSE),"") | H8: =IFERROR(VLOOKUP(CONCATENATE(H$10,VLOOKUP($A$1,segéd!$I$1:$K$15,3,FALSE),$Y8),Alap!$C:$D,2,FALSE),"") | I8: =IFERROR(VLOOKUP(CONCATENATE(I$10,VLOOKUP($A$1,segéd!$I$1:$K$15,3,FALSE),$Y8),Alap!$C:$D,2,FALSE),"") | ... X8: =IFERROR(VLOOKUP(CONCATENATE(X$10,VLOOKUP($A$1,segéd!$I$1:$K$15,3,FALSE),$Y8),Alap!$C:$D,2,FALSE),"") | Y8: 6
A9: péntek
A10: sáv | B10: =+B2 -> A/Nae. | C10: =+C2 -> 1 | D10: 2 | E10: =+E2 -> 3 | F10: =+F2 -> 4 | G10: =+G2 -> 6 | H10: =+H2 -> 212 | I10: =+I2 -> 213 | J10: =+J2 -> 214 | K10: =+K2 -> 215 | L10: =+L2 -> 216 | ... X10: =+X2 -> Passzív
A11: 13.30 - 15.00 | B11: =IFERROR(VLOOKUP(CONCATENATE(B$10,VLOOKUP($A$1,segéd!$I$1:$K$15,2,FALSE),$Y11),Alap!$C:$D,2,FALSE),"") | C11: =IFERROR(VLOOKUP(CONCATENATE(C$10,VLOOKUP($A$1,segéd!$I$1:$K$15,2,FALSE),$Y11),Alap!$C:$D,2,FALSE),"") | D11: =IFERROR(VLOOKUP(CONCATENATE(D$10,VLOOKUP($A$1,segéd!$I$1:$K$15,2,FALSE),$Y11),Alap!$C:$D,2,FALSE),"") | E11: =IFERROR(VLOOKUP(CONCATENATE(E$10,VLOOKUP($A$1,segéd!$I$1:$K$15,2,FALSE),$Y11),Alap!$C:$D,2,FALSE),"") | F11: =IFERROR(VLOOKUP(CONCATENATE(F$10,VLOOKUP($A$1,segéd!$I$1:$K$15,2,FALSE),$Y11),Alap!$C:$D,2,FALSE),"") | G11: =IFERROR(VLOOKUP(CONCATENATE(G$10,VLOOKUP($A$1,segéd!$I$1:$K$15,2,FALSE),$Y11),Alap!$C:$D,2,FALSE),"") | H11: =IFERROR(VLOOKUP(CONCATENATE(H$10,VLOOKUP($A$1,segéd!$I$1:$K$15,2,FALSE),$Y11),Alap!$C:$D,2,FALSE),"") | I11: =IFERROR(VLOOKUP(CONCATENATE(I$10,VLOOKUP($A$1,segéd!$I$1:$K$15,2,FALSE),$Y11),Alap!$C:$D,2,FALSE),"") | ... X11: =IFERROR(VLOOKUP(CONCATENATE(X$10,VLOOKUP($A$1,segéd!$I$1:$K$15,2,FALSE),$Y11),Alap!$C:$D,2,FALSE),"") | Y11: 4
A12: 15.15 - 16.45 | B12: =IFERROR(VLOOKUP(CONCATENATE(B$10,VLOOKUP($A$1,segéd!$I$1:$K$15,2,FALSE),$Y12),Alap!$C:$D,2,FALSE),"") | C12: =IFERROR(VLOOKUP(CONCATENATE(C$10,VLOOKUP($A$1,segéd!$I$1:$K$15,2,FALSE),$Y12),Alap!$C:$D,2,FALSE),"") | D12: =IFERROR(VLOOKUP(CONCATENATE(D$10,VLOOKUP($A$1,segéd!$I$1:$K$15,2,FALSE),$Y12),Alap!$C:$D,2,FALSE),"") | E12: =IFERROR(VLOOKUP(CONCATENATE(E$10,VLOOKUP($A$1,segéd!$I$1:$K$15,2,FALSE),$Y12),Alap!$C:$D,2,FALSE),"") | F12: =IFERROR(VLOOKUP(CONCATENATE(F$10,VLOOKUP($A$1,segéd!$I$1:$K$15,2,FALSE),$Y12),Alap!$C:$D,2,FALSE),"") | G12: =IFERROR(VLOOKUP(CONCATENATE(G$10,VLOOKUP($A$1,segéd!$I$1:$K$15,2,FALSE),$Y12),Alap!$C:$D,2,FALSE),"") | H12: =IFERROR(VLOOKUP(CONCATENATE(H$10,VLOOKUP($A$1,segéd!$I$1:$K$15,2,FALSE),$Y12),Alap!$C:$D,2,FALSE),"") | I12: =IFERROR(VLOOKUP(CONCATENATE(I$10,VLOOKUP($A$1,segéd!$I$1:$K$15,2,FALSE),$Y12),Alap!$C:$D,2,FALSE),"") | ... X12: =IFERROR(VLOOKUP(CONCATENATE(X$10,VLOOKUP($A$1,segéd!$I$1:$K$15,2,FALSE),$Y12),Alap!$C:$D,2,FALSE),"") | Y12: 5
A13: 17.00 - 18.30 | B13: =IFERROR(VLOOKUP(CONCATENATE(B$10,VLOOKUP($A$1,segéd!$I$1:$K$15,2,FALSE),$Y13),Alap!$C:$D,2,FALSE),"") | C13: =IFERROR(VLOOKUP(CONCATENATE(C$10,VLOOKUP($A$1,segéd!$I$1:$K$15,2,FALSE),$Y13),Alap!$C:$D,2,FALSE),"") | D13: =IFERROR(VLOOKUP(CONCATENATE(D$10,VLOOKUP($A$1,segéd!$I$1:$K$15,2,FALSE),$Y13),Alap!$C:$D,2,FALSE),"") | E13: =IFERROR(VLOOKUP(CONCATENATE(E$10,VLOOKUP($A$1,segéd!$I$1:$K$15,2,FALSE),$Y13),Alap!$C:$D,2,FALSE),"") | F13: =IFERROR(VLOOKUP(CONCATENATE(F$10,VLOOKUP($A$1,segéd!$I$1:$K$15,2,FALSE),$Y13),Alap!$C:$D,2,FALSE),"") | G13: =IFERROR(VLOOKUP(CONCATENATE(G$10,VLOOKUP($A$1,segéd!$I$1:$K$15,2,FALSE),$Y13),Alap!$C:$D,2,FALSE),"") | H13: =IFERROR(VLOOKUP(CONCATENATE(H$10,VLOOKUP($A$1,segéd!$I$1:$K$15,2,FALSE),$Y13),Alap!$C:$D,2,FALSE),"") | I13: =IFERROR(VLOOKUP(CONCATENATE(I$10,VLOOKUP($A$1,segéd!$I$1:$K$15,2,FALSE),$Y13),Alap!$C:$D,2,FALSE),"") | ... X13: =IFERROR(VLOOKUP(CONCATENATE(X$10,VLOOKUP($A$1,segéd!$I$1:$K$15,2,FALSE),$Y13),Alap!$C:$D,2,FALSE),"") | Y13: 6
A14: 18.45 - 20.15 | B14: =IFERROR(VLOOKUP(CONCATENATE(B$10,VLOOKUP($A$1,segéd!$I$1:$K$15,2,FALSE),$Y14),Alap!$C:$D,2,FALSE),"") | C14: =IFERROR(VLOOKUP(CONCATENATE(C$10,VLOOKUP($A$1,segéd!$I$1:$K$15,2,FALSE),$Y14),Alap!$C:$D,2,FALSE),"") | D14: =IFERROR(VLOOKUP(CONCATENATE(D$10,VLOOKUP($A$1,segéd!$I$1:$K$15,2,FALSE),$Y14),Alap!$C:$D,2,FALSE),"") | E14: =IFERROR(VLOOKUP(CONCATENATE(E$10,VLOOKUP($A$1,segéd!$I$1:$K$15,2,FALSE),$Y14),Alap!$C:$D,2,FALSE),"") | F14: =IFERROR(VLOOKUP(CONCATENATE(F$10,VLOOKUP($A$1,segéd!$I$1:$K$15,2,FALSE),$Y14),Alap!$C:$D,2,FALSE),"") | G14: =IFERROR(VLOOKUP(CONCATENATE(G$10,VLOOKUP($A$1,segéd!$I$1:$K$15,2,FALSE),$Y14),Alap!$C:$D,2,FALSE),"") | H14: =IFERROR(VLOOKUP(CONCATENATE(H$10,VLOOKUP($A$1,segéd!$I$1:$K$15,2,FALSE),$Y14),Alap!$C:$D,2,FALSE),"") | I14: =IFERROR(VLOOKUP(CONCATENATE(I$10,VLOOKUP($A$1,segéd!$I$1:$K$15,2,FALSE),$Y14),Alap!$C:$D,2,FALSE),"") | ... X14: =IFERROR(VLOOKUP(CONCATENATE(X$10,VLOOKUP($A$1,segéd!$I$1:$K$15,2,FALSE),$Y14),Alap!$C:$D,2,FALSE),"") | Y14: 7

Sheet Útmutató
A1: Az órarendi adatok augusztustól a Neptun tanulmányi rendszerből is elérhetőek!
A3: Felhasználói útmutató a levelezős órarendi Excel használatához
A4: Bármilyen kérdése van az órarendi Excellel kapcsolatban, keresse Kovács Gergelyt a kovacs.gergely@edutus.hu elérhetőségen.
A6: Útmutató oktatóknak:
A7: 1. Az Oktató munkalapon a bal felső piros cellában a legördülő menüből válassza ki a nevét (előfordulhat, hogy ehhez a szerkeszthetőséget engedélyezni kell).
A8: Ezek után a táblázatban megjelennek az órák, felül a szombatok, alatta egy külön táblázatban a péntekek.
A9: 2. Ha egy tárgyról részletes adatokat szeretne, az Alap munkalapon a tárgy nevére, vagy az oktató nevére szűrve láthatja a saját óráit.
A10: A "terem Bp.", illetve a "terem Tb." oszlopok töltöttsége jelzi azt, hogy az óra Budapesten vagy Tatabányán van.
A11: Ha egy sorban több helyszín rovata is töltött, akkor az óra webináriummal egyszerre több helyszínen zajlik, az oktató a Megjegyzés rovatban jelzett helyszínen jelenik meg.
A13: Útmutató hallgatóknak:
A14: 1. Egy adott szak és évfolyam óráinak megjelenítése.
A15: Az alábbi táblázatban keresse ki az adott évfolyam rövidítését, majd keresse meg az adott rövidítéshez tartozó munkalapot. A pénteki órák a szombati órák alatti táblázatban találhatóak.
... A22: Az órarend, terembeosztás év közben is változhat, érdemes ellenőrizni!
A24: kód | B24: helyszín, évfolyam, szak, szakirány
A25: B1 | B25: Budapest, 1. év, gazdálkodási és menedzsment, kereskedelem és marketing, illetve nemzetközi gazdálkodás alapképzés
A26: 1T | B26: Budapest, 1. év, turizmus-vendéglátás alapképzés
A27: B1F | B27: Budapest, 1. év, kereskedelem és marketing FOKSZ
A28: B1M | B28: Budapest, 1. év, marketing mesterképzés
A29: 1E | B29: Budapest, 1. év, ellátásilánc-menedzsment mesterképzés
A30: 1K | B30: Budapest, 1. év, körforgásos gazdaság menedzsment mesterképzés
A31: T1 | B31: Tatabánya, 1. év, gazdálkodási és menedzsment, illetve kereskedelem és marketing alapképzés
A32: T1FK | B32: Tatabánya, 1. év, kereskedelem és marketing FOKSZ
A33: 1FM | B33: Tatabánya, 1. év, műszaki menedzser FOKSZ
